| Back to Multiple platform build/check report for BioC 3.20: simplified long |
|
This page was generated on 2025-04-02 19:29 -0400 (Wed, 02 Apr 2025).
| Hostname | OS | Arch (*) | R version | Installed pkgs |
|---|---|---|---|---|
| nebbiolo2 | Linux (Ubuntu 24.04.1 LTS) | x86_64 | 4.4.3 (2025-02-28) -- "Trophy Case" | 4764 |
| palomino8 | Windows Server 2022 Datacenter | x64 | 4.4.3 (2025-02-28 ucrt) -- "Trophy Case" | 4495 |
| merida1 | macOS 12.7.5 Monterey | x86_64 | 4.4.3 (2025-02-28) -- "Trophy Case" | 4522 |
| kjohnson1 | macOS 13.6.6 Ventura | arm64 | 4.4.3 (2025-02-28) -- "Trophy Case" | 4449 |
| taishan | Linux (openEuler 24.03 LTS) | aarch64 | 4.4.3 (2025-02-28) -- "Trophy Case" | 4426 |
| Click on any hostname to see more info about the system (e.g. compilers) (*) as reported by 'uname -p', except on Windows and Mac OS X | ||||
| Package 117/2289 | Hostname | OS / Arch | INSTALL | BUILD | CHECK | BUILD BIN | ||||||||
| autonomics 1.14.9 (landing page) Aditya Bhagwat
| nebbiolo2 | Linux (Ubuntu 24.04.1 LTS) / x86_64 | OK | OK | OK | |||||||||
| palomino8 | Windows Server 2022 Datacenter / x64 | OK | OK | OK | OK | |||||||||
| merida1 | macOS 12.7.5 Monterey / x86_64 | OK | OK | OK | OK | |||||||||
| kjohnson1 | macOS 13.6.6 Ventura / arm64 | OK | OK | OK | OK | |||||||||
| taishan | Linux (openEuler 24.03 LTS) / aarch64 | OK | OK | OK | ||||||||||
|
To the developers/maintainers of the autonomics package: - Allow up to 24 hours (and sometimes 48 hours) for your latest push to git@git.bioconductor.org:packages/autonomics.git to reflect on this report. See Troubleshooting Build Report for more information. - Use the following Renviron settings to reproduce errors and warnings. - If 'R CMD check' started to fail recently on the Linux builder(s) over a missing dependency, add the missing dependency to 'Suggests:' in your DESCRIPTION file. See Renviron.bioc for more information. |
| Package: autonomics |
| Version: 1.14.9 |
| Command: F:\biocbuild\bbs-3.20-bioc\R\bin\R.exe CMD check --no-multiarch --install=check:autonomics.install-out.txt --library=F:\biocbuild\bbs-3.20-bioc\R\library --no-vignettes --timings autonomics_1.14.9.tar.gz |
| StartedAt: 2025-03-31 23:01:30 -0400 (Mon, 31 Mar 2025) |
| EndedAt: 2025-03-31 23:29:39 -0400 (Mon, 31 Mar 2025) |
| EllapsedTime: 1688.5 seconds |
| RetCode: 0 |
| Status: OK |
| CheckDir: autonomics.Rcheck |
| Warnings: 0 |
##############################################################################
##############################################################################
###
### Running command:
###
### F:\biocbuild\bbs-3.20-bioc\R\bin\R.exe CMD check --no-multiarch --install=check:autonomics.install-out.txt --library=F:\biocbuild\bbs-3.20-bioc\R\library --no-vignettes --timings autonomics_1.14.9.tar.gz
###
##############################################################################
##############################################################################
* using log directory 'F:/biocbuild/bbs-3.20-bioc/meat/autonomics.Rcheck'
* using R version 4.4.3 (2025-02-28 ucrt)
* using platform: x86_64-w64-mingw32
* R was compiled by
gcc.exe (GCC) 13.3.0
GNU Fortran (GCC) 13.3.0
* running under: Windows Server 2022 x64 (build 20348)
* using session charset: UTF-8
* using option '--no-vignettes'
* checking for file 'autonomics/DESCRIPTION' ... OK
* checking extension type ... Package
* this is package 'autonomics' version '1.14.9'
* package encoding: UTF-8
* checking package namespace information ... OK
* checking package dependencies ... OK
* checking if this is a source package ... OK
* checking if there is a namespace ... OK
* checking for hidden files and directories ... NOTE
Found the following hidden files and directories:
.BBSoptions
These were most likely included in error. See section 'Package
structure' in the 'Writing R Extensions' manual.
* checking for portable file names ... OK
* checking whether package 'autonomics' can be installed ... OK
* checking installed package size ... OK
* checking package directory ... OK
* checking 'build' directory ... OK
* checking DESCRIPTION meta-information ... OK
* checking top-level files ... OK
* checking for left-over files ... OK
* checking index information ... OK
* checking package subdirectories ... OK
* checking code files for non-ASCII characters ... OK
* checking R files for syntax errors ... OK
* checking whether the package can be loaded ... OK
* checking whether the package can be loaded with stated dependencies ... OK
* checking whether the package can be unloaded cleanly ... OK
* checking whether the namespace can be loaded with stated dependencies ... OK
* checking whether the namespace can be unloaded cleanly ... OK
* checking dependencies in R code ... OK
* checking S3 generic/method consistency ... OK
* checking replacement functions ... OK
* checking foreign function calls ... OK
* checking R code for possible problems ... OK
* checking Rd files ... OK
* checking Rd metadata ... OK
* checking Rd cross-references ... OK
* checking for missing documentation entries ... OK
* checking for code/documentation mismatches ... OK
* checking Rd \usage sections ... OK
* checking Rd contents ... OK
* checking for unstated dependencies in examples ... OK
* checking files in 'vignettes' ... OK
* checking examples ... OK
Examples with CPU (user + system) or elapsed time > 5s
user system elapsed
read_diann_proteingroups 149.03 5.80 151.53
read_rnaseq_counts 38.32 1.62 40.30
plot_exprs_per_coef 33.03 0.31 33.34
rm_diann_contaminants 31.54 1.43 32.05
plot_exprs 31.55 0.27 31.81
default_formula 21.08 0.55 21.50
read_metabolon 18.22 0.29 18.52
read_somascan 17.11 0.16 17.28
fit 16.70 0.20 19.66
analyze 16.11 0.35 17.66
plot_summary 16.17 0.17 16.36
plot_volcano 12.52 0.28 12.80
read_fragpipe 11.69 0.20 11.77
plot_densities 11.39 0.19 11.60
ftype 8.67 0.28 9.52
code 8.50 0.15 8.66
fcluster 8.14 0.22 9.34
plot_sample_nas 7.71 0.13 7.85
extract_coef_features 6.94 0.11 7.05
biplot_covariates 6.39 0.12 6.58
reset_fit 6.30 0.13 6.42
plot_subgroup_points 5.92 0.14 6.06
subtract_baseline 5.47 0.11 5.56
dot-plot_survival 4.81 0.70 6.21
fit_lmx 5.24 0.19 5.44
log2transform 5.14 0.11 5.25
* checking for unstated dependencies in 'tests' ... OK
* checking tests ...
Running 'testthat.R'
OK
* checking for unstated dependencies in vignettes ... OK
* checking package vignettes ... OK
* checking running R code from vignettes ... SKIPPED
* checking re-building of vignette outputs ... SKIPPED
* checking PDF version of manual ... OK
* DONE
Status: 1 NOTE
See
'F:/biocbuild/bbs-3.20-bioc/meat/autonomics.Rcheck/00check.log'
for details.
autonomics.Rcheck/00install.out
############################################################################## ############################################################################## ### ### Running command: ### ### F:\biocbuild\bbs-3.20-bioc\R\bin\R.exe CMD INSTALL autonomics ### ############################################################################## ############################################################################## * installing to library 'F:/biocbuild/bbs-3.20-bioc/R/library' * installing *source* package 'autonomics' ... ** using staged installation ** R ** inst ** byte-compile and prepare package for lazy loading ** help *** installing help indices ** building package indices ** installing vignettes ** testing if installed package can be loaded from temporary location ** testing if installed package can be loaded from final location ** testing if installed package keeps a record of temporary installation path * DONE (autonomics)
autonomics.Rcheck/tests/testthat.Rout
R version 4.4.3 (2025-02-28 ucrt) -- "Trophy Case"
Copyright (C) 2025 The R Foundation for Statistical Computing
Platform: x86_64-w64-mingw32/x64
R is free software and comes with ABSOLUTELY NO WARRANTY.
You are welcome to redistribute it under certain conditions.
Type 'license()' or 'licence()' for distribution details.
R is a collaborative project with many contributors.
Type 'contributors()' for more information and
'citation()' on how to cite R or R packages in publications.
Type 'demo()' for some demos, 'help()' for on-line help, or
'help.start()' for an HTML browser interface to help.
Type 'q()' to quit R.
> library(testthat)
> library(autonomics)
Attaching package: 'autonomics'
The following objects are masked from 'package:stats':
biplot, loadings
The following object is masked from 'package:base':
beta
>
> test_check("autonomics")
[ FAIL 0 | WARN 0 | SKIP 0 | PASS 158 ]
>
> proc.time()
user system elapsed
186.56 13.68 728.53
autonomics.Rcheck/autonomics-Ex.timings
| name | user | system | elapsed | |
| AUTONOMICS_DATASETS | 0 | 0 | 0 | |
| COMPOUNDDISCOVERER_PATTERNS | 0 | 0 | 0 | |
| FITSEP | 0 | 0 | 0 | |
| LINMOD_ENGINES | 0 | 0 | 0 | |
| MAXQUANT_PATTERNS | 0 | 0 | 0 | |
| TAXON_TO_ORGNAME | 0 | 0 | 0 | |
| TESTS | 0 | 0 | 0 | |
| X | 1.96 | 0.07 | 2.06 | |
| abstract_fit | 2.10 | 0.14 | 2.23 | |
| add_adjusted_pvalues | 0.57 | 0.01 | 0.63 | |
| add_assay_means | 0.40 | 0.00 | 0.39 | |
| add_facetvars | 2.10 | 0.08 | 2.19 | |
| add_opentargets_by_uniprot | 0.49 | 0.03 | 0.53 | |
| add_psp | 0.84 | 0.00 | 0.86 | |
| add_smiles | 0.64 | 0.02 | 0.65 | |
| analysis | 0.61 | 0.00 | 0.61 | |
| analyze | 16.11 | 0.35 | 17.66 | |
| annotate_maxquant | 1.35 | 0.06 | 1.43 | |
| annotate_uniprot_rest | 0.03 | 0.05 | 1.19 | |
| assert_is_valid_sumexp | 0.65 | 0.07 | 0.73 | |
| bin | 1.39 | 0.00 | 1.40 | |
| biplot | 4.72 | 0.08 | 4.79 | |
| biplot_corrections | 4.14 | 0.13 | 4.27 | |
| biplot_covariates | 6.39 | 0.12 | 6.58 | |
| block2lme | 0.02 | 0.00 | 0.01 | |
| center | 1.80 | 0.02 | 2.19 | |
| code | 8.50 | 0.15 | 8.66 | |
| coefs | 1.07 | 0.02 | 1.09 | |
| collapsed_entrezg_to_symbol | 0 | 0 | 0 | |
| contrast_subgroup_cols | 1.69 | 0.09 | 1.78 | |
| count_in | 0 | 0 | 0 | |
| counts | 0.52 | 0.02 | 0.55 | |
| counts2cpm | 0.54 | 0.02 | 0.56 | |
| counts2tpm | 0.60 | 0.00 | 0.59 | |
| cpm | 0.53 | 0.00 | 0.53 | |
| create_design | 1.02 | 0.07 | 1.10 | |
| default_coefs | 0.92 | 0.03 | 0.97 | |
| default_formula | 21.08 | 0.55 | 21.50 | |
| default_geom | 0.70 | 0.06 | 0.76 | |
| default_sfile | 0.00 | 0.02 | 0.02 | |
| demultiplex | 0.01 | 0.00 | 0.01 | |
| dequantify | 0 | 0 | 0 | |
| dequantify_compounddiscoverer | 0.00 | 0.02 | 0.02 | |
| dot-merge | 0.07 | 0.00 | 0.06 | |
| dot-plot_survival | 4.81 | 0.70 | 6.21 | |
| dot-read_maxquant_proteingroups | 0.14 | 0.01 | 0.15 | |
| download_data | 0 | 0 | 0 | |
| download_gtf | 0 | 0 | 0 | |
| download_mcclain21 | 0 | 0 | 0 | |
| dt2mat | 0.02 | 0.00 | 0.02 | |
| enrichment | 1.95 | 0.10 | 2.06 | |
| entrezg_to_symbol | 0 | 0 | 0 | |
| explore_transformations | 4.81 | 0.15 | 4.97 | |
| extract_coef_features | 6.94 | 0.11 | 7.05 | |
| extract_rectangle | 0.12 | 0.11 | 0.23 | |
| fcluster | 8.14 | 0.22 | 9.34 | |
| fcor | 1.37 | 0.02 | 1.48 | |
| fdata | 0.8 | 0.0 | 0.8 | |
| fdr2p | 1.19 | 0.08 | 1.27 | |
| filter_exprs_replicated_in_some_subgroup | 1.20 | 0.10 | 1.31 | |
| filter_features | 0.72 | 0.05 | 0.76 | |
| filter_medoid | 0.97 | 0.05 | 1.47 | |
| filter_samples | 0.64 | 0.11 | 0.75 | |
| fit | 16.70 | 0.20 | 19.66 | |
| fit_lmx | 5.24 | 0.19 | 5.44 | |
| fitcoefs | 0.95 | 0.05 | 1.01 | |
| fits | 0.94 | 0.03 | 0.97 | |
| fitvars | 1.45 | 0.09 | 1.55 | |
| fix_xlgenes | 0 | 0 | 0 | |
| flevels | 0.61 | 0.02 | 0.63 | |
| fnames | 0.64 | 0.01 | 0.66 | |
| formula2str | 0 | 0 | 0 | |
| ftype | 8.67 | 0.28 | 9.52 | |
| fvalues | 0.63 | 0.02 | 0.64 | |
| fvars | 0.64 | 0.01 | 0.66 | |
| genome_to_orgdb | 0 | 0 | 0 | |
| group_by_level | 0 | 0 | 0 | |
| guess_compounddiscoverer_quantity | 0 | 0 | 0 | |
| guess_fitsep | 0.62 | 0.02 | 0.64 | |
| guess_maxquant_quantity | 0 | 0 | 0 | |
| guess_sep | 0.67 | 0.05 | 0.72 | |
| has_multiple_levels | 0.05 | 0.00 | 0.05 | |
| hdlproteins | 0.04 | 0.06 | 0.13 | |
| impute | 3.83 | 0.05 | 3.87 | |
| invert_subgroups | 0.77 | 0.03 | 0.80 | |
| is_collapsed_subset | 0 | 0 | 0 | |
| is_correlation_matrix | 0 | 0 | 0 | |
| is_diann_report | 0.39 | 0.09 | 0.53 | |
| is_fastadt | 0.07 | 0.00 | 0.08 | |
| is_file | 0 | 0 | 0 | |
| is_fraction | 0 | 0 | 0 | |
| is_imputed | 1.16 | 0.03 | 1.18 | |
| is_positive_number | 0.02 | 0.00 | 0.02 | |
| is_scalar_subset | 0.51 | 0.00 | 0.52 | |
| is_sig | 2.19 | 0.08 | 2.26 | |
| is_valid_formula | 0.05 | 0.00 | 0.05 | |
| keep_connected_blocks | 0.73 | 0.05 | 0.78 | |
| keep_connected_features | 0.83 | 0.08 | 0.91 | |
| keep_replicated_features | 0.91 | 0.04 | 0.95 | |
| label2index | 0 | 0 | 0 | |
| list2mat | 0 | 0 | 0 | |
| log2counts | 0.46 | 0.00 | 0.47 | |
| log2cpm | 0.61 | 0.00 | 0.61 | |
| log2diffs | 0.46 | 0.02 | 0.47 | |
| log2proteins | 0.42 | 0.03 | 0.45 | |
| log2sites | 0.50 | 0.01 | 0.51 | |
| log2tpm | 0.58 | 0.00 | 0.58 | |
| log2transform | 5.14 | 0.11 | 5.25 | |
| logical2factor | 0 | 0 | 0 | |
| make_alpha_palette | 0.83 | 0.08 | 0.91 | |
| make_colors | 0 | 0 | 0 | |
| make_volcano_dt | 1.06 | 0.03 | 1.10 | |
| map_fvalues | 0.46 | 0.03 | 0.48 | |
| matrix2sumexp | 1.11 | 0.10 | 1.21 | |
| merge_sample_file | 0.71 | 0.01 | 0.73 | |
| merge_sdata | 1.04 | 0.04 | 1.06 | |
| message_df | 0 | 0 | 0 | |
| modelvar | 4.73 | 0.14 | 4.88 | |
| order_on_p | 1.27 | 0.01 | 1.28 | |
| pca | 3.81 | 0.10 | 3.95 | |
| pg_to_canonical | 0 | 0 | 0 | |
| plot_contrast_venn | 2.97 | 0.14 | 3.11 | |
| plot_contrastogram | 4.17 | 0.11 | 4.42 | |
| plot_data | 1.30 | 0.11 | 1.40 | |
| plot_densities | 11.39 | 0.19 | 11.60 | |
| plot_design | 0.95 | 0.01 | 0.97 | |
| plot_exprs | 31.55 | 0.27 | 31.81 | |
| plot_exprs_per_coef | 33.03 | 0.31 | 33.34 | |
| plot_fit_summary | 2.2 | 0.1 | 2.3 | |
| plot_heatmap | 2.69 | 0.04 | 2.73 | |
| plot_matrix | 0.62 | 0.06 | 0.69 | |
| plot_sample_nas | 7.71 | 0.13 | 7.85 | |
| plot_subgroup_points | 5.92 | 0.14 | 6.06 | |
| plot_summary | 16.17 | 0.17 | 16.36 | |
| plot_venn | 0.02 | 0.00 | 0.01 | |
| plot_venn_heatmap | 0.03 | 0.00 | 0.03 | |
| plot_violins | 4.58 | 0.14 | 4.72 | |
| plot_volcano | 12.52 | 0.28 | 12.80 | |
| preprocess_rnaseq_counts | 0.62 | 0.00 | 0.62 | |
| pull_columns | 0 | 0 | 0 | |
| read_affymetrix | 0 | 0 | 0 | |
| read_diann_proteingroups | 149.03 | 5.80 | 151.53 | |
| read_fragpipe | 11.69 | 0.20 | 11.77 | |
| read_maxquant_phosphosites | 1.92 | 0.07 | 1.98 | |
| read_maxquant_proteingroups | 1.69 | 0.03 | 1.72 | |
| read_metabolon | 18.22 | 0.29 | 18.52 | |
| read_msigdt | 0 | 0 | 0 | |
| read_olink | 1.69 | 0.16 | 2.25 | |
| read_rectangles | 0.21 | 0.08 | 0.29 | |
| read_rnaseq_counts | 38.32 | 1.62 | 40.30 | |
| read_salmon | 0 | 0 | 0 | |
| read_somascan | 17.11 | 0.16 | 17.28 | |
| read_uniprotdt | 0.33 | 0.03 | 0.36 | |
| reset_fit | 6.30 | 0.13 | 6.42 | |
| rm_diann_contaminants | 31.54 | 1.43 | 32.05 | |
| rm_missing_in_some_samples | 0.72 | 0.10 | 0.81 | |
| rm_unmatched_samples | 0.74 | 0.01 | 0.75 | |
| scaledlibsizes | 0.48 | 0.02 | 0.50 | |
| scoremat | 1.42 | 0.14 | 1.56 | |
| slevels | 0.56 | 0.00 | 0.56 | |
| snames | 0.72 | 0.00 | 0.72 | |
| split_extract_fixed | 0.76 | 0.08 | 0.85 | |
| split_samples | 1.30 | 0.08 | 1.37 | |
| stri_any_regex | 0 | 0 | 0 | |
| stri_detect_fixed_in_collapsed | 0.51 | 0.00 | 0.52 | |
| subgroup_matrix | 0.60 | 0.03 | 0.62 | |
| subtract_baseline | 5.47 | 0.11 | 5.56 | |
| sumexp_to_longdt | 2.42 | 0.06 | 2.49 | |
| sumexp_to_tsv | 0.67 | 0.00 | 0.67 | |
| sumexplist_to_longdt | 2.36 | 0.06 | 2.44 | |
| summarize_fit | 2.42 | 0.11 | 2.53 | |
| svalues | 0.56 | 0.00 | 0.56 | |
| svars | 0.63 | 0.02 | 0.64 | |
| systematic_nas | 0.76 | 0.00 | 0.77 | |
| tag_features | 1.58 | 0.04 | 1.62 | |
| tag_hdlproteins | 0.72 | 0.05 | 0.77 | |
| taxon2org | 0 | 0 | 0 | |
| tpm | 0.45 | 0.00 | 0.45 | |
| uncollapse | 0.02 | 0.00 | 0.02 | |
| values | 0.63 | 0.02 | 0.64 | |
| varlevels_dont_clash | 0.03 | 0.00 | 0.03 | |
| venn_detects | 0.93 | 0.03 | 0.97 | |
| weights | 0.43 | 0.00 | 0.42 | |
| write_xl | 0.70 | 0.08 | 0.78 | |
| zero_to_na | 0 | 0 | 0 | |