| Back to Multiple platform build/check report for BioC 3.22: simplified long |
|
This page was generated on 2025-11-03 12:03 -0500 (Mon, 03 Nov 2025).
| Hostname | OS | Arch (*) | R version | Installed pkgs |
|---|---|---|---|---|
| nebbiolo2 | Linux (Ubuntu 24.04.3 LTS) | x86_64 | 4.5.1 Patched (2025-08-23 r88802) -- "Great Square Root" | 4902 |
| lconway | macOS 12.7.6 Monterey | x86_64 | 4.5.1 Patched (2025-09-10 r88807) -- "Great Square Root" | 4692 |
| kjohnson3 | macOS 13.7.7 Ventura | arm64 | 4.5.1 Patched (2025-09-10 r88807) -- "Great Square Root" | 4638 |
| Click on any hostname to see more info about the system (e.g. compilers) (*) as reported by 'uname -p', except on Windows and Mac OS X | ||||
| Package 119/2361 | Hostname | OS / Arch | INSTALL | BUILD | CHECK | BUILD BIN | ||||||||
| autonomics 1.18.0 (landing page) Aditya Bhagwat
| nebbiolo2 | Linux (Ubuntu 24.04.3 LTS) / x86_64 | OK | OK | OK | |||||||||
| lconway | macOS 12.7.6 Monterey / x86_64 | OK | OK | OK | OK | |||||||||
| kjohnson3 | macOS 13.7.7 Ventura / arm64 | OK | OK | OK | OK | |||||||||
|
To the developers/maintainers of the autonomics package: - Allow up to 24 hours (and sometimes 48 hours) for your latest push to git@git.bioconductor.org:packages/autonomics.git to reflect on this report. See Troubleshooting Build Report for more information. - Use the following Renviron settings to reproduce errors and warnings. - If 'R CMD check' started to fail recently on the Linux builder(s) over a missing dependency, add the missing dependency to 'Suggests:' in your DESCRIPTION file. See Renviron.bioc for more information. |
| Package: autonomics |
| Version: 1.18.0 |
| Command: /Library/Frameworks/R.framework/Resources/bin/R CMD check --install=check:autonomics.install-out.txt --library=/Library/Frameworks/R.framework/Resources/library --no-vignettes --timings autonomics_1.18.0.tar.gz |
| StartedAt: 2025-11-02 19:35:37 -0500 (Sun, 02 Nov 2025) |
| EndedAt: 2025-11-02 19:58:29 -0500 (Sun, 02 Nov 2025) |
| EllapsedTime: 1372.2 seconds |
| RetCode: 0 |
| Status: OK |
| CheckDir: autonomics.Rcheck |
| Warnings: 0 |
##############################################################################
##############################################################################
###
### Running command:
###
### /Library/Frameworks/R.framework/Resources/bin/R CMD check --install=check:autonomics.install-out.txt --library=/Library/Frameworks/R.framework/Resources/library --no-vignettes --timings autonomics_1.18.0.tar.gz
###
##############################################################################
##############################################################################
* using log directory ‘/Users/biocbuild/bbs-3.22-bioc/meat/autonomics.Rcheck’
* using R version 4.5.1 Patched (2025-09-10 r88807)
* using platform: x86_64-apple-darwin20
* R was compiled by
Apple clang version 14.0.0 (clang-1400.0.29.202)
GNU Fortran (GCC) 14.2.0
* running under: macOS Monterey 12.7.6
* using session charset: UTF-8
* using option ‘--no-vignettes’
* checking for file ‘autonomics/DESCRIPTION’ ... OK
* checking extension type ... Package
* this is package ‘autonomics’ version ‘1.18.0’
* package encoding: UTF-8
* checking package namespace information ... OK
* checking package dependencies ... INFO
Imports includes 32 non-default packages.
Importing from so many packages makes the package vulnerable to any of
them becoming unavailable. Move as many as possible to Suggests and
use conditionally.
* checking if this is a source package ... OK
* checking if there is a namespace ... OK
* checking for hidden files and directories ... NOTE
Found the following hidden files and directories:
.BBSoptions
These were most likely included in error. See section ‘Package
structure’ in the ‘Writing R Extensions’ manual.
* checking for portable file names ... OK
* checking for sufficient/correct file permissions ... OK
* checking whether package ‘autonomics’ can be installed ... OK
* checking installed package size ... OK
* checking package directory ... OK
* checking ‘build’ directory ... OK
* checking DESCRIPTION meta-information ... OK
* checking top-level files ... OK
* checking for left-over files ... OK
* checking index information ... OK
* checking package subdirectories ... OK
* checking code files for non-ASCII characters ... OK
* checking R files for syntax errors ... OK
* checking whether the package can be loaded ... OK
* checking whether the package can be loaded with stated dependencies ... OK
* checking whether the package can be unloaded cleanly ... OK
* checking whether the namespace can be loaded with stated dependencies ... OK
* checking whether the namespace can be unloaded cleanly ... OK
* checking dependencies in R code ... OK
* checking S3 generic/method consistency ... OK
* checking replacement functions ... OK
* checking foreign function calls ... OK
* checking R code for possible problems ... OK
* checking Rd files ... OK
* checking Rd metadata ... OK
* checking Rd cross-references ... NOTE
Non-topic package-anchored link(s) in Rd file 'reexports.Rd':
‘[magrittr:compound]{%<>%}’ ‘[magrittr:pipe]{%>%}’
‘[magrittr:aliases]{extract}’
See section 'Cross-references' in the 'Writing R Extensions' manual.
* checking for missing documentation entries ... OK
* checking for code/documentation mismatches ... OK
* checking Rd \usage sections ... OK
* checking Rd contents ... OK
* checking for unstated dependencies in examples ... OK
* checking files in ‘vignettes’ ... OK
* checking examples ... OK
Examples with CPU (user + system) or elapsed time > 5s
user system elapsed
write_xl 173.665 9.713 227.606
read_diann_proteingroups 109.907 1.953 112.618
awblinmod 43.093 0.190 43.401
read_rnaseq_counts 35.457 3.591 39.514
LINMOD 24.909 0.265 25.231
rm_diann_contaminants 23.359 0.540 24.045
plot_exprs 22.876 0.114 23.045
plot_exprs_per_coef 21.461 0.121 21.632
default_formula 19.888 0.464 20.505
read_metabolon 14.766 0.113 14.947
read_somascan 14.604 0.087 14.763
analyze 14.355 0.190 14.593
plot_volcano 13.855 0.095 13.978
fit_survival 13.231 0.091 13.358
explore-transforms 12.731 0.109 12.889
plot_summary 12.673 0.075 12.769
plot_densities 11.495 0.224 11.745
fcluster 10.473 0.090 10.647
ftype 8.805 0.281 9.121
plot_detections 8.599 0.040 8.654
biplot_covariates 7.543 0.056 7.619
read_fragpipe 7.040 0.105 7.192
plot_xy_density 6.689 0.034 6.739
plot_subgroup_points 5.924 0.062 5.998
subtract_baseline 5.849 0.104 6.013
log2transform 5.781 0.043 5.841
sbind 5.220 0.076 5.347
extract_contrast_features 5.156 0.072 5.252
code 5.097 0.064 5.179
reset_fit 5.038 0.117 5.198
* checking for unstated dependencies in ‘tests’ ... OK
* checking tests ...
Running ‘testthat.R’
OK
* checking for unstated dependencies in vignettes ... OK
* checking package vignettes ... OK
* checking running R code from vignettes ... SKIPPED
* checking re-building of vignette outputs ... SKIPPED
* checking PDF version of manual ... OK
* DONE
Status: 2 NOTEs
See
‘/Users/biocbuild/bbs-3.22-bioc/meat/autonomics.Rcheck/00check.log’
for details.
autonomics.Rcheck/00install.out
############################################################################## ############################################################################## ### ### Running command: ### ### /Library/Frameworks/R.framework/Resources/bin/R CMD INSTALL autonomics ### ############################################################################## ############################################################################## * installing to library ‘/Library/Frameworks/R.framework/Versions/4.5-x86_64/Resources/library’ * installing *source* package ‘autonomics’ ... ** this is package ‘autonomics’ version ‘1.18.0’ ** using staged installation ** R ** inst ** byte-compile and prepare package for lazy loading Note: wrong number of arguments to 'seq_along' Note: wrong number of arguments to 'sqrt' ** help *** installing help indices ** building package indices ** installing vignettes ** testing if installed package can be loaded from temporary location ** testing if installed package can be loaded from final location ** testing if installed package keeps a record of temporary installation path * DONE (autonomics)
autonomics.Rcheck/tests/testthat.Rout
R version 4.5.1 Patched (2025-09-10 r88807) -- "Great Square Root"
Copyright (C) 2025 The R Foundation for Statistical Computing
Platform: x86_64-apple-darwin20
R is free software and comes with ABSOLUTELY NO WARRANTY.
You are welcome to redistribute it under certain conditions.
Type 'license()' or 'licence()' for distribution details.
R is a collaborative project with many contributors.
Type 'contributors()' for more information and
'citation()' on how to cite R or R packages in publications.
Type 'demo()' for some demos, 'help()' for on-line help, or
'help.start()' for an HTML browser interface to help.
Type 'q()' to quit R.
> library(testthat)
> library(autonomics)
Attaching package: 'autonomics'
The following objects are masked from 'package:stats':
biplot, loadings
The following object is masked from 'package:base':
beta
>
> test_check("autonomics")
[ FAIL 0 | WARN 3 | SKIP 0 | PASS 158 ]
[ FAIL 0 | WARN 3 | SKIP 0 | PASS 158 ]
>
> proc.time()
user system elapsed
139.443 13.136 225.355
autonomics.Rcheck/autonomics-Ex.timings
| name | user | system | elapsed | |
| AUTONOMICS_DATASETS | 0.001 | 0.001 | 0.001 | |
| COMPOUNDDISCOVERER_PATTERNS | 0 | 0 | 0 | |
| LINMOD | 24.909 | 0.265 | 25.231 | |
| LINMODENGINES | 0 | 0 | 0 | |
| MAXQUANT_PATTERNS | 0.001 | 0.000 | 0.001 | |
| TAXON_TO_ORGNAME | 0.000 | 0.001 | 0.000 | |
| TESTS | 0.000 | 0.000 | 0.001 | |
| X | 1.342 | 0.043 | 1.389 | |
| abstract_fit | 1.071 | 0.045 | 1.118 | |
| add_adjusted_pvalues | 0.470 | 0.009 | 0.482 | |
| add_assay_means | 0.309 | 0.005 | 0.315 | |
| add_facetvars | 1.483 | 0.051 | 1.537 | |
| add_opentargets_by_uniprot | 0.489 | 0.007 | 0.499 | |
| add_psp | 0.624 | 0.014 | 0.641 | |
| add_smiles | 0.501 | 0.048 | 0.555 | |
| all_non_numeric | 0.578 | 0.002 | 0.581 | |
| analysis | 0.422 | 0.007 | 0.430 | |
| analyze | 14.355 | 0.190 | 14.593 | |
| annotate_maxquant | 2.031 | 0.107 | 2.147 | |
| annotate_uniprot_rest | 0.085 | 0.012 | 2.041 | |
| assert_is_valid_sumexp | 0.627 | 0.045 | 0.677 | |
| awblinmod | 43.093 | 0.190 | 43.401 | |
| biplot | 4.146 | 0.062 | 4.225 | |
| biplot_corrections | 4.098 | 0.051 | 4.161 | |
| biplot_covariates | 7.543 | 0.056 | 7.619 | |
| block2limma | 0.002 | 0.000 | 0.002 | |
| block2lm | 0.003 | 0.000 | 0.002 | |
| block2lme | 0.002 | 0.001 | 0.002 | |
| block2lmer | 0.003 | 0.001 | 0.003 | |
| block_has_two_levels | 0.744 | 0.043 | 0.792 | |
| center | 2.049 | 0.019 | 2.097 | |
| code | 5.097 | 0.064 | 5.179 | |
| collapsed_entrezg_to_symbol | 1.193 | 0.095 | 1.302 | |
| contrast_subgroup_cols | 0.768 | 0.049 | 0.822 | |
| contrastdt | 0.666 | 0.004 | 0.673 | |
| count_in | 0.001 | 0.000 | 0.001 | |
| counts | 0.378 | 0.003 | 0.383 | |
| counts2cpm | 0.429 | 0.005 | 0.436 | |
| counts2tpm | 0.347 | 0.003 | 0.350 | |
| cpm | 0.385 | 0.002 | 0.388 | |
| create_design | 0.814 | 0.051 | 0.879 | |
| default_formula | 19.888 | 0.464 | 20.505 | |
| default_geom | 0.579 | 0.048 | 0.635 | |
| default_sfile | 0.001 | 0.000 | 0.002 | |
| demultiplex | 0.011 | 0.001 | 0.011 | |
| densities | 0.262 | 0.006 | 0.271 | |
| dequantify | 0.002 | 0.001 | 0.002 | |
| dequantify_compounddiscoverer | 0.002 | 0.001 | 0.002 | |
| dot-coxph | 0.450 | 0.050 | 0.555 | |
| dot-merge | 0.026 | 0.001 | 0.027 | |
| dot-read_maxquant_proteingroups | 0.132 | 0.009 | 0.142 | |
| download_data | 0.000 | 0.001 | 0.001 | |
| download_gtf | 0.000 | 0.000 | 0.001 | |
| download_mcclain21 | 0.001 | 0.001 | 0.001 | |
| dt2mat | 0.004 | 0.001 | 0.006 | |
| enrichment | 1.324 | 0.016 | 1.350 | |
| entrezg_to_symbol | 0.188 | 0.004 | 0.194 | |
| explore-transforms | 12.731 | 0.109 | 12.889 | |
| extract_contrast_features | 5.156 | 0.072 | 5.252 | |
| extract_rectangle | 0.164 | 0.050 | 0.219 | |
| factor.vars | 0.220 | 0.002 | 0.223 | |
| factorize | 0.957 | 0.018 | 0.982 | |
| fcluster | 10.473 | 0.090 | 10.647 | |
| fcor | 1.584 | 0.029 | 1.619 | |
| fdata | 0.510 | 0.012 | 0.522 | |
| fdr2p | 1.115 | 0.050 | 1.173 | |
| filter_exprs_replicated_in_some_subgroup | 1.235 | 0.077 | 1.341 | |
| filter_features | 0.585 | 0.053 | 0.642 | |
| filter_medoid | 0.700 | 0.006 | 0.708 | |
| filter_samples | 0.655 | 0.071 | 0.746 | |
| fit_survival | 13.231 | 0.091 | 13.358 | |
| fits | 0.348 | 0.002 | 0.350 | |
| fix_xlgenes | 0.002 | 0.000 | 0.002 | |
| flevels | 0.432 | 0.006 | 0.439 | |
| fnames | 0.489 | 0.006 | 0.495 | |
| formula2str | 0.001 | 0.000 | 0.001 | |
| ftype | 8.805 | 0.281 | 9.121 | |
| fvalues | 0.451 | 0.006 | 0.458 | |
| fvars | 0.504 | 0.007 | 0.511 | |
| genome_to_orgdb | 0.001 | 0.001 | 0.002 | |
| group_by_level | 0.002 | 0.001 | 0.002 | |
| guess_compounddiscoverer_quantity | 0.002 | 0.001 | 0.002 | |
| guess_fitsep | 0.535 | 0.007 | 0.544 | |
| guess_maxquant_quantity | 0.005 | 0.002 | 0.007 | |
| guess_sep | 0.603 | 0.047 | 0.653 | |
| has_multiple_levels | 0.071 | 0.003 | 0.073 | |
| hdlproteins | 0.049 | 0.030 | 0.081 | |
| impute | 3.972 | 0.035 | 4.019 | |
| invert_subgroups | 0.811 | 0.008 | 0.821 | |
| is_character_matrix | 0.208 | 0.001 | 0.209 | |
| is_collapsed_subset | 0 | 0 | 0 | |
| is_compounddiscoverer_output | 0.053 | 0.032 | 0.162 | |
| is_correlation_matrix | 0.002 | 0.000 | 0.001 | |
| is_diann_report | 0.099 | 0.013 | 0.112 | |
| is_fastadt | 0.050 | 0.002 | 0.051 | |
| is_file | 0.000 | 0.000 | 0.001 | |
| is_fraction | 0.001 | 0.000 | 0.002 | |
| is_fragpipe_tsv | 0.045 | 0.006 | 0.049 | |
| is_imputed | 0.871 | 0.009 | 0.883 | |
| is_maxquant_phosphosites | 0.062 | 0.007 | 0.070 | |
| is_maxquant_proteingroups | 0.052 | 0.007 | 0.058 | |
| is_positive_number | 0.002 | 0.001 | 0.002 | |
| is_scalar_subset | 0.390 | 0.007 | 0.398 | |
| is_sig | 1.662 | 0.011 | 1.677 | |
| is_valid_formula | 0.067 | 0.001 | 0.068 | |
| keep_estimable_features | 1.076 | 0.060 | 1.147 | |
| label2index | 0.001 | 0.000 | 0.001 | |
| list2mat | 0.000 | 0.000 | 0.002 | |
| log2counts | 0.417 | 0.003 | 0.419 | |
| log2cpm | 0.412 | 0.003 | 0.416 | |
| log2diffs | 0.452 | 0.006 | 0.460 | |
| log2proteins | 0.331 | 0.005 | 0.337 | |
| log2sites | 0.354 | 0.005 | 0.360 | |
| log2tpm | 0.355 | 0.001 | 0.358 | |
| log2transform | 5.781 | 0.043 | 5.841 | |
| logical2factor | 0.001 | 0.000 | 0.002 | |
| make_alpha_palette | 0.591 | 0.044 | 0.638 | |
| make_colors | 0.011 | 0.002 | 0.012 | |
| make_volcano_dt | 0.861 | 0.008 | 0.870 | |
| map_fvalues | 0.433 | 0.006 | 0.441 | |
| matrix2sumexp | 1.275 | 0.085 | 1.366 | |
| mclust_breaks | 0.554 | 0.091 | 0.649 | |
| merge_sample_file | 0.565 | 0.013 | 0.580 | |
| merge_sdata | 0.645 | 0.056 | 0.704 | |
| message_df | 0.003 | 0.001 | 0.003 | |
| model_coefs | 0.819 | 0.039 | 0.860 | |
| modelvar | 3.695 | 0.058 | 3.769 | |
| object1 | 0.537 | 0.002 | 0.540 | |
| order_on_p | 1.222 | 0.045 | 1.269 | |
| overall_parameters | 0.028 | 0.001 | 0.030 | |
| pca | 3.312 | 0.051 | 3.369 | |
| pg_to_canonical | 0.007 | 0.000 | 0.008 | |
| plot_coef_densities | 1.368 | 0.043 | 1.418 | |
| plot_contrast_venn | 2.488 | 0.051 | 2.546 | |
| plot_contrastogram | 3.325 | 0.105 | 3.448 | |
| plot_data | 1.875 | 0.052 | 1.932 | |
| plot_densities | 11.495 | 0.224 | 11.745 | |
| plot_design | 0.807 | 0.007 | 0.816 | |
| plot_detections | 8.599 | 0.040 | 8.654 | |
| plot_exprs | 22.876 | 0.114 | 23.045 | |
| plot_exprs_per_coef | 21.461 | 0.121 | 21.632 | |
| plot_fit_summary | 2.265 | 0.053 | 2.328 | |
| plot_heatmap | 3.128 | 0.042 | 3.175 | |
| plot_matrix | 0.530 | 0.040 | 0.572 | |
| plot_subgroup_points | 5.924 | 0.062 | 5.998 | |
| plot_summary | 12.673 | 0.075 | 12.769 | |
| plot_venn | 0.017 | 0.001 | 0.019 | |
| plot_venn_heatmap | 0.023 | 0.001 | 0.025 | |
| plot_violins | 4.595 | 0.084 | 4.691 | |
| plot_volcano | 13.855 | 0.095 | 13.978 | |
| plot_xy_density | 6.689 | 0.034 | 6.739 | |
| preprocess_rnaseq_counts | 0.374 | 0.003 | 0.378 | |
| pull_columns | 0.002 | 0.001 | 0.002 | |
| pvalues_estimable | 0.048 | 0.008 | 0.056 | |
| read_affymetrix | 0.000 | 0.000 | 0.001 | |
| read_diann_proteingroups | 109.907 | 1.953 | 112.618 | |
| read_fragpipe | 7.040 | 0.105 | 7.192 | |
| read_maxquant_phosphosites | 1.805 | 0.033 | 1.846 | |
| read_maxquant_proteingroups | 1.404 | 0.018 | 1.439 | |
| read_metabolon | 14.766 | 0.113 | 14.947 | |
| read_msigdt | 0.001 | 0.001 | 0.001 | |
| read_olink | 1.497 | 0.067 | 1.576 | |
| read_rectangles | 0.220 | 0.022 | 0.244 | |
| read_rnaseq_counts | 35.457 | 3.591 | 39.514 | |
| read_salmon | 0.000 | 0.001 | 0.001 | |
| read_somascan | 14.604 | 0.087 | 14.763 | |
| read_uniprotdt | 0.330 | 0.044 | 0.389 | |
| reset_fit | 5.038 | 0.117 | 5.198 | |
| rm_diann_contaminants | 23.359 | 0.540 | 24.045 | |
| rm_missing_in_some_samples | 0.589 | 0.065 | 0.664 | |
| rm_unmatched_samples | 0.778 | 0.054 | 0.836 | |
| sbind | 5.220 | 0.076 | 5.347 | |
| scaledlibsizes | 0.331 | 0.004 | 0.336 | |
| scoremat | 1.039 | 0.062 | 1.109 | |
| slevels | 0.475 | 0.015 | 0.497 | |
| snames | 0.418 | 0.008 | 0.433 | |
| split_extract_fixed | 0.662 | 0.053 | 0.722 | |
| split_samples | 1.264 | 0.057 | 1.328 | |
| stepauc | 0.357 | 0.005 | 0.369 | |
| stri_any_regex | 0.001 | 0.000 | 0.001 | |
| stri_detect_fixed_in_collapsed | 0.400 | 0.011 | 0.413 | |
| subgroup_matrix | 0.680 | 0.058 | 0.748 | |
| subtract_baseline | 5.849 | 0.104 | 6.013 | |
| sumexp_to_longdt | 2.019 | 0.128 | 2.172 | |
| sumexp_to_tsv | 0.639 | 0.009 | 0.656 | |
| sumexplist_to_longdt | 1.684 | 0.023 | 1.721 | |
| summarize_fit | 1.822 | 0.058 | 1.892 | |
| survobj | 0.140 | 0.001 | 0.145 | |
| svalues | 0.527 | 0.009 | 0.543 | |
| svars | 0.404 | 0.005 | 0.410 | |
| systematic_nas | 0.560 | 0.006 | 0.568 | |
| tag_features | 1.220 | 0.036 | 1.263 | |
| tag_hdlproteins | 0.620 | 0.055 | 0.684 | |
| taxon2org | 0.001 | 0.000 | 0.002 | |
| tpm | 0.512 | 0.007 | 0.524 | |
| uncollapse | 0.039 | 0.002 | 0.041 | |
| values | 0.534 | 0.022 | 0.562 | |
| varlevels_dont_clash | 0.028 | 0.001 | 0.029 | |
| venn_detects | 0.661 | 0.010 | 0.677 | |
| weights | 0.461 | 0.005 | 0.470 | |
| write_xl | 173.665 | 9.713 | 227.606 | |
| zero_to_na | 0.003 | 0.014 | 0.303 | |