| Back to Multiple platform build/check report for BioC 3.22: simplified long |
|
This page was generated on 2025-11-03 12:04 -0500 (Mon, 03 Nov 2025).
| Hostname | OS | Arch (*) | R version | Installed pkgs |
|---|---|---|---|---|
| nebbiolo2 | Linux (Ubuntu 24.04.3 LTS) | x86_64 | 4.5.1 Patched (2025-08-23 r88802) -- "Great Square Root" | 4902 |
| lconway | macOS 12.7.6 Monterey | x86_64 | 4.5.1 Patched (2025-09-10 r88807) -- "Great Square Root" | 4692 |
| kjohnson3 | macOS 13.7.7 Ventura | arm64 | 4.5.1 Patched (2025-09-10 r88807) -- "Great Square Root" | 4638 |
| Click on any hostname to see more info about the system (e.g. compilers) (*) as reported by 'uname -p', except on Windows and Mac OS X | ||||
| Package 119/2361 | Hostname | OS / Arch | INSTALL | BUILD | CHECK | BUILD BIN | ||||||||
| autonomics 1.18.0 (landing page) Aditya Bhagwat
| nebbiolo2 | Linux (Ubuntu 24.04.3 LTS) / x86_64 | OK | OK | OK | |||||||||
| lconway | macOS 12.7.6 Monterey / x86_64 | OK | OK | OK | OK | |||||||||
| kjohnson3 | macOS 13.7.7 Ventura / arm64 | OK | OK | OK | OK | |||||||||
|
To the developers/maintainers of the autonomics package: - Allow up to 24 hours (and sometimes 48 hours) for your latest push to git@git.bioconductor.org:packages/autonomics.git to reflect on this report. See Troubleshooting Build Report for more information. - Use the following Renviron settings to reproduce errors and warnings. - If 'R CMD check' started to fail recently on the Linux builder(s) over a missing dependency, add the missing dependency to 'Suggests:' in your DESCRIPTION file. See Renviron.bioc for more information. |
| Package: autonomics |
| Version: 1.18.0 |
| Command: /Library/Frameworks/R.framework/Resources/bin/R CMD check --install=check:autonomics.install-out.txt --library=/Library/Frameworks/R.framework/Resources/library --no-vignettes --timings autonomics_1.18.0.tar.gz |
| StartedAt: 2025-11-02 18:30:34 -0500 (Sun, 02 Nov 2025) |
| EndedAt: 2025-11-02 18:37:08 -0500 (Sun, 02 Nov 2025) |
| EllapsedTime: 393.6 seconds |
| RetCode: 0 |
| Status: OK |
| CheckDir: autonomics.Rcheck |
| Warnings: 0 |
##############################################################################
##############################################################################
###
### Running command:
###
### /Library/Frameworks/R.framework/Resources/bin/R CMD check --install=check:autonomics.install-out.txt --library=/Library/Frameworks/R.framework/Resources/library --no-vignettes --timings autonomics_1.18.0.tar.gz
###
##############################################################################
##############################################################################
* using log directory ‘/Users/biocbuild/bbs-3.22-bioc/meat/autonomics.Rcheck’
* using R version 4.5.1 Patched (2025-09-10 r88807)
* using platform: aarch64-apple-darwin20
* R was compiled by
Apple clang version 16.0.0 (clang-1600.0.26.6)
GNU Fortran (GCC) 14.2.0
* running under: macOS Ventura 13.7.7
* using session charset: UTF-8
* using option ‘--no-vignettes’
* checking for file ‘autonomics/DESCRIPTION’ ... OK
* checking extension type ... Package
* this is package ‘autonomics’ version ‘1.18.0’
* package encoding: UTF-8
* checking package namespace information ... OK
* checking package dependencies ... INFO
Imports includes 32 non-default packages.
Importing from so many packages makes the package vulnerable to any of
them becoming unavailable. Move as many as possible to Suggests and
use conditionally.
* checking if this is a source package ... OK
* checking if there is a namespace ... OK
* checking for hidden files and directories ... NOTE
Found the following hidden files and directories:
.BBSoptions
These were most likely included in error. See section ‘Package
structure’ in the ‘Writing R Extensions’ manual.
* checking for portable file names ... OK
* checking for sufficient/correct file permissions ... OK
* checking whether package ‘autonomics’ can be installed ... OK
* checking installed package size ... OK
* checking package directory ... OK
* checking ‘build’ directory ... OK
* checking DESCRIPTION meta-information ... OK
* checking top-level files ... OK
* checking for left-over files ... OK
* checking index information ... OK
* checking package subdirectories ... OK
* checking code files for non-ASCII characters ... OK
* checking R files for syntax errors ... OK
* checking whether the package can be loaded ... OK
* checking whether the package can be loaded with stated dependencies ... OK
* checking whether the package can be unloaded cleanly ... OK
* checking whether the namespace can be loaded with stated dependencies ... OK
* checking whether the namespace can be unloaded cleanly ... OK
* checking dependencies in R code ... OK
* checking S3 generic/method consistency ... OK
* checking replacement functions ... OK
* checking foreign function calls ... OK
* checking R code for possible problems ... OK
* checking Rd files ... OK
* checking Rd metadata ... OK
* checking Rd cross-references ... NOTE
Non-topic package-anchored link(s) in Rd file 'reexports.Rd':
‘[magrittr:compound]{%<>%}’ ‘[magrittr:pipe]{%>%}’
‘[magrittr:aliases]{extract}’
See section 'Cross-references' in the 'Writing R Extensions' manual.
* checking for missing documentation entries ... OK
* checking for code/documentation mismatches ... OK
* checking Rd \usage sections ... OK
* checking Rd contents ... OK
* checking for unstated dependencies in examples ... OK
* checking files in ‘vignettes’ ... OK
* checking examples ... OK
Examples with CPU (user + system) or elapsed time > 5s
user system elapsed
write_xl 52.590 2.310 57.147
read_diann_proteingroups 33.138 0.883 33.331
awblinmod 12.473 0.072 12.623
read_rnaseq_counts 9.686 0.764 10.530
rm_diann_contaminants 7.359 0.188 7.346
LINMOD 7.216 0.101 7.455
plot_exprs 6.565 0.036 6.655
default_formula 6.217 0.339 6.487
plot_exprs_per_coef 5.392 0.038 5.549
* checking for unstated dependencies in ‘tests’ ... OK
* checking tests ...
Running ‘testthat.R’
OK
* checking for unstated dependencies in vignettes ... OK
* checking package vignettes ... OK
* checking running R code from vignettes ... SKIPPED
* checking re-building of vignette outputs ... SKIPPED
* checking PDF version of manual ... OK
* DONE
Status: 2 NOTEs
See
‘/Users/biocbuild/bbs-3.22-bioc/meat/autonomics.Rcheck/00check.log’
for details.
autonomics.Rcheck/00install.out
############################################################################## ############################################################################## ### ### Running command: ### ### /Library/Frameworks/R.framework/Resources/bin/R CMD INSTALL autonomics ### ############################################################################## ############################################################################## * installing to library ‘/Library/Frameworks/R.framework/Versions/4.5-arm64/Resources/library’ * installing *source* package ‘autonomics’ ... ** this is package ‘autonomics’ version ‘1.18.0’ ** using staged installation ** R ** inst ** byte-compile and prepare package for lazy loading Note: wrong number of arguments to 'seq_along' Note: wrong number of arguments to 'sqrt' ** help *** installing help indices ** building package indices ** installing vignettes ** testing if installed package can be loaded from temporary location ** testing if installed package can be loaded from final location ** testing if installed package keeps a record of temporary installation path * DONE (autonomics)
autonomics.Rcheck/tests/testthat.Rout
R version 4.5.1 Patched (2025-09-10 r88807) -- "Great Square Root"
Copyright (C) 2025 The R Foundation for Statistical Computing
Platform: aarch64-apple-darwin20
R is free software and comes with ABSOLUTELY NO WARRANTY.
You are welcome to redistribute it under certain conditions.
Type 'license()' or 'licence()' for distribution details.
R is a collaborative project with many contributors.
Type 'contributors()' for more information and
'citation()' on how to cite R or R packages in publications.
Type 'demo()' for some demos, 'help()' for on-line help, or
'help.start()' for an HTML browser interface to help.
Type 'q()' to quit R.
> library(testthat)
> library(autonomics)
Attaching package: 'autonomics'
The following objects are masked from 'package:stats':
biplot, loadings
The following object is masked from 'package:base':
beta
>
> test_check("autonomics")
[ FAIL 0 | WARN 3 | SKIP 0 | PASS 158 ]
[ FAIL 0 | WARN 3 | SKIP 0 | PASS 158 ]
>
> proc.time()
user system elapsed
51.684 3.476 57.466
autonomics.Rcheck/autonomics-Ex.timings
| name | user | system | elapsed | |
| AUTONOMICS_DATASETS | 0 | 0 | 0 | |
| COMPOUNDDISCOVERER_PATTERNS | 0 | 0 | 0 | |
| LINMOD | 7.216 | 0.101 | 7.455 | |
| LINMODENGINES | 0.000 | 0.000 | 0.001 | |
| MAXQUANT_PATTERNS | 0.000 | 0.001 | 0.000 | |
| TAXON_TO_ORGNAME | 0 | 0 | 0 | |
| TESTS | 0 | 0 | 0 | |
| X | 0.352 | 0.014 | 0.366 | |
| abstract_fit | 0.296 | 0.015 | 0.311 | |
| add_adjusted_pvalues | 0.154 | 0.003 | 0.159 | |
| add_assay_means | 0.110 | 0.001 | 0.112 | |
| add_facetvars | 0.400 | 0.014 | 0.428 | |
| add_opentargets_by_uniprot | 0.125 | 0.002 | 0.136 | |
| add_psp | 0.156 | 0.003 | 0.175 | |
| add_smiles | 0.141 | 0.013 | 0.160 | |
| all_non_numeric | 0.173 | 0.000 | 0.175 | |
| analysis | 0.122 | 0.001 | 0.124 | |
| analyze | 4.010 | 0.047 | 4.096 | |
| annotate_maxquant | 0.394 | 0.021 | 0.417 | |
| annotate_uniprot_rest | 0.032 | 0.006 | 2.295 | |
| assert_is_valid_sumexp | 0.162 | 0.013 | 0.175 | |
| awblinmod | 12.473 | 0.072 | 12.623 | |
| biplot | 1.126 | 0.017 | 1.143 | |
| biplot_corrections | 1.066 | 0.015 | 1.089 | |
| biplot_covariates | 2.137 | 0.016 | 2.156 | |
| block2limma | 0.001 | 0.001 | 0.001 | |
| block2lm | 0.001 | 0.000 | 0.001 | |
| block2lme | 0.001 | 0.000 | 0.001 | |
| block2lmer | 0.001 | 0.000 | 0.001 | |
| block_has_two_levels | 0.198 | 0.014 | 0.211 | |
| center | 0.547 | 0.006 | 0.553 | |
| code | 1.380 | 0.017 | 1.397 | |
| collapsed_entrezg_to_symbol | 0.328 | 0.019 | 0.347 | |
| contrast_subgroup_cols | 0.195 | 0.013 | 0.209 | |
| contrastdt | 0.183 | 0.001 | 0.184 | |
| count_in | 0.001 | 0.001 | 0.000 | |
| counts | 0.096 | 0.000 | 0.096 | |
| counts2cpm | 0.101 | 0.000 | 0.102 | |
| counts2tpm | 0.083 | 0.001 | 0.083 | |
| cpm | 0.102 | 0.000 | 0.103 | |
| create_design | 0.264 | 0.020 | 0.305 | |
| default_formula | 6.217 | 0.339 | 6.487 | |
| default_geom | 0.153 | 0.013 | 0.171 | |
| default_sfile | 0.000 | 0.000 | 0.001 | |
| demultiplex | 0.003 | 0.001 | 0.004 | |
| densities | 0.072 | 0.005 | 0.077 | |
| dequantify | 0.000 | 0.000 | 0.001 | |
| dequantify_compounddiscoverer | 0 | 0 | 0 | |
| dot-coxph | 0.130 | 0.018 | 0.148 | |
| dot-merge | 0.009 | 0.001 | 0.009 | |
| dot-read_maxquant_proteingroups | 0.046 | 0.004 | 0.050 | |
| download_data | 0.000 | 0.000 | 0.001 | |
| download_gtf | 0 | 0 | 0 | |
| download_mcclain21 | 0.000 | 0.000 | 0.001 | |
| dt2mat | 0.001 | 0.000 | 0.001 | |
| enrichment | 0.340 | 0.011 | 0.363 | |
| entrezg_to_symbol | 0.049 | 0.003 | 0.052 | |
| explore-transforms | 2.952 | 0.022 | 2.977 | |
| extract_contrast_features | 1.312 | 0.018 | 1.342 | |
| extract_rectangle | 0.045 | 0.013 | 0.060 | |
| factor.vars | 0.053 | 0.001 | 0.053 | |
| factorize | 0.215 | 0.003 | 0.219 | |
| fcluster | 2.806 | 0.016 | 2.849 | |
| fcor | 0.496 | 0.010 | 0.508 | |
| fdata | 0.178 | 0.003 | 0.182 | |
| fdr2p | 0.265 | 0.014 | 0.286 | |
| filter_exprs_replicated_in_some_subgroup | 0.289 | 0.014 | 0.305 | |
| filter_features | 0.154 | 0.014 | 0.171 | |
| filter_medoid | 0.179 | 0.001 | 0.180 | |
| filter_samples | 0.150 | 0.014 | 0.164 | |
| fit_survival | 3.231 | 0.064 | 3.303 | |
| fits | 0.088 | 0.001 | 0.089 | |
| fix_xlgenes | 0.000 | 0.000 | 0.001 | |
| flevels | 0.120 | 0.002 | 0.123 | |
| fnames | 0.161 | 0.003 | 0.163 | |
| formula2str | 0 | 0 | 0 | |
| ftype | 2.496 | 0.158 | 2.688 | |
| fvalues | 0.150 | 0.001 | 0.151 | |
| fvars | 0.118 | 0.002 | 0.119 | |
| genome_to_orgdb | 0.000 | 0.000 | 0.001 | |
| group_by_level | 0.001 | 0.000 | 0.000 | |
| guess_compounddiscoverer_quantity | 0.000 | 0.000 | 0.001 | |
| guess_fitsep | 0.128 | 0.002 | 0.130 | |
| guess_maxquant_quantity | 0.002 | 0.000 | 0.002 | |
| guess_sep | 0.141 | 0.012 | 0.153 | |
| has_multiple_levels | 0.016 | 0.001 | 0.016 | |
| hdlproteins | 0.020 | 0.009 | 0.030 | |
| impute | 1.041 | 0.016 | 1.058 | |
| invert_subgroups | 0.176 | 0.002 | 0.178 | |
| is_character_matrix | 0.041 | 0.000 | 0.041 | |
| is_collapsed_subset | 0 | 0 | 0 | |
| is_compounddiscoverer_output | 0.026 | 0.005 | 0.055 | |
| is_correlation_matrix | 0.001 | 0.000 | 0.000 | |
| is_diann_report | 0.047 | 0.005 | 0.045 | |
| is_fastadt | 0.04 | 0.00 | 0.04 | |
| is_file | 0.000 | 0.001 | 0.000 | |
| is_fraction | 0.001 | 0.000 | 0.001 | |
| is_fragpipe_tsv | 0.037 | 0.003 | 0.032 | |
| is_imputed | 0.210 | 0.001 | 0.221 | |
| is_maxquant_phosphosites | 0.030 | 0.002 | 0.030 | |
| is_maxquant_proteingroups | 0.027 | 0.002 | 0.025 | |
| is_positive_number | 0.000 | 0.001 | 0.001 | |
| is_scalar_subset | 0.089 | 0.000 | 0.090 | |
| is_sig | 0.405 | 0.002 | 0.409 | |
| is_valid_formula | 0.013 | 0.000 | 0.014 | |
| keep_estimable_features | 0.243 | 0.015 | 0.264 | |
| label2index | 0.000 | 0.000 | 0.001 | |
| list2mat | 0 | 0 | 0 | |
| log2counts | 0.091 | 0.001 | 0.091 | |
| log2cpm | 0.090 | 0.001 | 0.090 | |
| log2diffs | 0.095 | 0.002 | 0.097 | |
| log2proteins | 0.119 | 0.002 | 0.122 | |
| log2sites | 0.097 | 0.003 | 0.099 | |
| log2tpm | 0.087 | 0.000 | 0.087 | |
| log2transform | 1.572 | 0.022 | 1.657 | |
| logical2factor | 0.000 | 0.001 | 0.000 | |
| make_alpha_palette | 0.155 | 0.012 | 0.168 | |
| make_colors | 0.004 | 0.001 | 0.005 | |
| make_volcano_dt | 0.264 | 0.003 | 0.284 | |
| map_fvalues | 0.115 | 0.002 | 0.132 | |
| matrix2sumexp | 0.325 | 0.015 | 0.340 | |
| mclust_breaks | 0.203 | 0.021 | 0.224 | |
| merge_sample_file | 0.152 | 0.004 | 0.156 | |
| merge_sdata | 0.199 | 0.020 | 0.221 | |
| message_df | 0.001 | 0.000 | 0.001 | |
| model_coefs | 0.218 | 0.014 | 0.238 | |
| modelvar | 0.985 | 0.016 | 1.005 | |
| object1 | 0.162 | 0.001 | 0.168 | |
| order_on_p | 0.404 | 0.015 | 0.419 | |
| overall_parameters | 0.009 | 0.000 | 0.010 | |
| pca | 1.037 | 0.017 | 1.077 | |
| pg_to_canonical | 0.002 | 0.000 | 0.002 | |
| plot_coef_densities | 0.422 | 0.015 | 0.439 | |
| plot_contrast_venn | 0.699 | 0.016 | 0.718 | |
| plot_contrastogram | 1.003 | 0.043 | 1.072 | |
| plot_data | 0.545 | 0.016 | 0.565 | |
| plot_densities | 3.374 | 0.130 | 3.553 | |
| plot_design | 0.231 | 0.003 | 0.233 | |
| plot_detections | 2.415 | 0.013 | 2.442 | |
| plot_exprs | 6.565 | 0.036 | 6.655 | |
| plot_exprs_per_coef | 5.392 | 0.038 | 5.549 | |
| plot_fit_summary | 0.634 | 0.017 | 0.655 | |
| plot_heatmap | 0.532 | 0.002 | 0.543 | |
| plot_matrix | 0.161 | 0.014 | 0.179 | |
| plot_subgroup_points | 1.650 | 0.020 | 1.682 | |
| plot_summary | 3.680 | 0.019 | 3.718 | |
| plot_venn | 0.009 | 0.001 | 0.008 | |
| plot_venn_heatmap | 0.007 | 0.000 | 0.007 | |
| plot_violins | 1.498 | 0.045 | 1.548 | |
| plot_volcano | 3.943 | 0.028 | 3.983 | |
| plot_xy_density | 1.894 | 0.009 | 1.918 | |
| preprocess_rnaseq_counts | 0.123 | 0.001 | 0.124 | |
| pull_columns | 0 | 0 | 0 | |
| pvalues_estimable | 0.011 | 0.001 | 0.012 | |
| read_affymetrix | 0 | 0 | 0 | |
| read_diann_proteingroups | 33.138 | 0.883 | 33.331 | |
| read_fragpipe | 2.608 | 0.123 | 2.718 | |
| read_maxquant_phosphosites | 0.473 | 0.008 | 0.482 | |
| read_maxquant_proteingroups | 0.378 | 0.005 | 0.400 | |
| read_metabolon | 3.806 | 0.038 | 4.065 | |
| read_msigdt | 0.001 | 0.000 | 0.000 | |
| read_olink | 0.518 | 0.026 | 0.616 | |
| read_rectangles | 0.063 | 0.007 | 0.070 | |
| read_rnaseq_counts | 9.686 | 0.764 | 10.530 | |
| read_salmon | 0.000 | 0.000 | 0.001 | |
| read_somascan | 3.864 | 0.011 | 3.905 | |
| read_uniprotdt | 0.101 | 0.009 | 0.111 | |
| reset_fit | 1.381 | 0.027 | 1.515 | |
| rm_diann_contaminants | 7.359 | 0.188 | 7.346 | |
| rm_missing_in_some_samples | 0.150 | 0.013 | 0.167 | |
| rm_unmatched_samples | 0.215 | 0.002 | 0.217 | |
| sbind | 1.501 | 0.060 | 1.589 | |
| scaledlibsizes | 0.093 | 0.001 | 0.094 | |
| scoremat | 0.277 | 0.013 | 0.298 | |
| slevels | 0.124 | 0.001 | 0.127 | |
| snames | 0.125 | 0.001 | 0.127 | |
| split_extract_fixed | 0.185 | 0.013 | 0.249 | |
| split_samples | 0.379 | 0.019 | 0.406 | |
| stepauc | 0.102 | 0.001 | 0.103 | |
| stri_any_regex | 0.000 | 0.000 | 0.001 | |
| stri_detect_fixed_in_collapsed | 0.107 | 0.003 | 0.117 | |
| subgroup_matrix | 0.191 | 0.017 | 0.236 | |
| subtract_baseline | 1.550 | 0.025 | 1.631 | |
| sumexp_to_longdt | 0.613 | 0.029 | 0.650 | |
| sumexp_to_tsv | 0.150 | 0.002 | 0.153 | |
| sumexplist_to_longdt | 0.512 | 0.009 | 0.520 | |
| summarize_fit | 0.502 | 0.020 | 0.536 | |
| survobj | 0.042 | 0.000 | 0.041 | |
| svalues | 0.160 | 0.002 | 0.162 | |
| svars | 0.129 | 0.002 | 0.133 | |
| systematic_nas | 0.156 | 0.001 | 0.161 | |
| tag_features | 0.461 | 0.013 | 0.486 | |
| tag_hdlproteins | 0.167 | 0.008 | 0.183 | |
| taxon2org | 0.000 | 0.000 | 0.001 | |
| tpm | 0.143 | 0.001 | 0.144 | |
| uncollapse | 0.009 | 0.001 | 0.010 | |
| values | 0.131 | 0.002 | 0.134 | |
| varlevels_dont_clash | 0.009 | 0.000 | 0.017 | |
| venn_detects | 0.199 | 0.002 | 0.202 | |
| weights | 0.104 | 0.002 | 0.111 | |
| write_xl | 52.590 | 2.310 | 57.147 | |
| zero_to_na | 0.001 | 0.000 | 0.001 | |