| Back to Multiple platform build/check report for BioC 3.22: simplified long | 
  | 
This page was generated on 2025-11-03 12:02 -0500 (Mon, 03 Nov 2025).
| Hostname | OS | Arch (*) | R version | Installed pkgs | 
|---|---|---|---|---|
| nebbiolo2 | Linux (Ubuntu 24.04.3 LTS) | x86_64 | 4.5.1 Patched (2025-08-23 r88802) -- "Great Square Root" | 4902 | 
| lconway | macOS 12.7.6 Monterey | x86_64 | 4.5.1 Patched (2025-09-10 r88807) -- "Great Square Root" | 4692 | 
| kjohnson3 | macOS 13.7.7 Ventura | arm64 | 4.5.1 Patched (2025-09-10 r88807) -- "Great Square Root" | 4638 | 
| Click on any hostname to see more info about the system (e.g. compilers) (*) as reported by 'uname -p', except on Windows and Mac OS X | ||||
| Package 119/2361 | Hostname | OS / Arch | INSTALL | BUILD | CHECK | BUILD BIN | ||||||||
| autonomics 1.18.0  (landing page) Aditya Bhagwat 
  | nebbiolo2 | Linux (Ubuntu 24.04.3 LTS) / x86_64 | OK | OK | OK | |||||||||
| lconway | macOS 12.7.6 Monterey / x86_64 | OK | OK | OK | OK | |||||||||
| kjohnson3 | macOS 13.7.7 Ventura / arm64 | OK | OK | OK | OK | |||||||||
| 
To the developers/maintainers of the autonomics package: - Allow up to 24 hours (and sometimes 48 hours) for your latest push to git@git.bioconductor.org:packages/autonomics.git to reflect on this report. See Troubleshooting Build Report for more information. - Use the following Renviron settings to reproduce errors and warnings. - If 'R CMD check' started to fail recently on the Linux builder(s) over a missing dependency, add the missing dependency to 'Suggests:' in your DESCRIPTION file. See Renviron.bioc for more information.  | 
| Package: autonomics | 
| Version: 1.18.0 | 
| Command: /home/biocbuild/bbs-3.22-bioc/R/bin/R CMD check --install=check:autonomics.install-out.txt --library=/home/biocbuild/bbs-3.22-bioc/R/site-library --timings autonomics_1.18.0.tar.gz | 
| StartedAt: 2025-11-02 21:24:35 -0500 (Sun, 02 Nov 2025) | 
| EndedAt: 2025-11-02 21:44:06 -0500 (Sun, 02 Nov 2025) | 
| EllapsedTime: 1170.2 seconds | 
| RetCode: 0 | 
| Status: OK | 
| CheckDir: autonomics.Rcheck | 
| Warnings: 0 | 
##############################################################################
##############################################################################
###
### Running command:
###
###   /home/biocbuild/bbs-3.22-bioc/R/bin/R CMD check --install=check:autonomics.install-out.txt --library=/home/biocbuild/bbs-3.22-bioc/R/site-library --timings autonomics_1.18.0.tar.gz
###
##############################################################################
##############################################################################
* using log directory ‘/home/biocbuild/bbs-3.22-bioc/meat/autonomics.Rcheck’
* using R version 4.5.1 Patched (2025-08-23 r88802)
* using platform: x86_64-pc-linux-gnu
* R was compiled by
    gcc (Ubuntu 13.3.0-6ubuntu2~24.04) 13.3.0
    GNU Fortran (Ubuntu 13.3.0-6ubuntu2~24.04) 13.3.0
* running under: Ubuntu 24.04.3 LTS
* using session charset: UTF-8
* checking for file ‘autonomics/DESCRIPTION’ ... OK
* checking extension type ... Package
* this is package ‘autonomics’ version ‘1.18.0’
* package encoding: UTF-8
* checking package namespace information ... OK
* checking package dependencies ... INFO
Imports includes 32 non-default packages.
Importing from so many packages makes the package vulnerable to any of
them becoming unavailable.  Move as many as possible to Suggests and
use conditionally.
* checking if this is a source package ... OK
* checking if there is a namespace ... OK
* checking for hidden files and directories ... NOTE
Found the following hidden files and directories:
  .BBSoptions
These were most likely included in error. See section ‘Package
structure’ in the ‘Writing R Extensions’ manual.
* checking for portable file names ... OK
* checking for sufficient/correct file permissions ... OK
* checking whether package ‘autonomics’ can be installed ... OK
* checking installed package size ... OK
* checking package directory ... OK
* checking ‘build’ directory ... OK
* checking DESCRIPTION meta-information ... OK
* checking top-level files ... OK
* checking for left-over files ... OK
* checking index information ... OK
* checking package subdirectories ... OK
* checking code files for non-ASCII characters ... OK
* checking R files for syntax errors ... OK
* checking whether the package can be loaded ... OK
* checking whether the package can be loaded with stated dependencies ... OK
* checking whether the package can be unloaded cleanly ... OK
* checking whether the namespace can be loaded with stated dependencies ... OK
* checking whether the namespace can be unloaded cleanly ... OK
* checking loading without being on the library search path ... OK
* checking dependencies in R code ... OK
* checking S3 generic/method consistency ... OK
* checking replacement functions ... OK
* checking foreign function calls ... OK
* checking R code for possible problems ... OK
* checking Rd files ... OK
* checking Rd metadata ... OK
* checking Rd cross-references ... NOTE
Non-topic package-anchored link(s) in Rd file 'reexports.Rd':
  ‘[magrittr:compound]{%<>%}’ ‘[magrittr:pipe]{%>%}’
  ‘[magrittr:aliases]{extract}’
See section 'Cross-references' in the 'Writing R Extensions' manual.
* checking for missing documentation entries ... OK
* checking for code/documentation mismatches ... OK
* checking Rd \usage sections ... OK
* checking Rd contents ... OK
* checking for unstated dependencies in examples ... OK
* checking files in ‘vignettes’ ... OK
* checking examples ... OK
Examples with CPU (user + system) or elapsed time > 5s
                            user system elapsed
write_xl                 157.430  1.822 159.246
read_diann_proteingroups  99.755  0.863  95.925
awblinmod                 42.111  0.188  40.940
read_rnaseq_counts        29.263  0.959  29.990
LINMOD                    23.731  0.343  23.416
rm_diann_contaminants     21.590  0.276  20.524
plot_exprs                19.368  0.051  19.336
default_formula           18.553  0.309  18.451
plot_exprs_per_coef       18.560  0.124  18.613
read_somascan             13.777  0.022  13.687
analyze                   13.121  0.109  13.138
read_metabolon            12.912  0.026  12.817
plot_volcano              12.603  0.030  12.550
plot_summary              12.291  0.014  12.199
plot_densities            11.054  0.120  11.050
fit_survival              10.372  0.023  10.397
explore-transforms         9.769  0.083   9.855
fcluster                   8.941  0.054   8.941
ftype                      7.830  0.066   7.603
biplot_covariates          6.894  0.004   6.877
plot_detections            6.892  0.003   6.851
plot_xy_density            5.777  0.013   5.790
read_fragpipe              5.586  0.030   5.349
plot_subgroup_points       5.440  0.056   5.441
log2transform              5.045  0.056   5.103
* checking for unstated dependencies in ‘tests’ ... OK
* checking tests ...
  Running ‘testthat.R’
 OK
* checking for unstated dependencies in vignettes ... OK
* checking package vignettes ... OK
* checking re-building of vignette outputs ... OK
* checking PDF version of manual ... OK
* DONE
Status: 2 NOTEs
See
  ‘/home/biocbuild/bbs-3.22-bioc/meat/autonomics.Rcheck/00check.log’
for details.
autonomics.Rcheck/00install.out
############################################################################## ############################################################################## ### ### Running command: ### ### /home/biocbuild/bbs-3.22-bioc/R/bin/R CMD INSTALL autonomics ### ############################################################################## ############################################################################## * installing to library ‘/home/biocbuild/bbs-3.22-bioc/R/site-library’ * installing *source* package ‘autonomics’ ... ** this is package ‘autonomics’ version ‘1.18.0’ ** using staged installation ** R ** inst ** byte-compile and prepare package for lazy loading Note: wrong number of arguments to 'seq_along' Note: wrong number of arguments to 'sqrt' ** help *** installing help indices ** building package indices ** installing vignettes ** testing if installed package can be loaded from temporary location ** testing if installed package can be loaded from final location ** testing if installed package keeps a record of temporary installation path * DONE (autonomics)
autonomics.Rcheck/tests/testthat.Rout
R version 4.5.1 Patched (2025-08-23 r88802) -- "Great Square Root"
Copyright (C) 2025 The R Foundation for Statistical Computing
Platform: x86_64-pc-linux-gnu
R is free software and comes with ABSOLUTELY NO WARRANTY.
You are welcome to redistribute it under certain conditions.
Type 'license()' or 'licence()' for distribution details.
R is a collaborative project with many contributors.
Type 'contributors()' for more information and
'citation()' on how to cite R or R packages in publications.
Type 'demo()' for some demos, 'help()' for on-line help, or
'help.start()' for an HTML browser interface to help.
Type 'q()' to quit R.
> library(testthat)
> library(autonomics)
Attaching package: 'autonomics'
The following objects are masked from 'package:stats':
    biplot, loadings
The following object is masked from 'package:base':
    beta
> 
> test_check("autonomics")
[ FAIL 0 | WARN 3 | SKIP 0 | PASS 158 ]
[ FAIL 0 | WARN 3 | SKIP 0 | PASS 158 ]
> 
> proc.time()
   user  system elapsed 
141.701   3.889 143.261 
autonomics.Rcheck/autonomics-Ex.timings
| name | user | system | elapsed | |
| AUTONOMICS_DATASETS | 0.001 | 0.000 | 0.000 | |
| COMPOUNDDISCOVERER_PATTERNS | 0 | 0 | 0 | |
| LINMOD | 23.731 | 0.343 | 23.416 | |
| LINMODENGINES | 0 | 0 | 0 | |
| MAXQUANT_PATTERNS | 0 | 0 | 0 | |
| TAXON_TO_ORGNAME | 0 | 0 | 0 | |
| TESTS | 0.000 | 0.001 | 0.000 | |
| X | 1.167 | 0.019 | 1.153 | |
| abstract_fit | 0.963 | 0.009 | 0.951 | |
| add_adjusted_pvalues | 0.495 | 0.009 | 0.505 | |
| add_assay_means | 0.339 | 0.016 | 0.356 | |
| add_facetvars | 1.378 | 0.062 | 1.420 | |
| add_opentargets_by_uniprot | 0.382 | 0.004 | 0.389 | |
| add_psp | 0.464 | 0.002 | 0.467 | |
| add_smiles | 0.458 | 0.006 | 0.437 | |
| all_non_numeric | 0.560 | 0.001 | 0.561 | |
| analysis | 0.355 | 0.010 | 0.366 | |
| analyze | 13.121 | 0.109 | 13.138 | |
| annotate_maxquant | 1.049 | 0.032 | 1.081 | |
| annotate_uniprot_rest | 0.372 | 0.024 | 2.146 | |
| assert_is_valid_sumexp | 0.562 | 0.009 | 0.531 | |
| awblinmod | 42.111 | 0.188 | 40.940 | |
| biplot | 3.731 | 0.007 | 3.715 | |
| biplot_corrections | 3.422 | 0.005 | 3.391 | |
| biplot_covariates | 6.894 | 0.004 | 6.877 | |
| block2limma | 0.001 | 0.001 | 0.001 | |
| block2lm | 0.003 | 0.000 | 0.002 | |
| block2lme | 0.002 | 0.000 | 0.002 | |
| block2lmer | 0.003 | 0.000 | 0.003 | |
| block_has_two_levels | 0.683 | 0.008 | 0.721 | |
| center | 1.755 | 0.002 | 1.756 | |
| code | 4.697 | 0.038 | 4.710 | |
| collapsed_entrezg_to_symbol | 0.892 | 0.042 | 0.935 | |
| contrast_subgroup_cols | 0.611 | 0.006 | 0.595 | |
| contrastdt | 0.554 | 0.001 | 0.556 | |
| count_in | 0.001 | 0.000 | 0.000 | |
| counts | 0.337 | 0.001 | 0.338 | |
| counts2cpm | 0.344 | 0.001 | 0.345 | |
| counts2tpm | 0.276 | 0.000 | 0.276 | |
| cpm | 0.328 | 0.000 | 0.328 | |
| create_design | 0.788 | 0.006 | 0.771 | |
| default_formula | 18.553 | 0.309 | 18.451 | |
| default_geom | 0.473 | 0.005 | 0.460 | |
| default_sfile | 0.001 | 0.000 | 0.001 | |
| demultiplex | 0.013 | 0.000 | 0.013 | |
| densities | 0.209 | 0.003 | 0.212 | |
| dequantify | 0.003 | 0.000 | 0.002 | |
| dequantify_compounddiscoverer | 0.001 | 0.000 | 0.001 | |
| dot-coxph | 0.360 | 0.009 | 0.369 | |
| dot-merge | 0.022 | 0.000 | 0.022 | |
| dot-read_maxquant_proteingroups | 0.112 | 0.000 | 0.112 | |
| download_data | 0 | 0 | 0 | |
| download_gtf | 0 | 0 | 0 | |
| download_mcclain21 | 0 | 0 | 0 | |
| dt2mat | 0.003 | 0.000 | 0.003 | |
| enrichment | 1.119 | 0.002 | 1.122 | |
| entrezg_to_symbol | 0.129 | 0.000 | 0.129 | |
| explore-transforms | 9.769 | 0.083 | 9.855 | |
| extract_contrast_features | 4.400 | 0.067 | 4.433 | |
| extract_rectangle | 0.100 | 0.010 | 0.111 | |
| factor.vars | 0.168 | 0.001 | 0.169 | |
| factorize | 0.758 | 0.002 | 0.759 | |
| fcluster | 8.941 | 0.054 | 8.941 | |
| fcor | 1.494 | 0.004 | 1.498 | |
| fdata | 0.530 | 0.004 | 0.534 | |
| fdr2p | 0.909 | 0.007 | 0.883 | |
| filter_exprs_replicated_in_some_subgroup | 1.034 | 0.006 | 0.924 | |
| filter_features | 0.484 | 0.010 | 0.471 | |
| filter_medoid | 0.560 | 0.002 | 0.562 | |
| filter_samples | 0.475 | 0.012 | 0.466 | |
| fit_survival | 10.372 | 0.023 | 10.397 | |
| fits | 0.298 | 0.000 | 0.298 | |
| fix_xlgenes | 0.002 | 0.000 | 0.001 | |
| flevels | 0.364 | 0.002 | 0.366 | |
| fnames | 0.430 | 0.002 | 0.433 | |
| formula2str | 0 | 0 | 0 | |
| ftype | 7.830 | 0.066 | 7.603 | |
| fvalues | 0.430 | 0.002 | 0.433 | |
| fvars | 0.362 | 0.001 | 0.363 | |
| genome_to_orgdb | 0.001 | 0.000 | 0.001 | |
| group_by_level | 0.000 | 0.000 | 0.001 | |
| guess_compounddiscoverer_quantity | 0.000 | 0.000 | 0.001 | |
| guess_fitsep | 0.445 | 0.000 | 0.445 | |
| guess_maxquant_quantity | 0.005 | 0.000 | 0.005 | |
| guess_sep | 0.511 | 0.004 | 0.492 | |
| has_multiple_levels | 0.054 | 0.002 | 0.056 | |
| hdlproteins | 0.037 | 0.004 | 0.045 | |
| impute | 3.357 | 0.023 | 3.380 | |
| invert_subgroups | 0.593 | 0.000 | 0.592 | |
| is_character_matrix | 0.183 | 0.000 | 0.182 | |
| is_collapsed_subset | 0.001 | 0.000 | 0.000 | |
| is_compounddiscoverer_output | 0.106 | 0.026 | 0.207 | |
| is_correlation_matrix | 0.002 | 0.000 | 0.002 | |
| is_diann_report | 0.156 | 0.007 | 0.130 | |
| is_fastadt | 0.064 | 0.000 | 0.061 | |
| is_file | 0.000 | 0.000 | 0.001 | |
| is_fraction | 0.001 | 0.000 | 0.002 | |
| is_fragpipe_tsv | 0.090 | 0.003 | 0.066 | |
| is_imputed | 0.661 | 0.002 | 0.658 | |
| is_maxquant_phosphosites | 0.077 | 0.003 | 0.061 | |
| is_maxquant_proteingroups | 0.071 | 0.003 | 0.057 | |
| is_positive_number | 0.001 | 0.000 | 0.002 | |
| is_scalar_subset | 0.299 | 0.001 | 0.301 | |
| is_sig | 1.337 | 0.002 | 1.340 | |
| is_valid_formula | 0.042 | 0.000 | 0.042 | |
| keep_estimable_features | 0.837 | 0.010 | 0.798 | |
| label2index | 0.001 | 0.000 | 0.001 | |
| list2mat | 0.001 | 0.000 | 0.001 | |
| log2counts | 0.310 | 0.001 | 0.312 | |
| log2cpm | 0.295 | 0.000 | 0.295 | |
| log2diffs | 0.334 | 0.001 | 0.336 | |
| log2proteins | 0.31 | 0.00 | 0.31 | |
| log2sites | 0.310 | 0.001 | 0.311 | |
| log2tpm | 0.295 | 0.000 | 0.296 | |
| log2transform | 5.045 | 0.056 | 5.103 | |
| logical2factor | 0.001 | 0.000 | 0.002 | |
| make_alpha_palette | 0.506 | 0.004 | 0.487 | |
| make_colors | 0.010 | 0.000 | 0.009 | |
| make_volcano_dt | 0.839 | 0.002 | 0.841 | |
| map_fvalues | 0.375 | 0.001 | 0.375 | |
| matrix2sumexp | 0.986 | 0.005 | 0.968 | |
| mclust_breaks | 0.498 | 0.018 | 0.517 | |
| merge_sample_file | 0.458 | 0.004 | 0.462 | |
| merge_sdata | 0.628 | 0.003 | 0.609 | |
| message_df | 0.002 | 0.000 | 0.003 | |
| model_coefs | 0.708 | 0.008 | 0.695 | |
| modelvar | 3.373 | 0.076 | 3.394 | |
| object1 | 0.496 | 0.001 | 0.497 | |
| order_on_p | 1.353 | 0.006 | 1.319 | |
| overall_parameters | 0.025 | 0.001 | 0.026 | |
| pca | 3.239 | 0.011 | 3.219 | |
| pg_to_canonical | 0.005 | 0.000 | 0.006 | |
| plot_coef_densities | 1.391 | 0.006 | 1.358 | |
| plot_contrast_venn | 2.509 | 0.050 | 2.443 | |
| plot_contrastogram | 3.057 | 0.024 | 2.996 | |
| plot_data | 1.739 | 0.008 | 1.725 | |
| plot_densities | 11.054 | 0.120 | 11.050 | |
| plot_design | 0.674 | 0.004 | 0.678 | |
| plot_detections | 6.892 | 0.003 | 6.851 | |
| plot_exprs | 19.368 | 0.051 | 19.336 | |
| plot_exprs_per_coef | 18.560 | 0.124 | 18.613 | |
| plot_fit_summary | 2.137 | 0.011 | 2.096 | |
| plot_heatmap | 1.768 | 0.009 | 1.777 | |
| plot_matrix | 0.507 | 0.008 | 0.485 | |
| plot_subgroup_points | 5.440 | 0.056 | 5.441 | |
| plot_summary | 12.291 | 0.014 | 12.199 | |
| plot_venn | 0.016 | 0.000 | 0.016 | |
| plot_venn_heatmap | 0.021 | 0.000 | 0.021 | |
| plot_violins | 4.584 | 0.022 | 4.585 | |
| plot_volcano | 12.603 | 0.030 | 12.550 | |
| plot_xy_density | 5.777 | 0.013 | 5.790 | |
| preprocess_rnaseq_counts | 0.341 | 0.005 | 0.345 | |
| pull_columns | 0.002 | 0.000 | 0.002 | |
| pvalues_estimable | 0.034 | 0.000 | 0.035 | |
| read_affymetrix | 0 | 0 | 0 | |
| read_diann_proteingroups | 99.755 | 0.863 | 95.925 | |
| read_fragpipe | 5.586 | 0.030 | 5.349 | |
| read_maxquant_phosphosites | 1.468 | 0.005 | 1.473 | |
| read_maxquant_proteingroups | 1.241 | 0.001 | 1.241 | |
| read_metabolon | 12.912 | 0.026 | 12.817 | |
| read_msigdt | 0.000 | 0.000 | 0.001 | |
| read_olink | 1.396 | 0.056 | 1.365 | |
| read_rectangles | 0.177 | 0.005 | 0.182 | |
| read_rnaseq_counts | 29.263 | 0.959 | 29.990 | |
| read_salmon | 0 | 0 | 0 | |
| read_somascan | 13.777 | 0.022 | 13.687 | |
| read_uniprotdt | 0.290 | 0.003 | 0.292 | |
| reset_fit | 4.865 | 0.017 | 4.765 | |
| rm_diann_contaminants | 21.590 | 0.276 | 20.524 | |
| rm_missing_in_some_samples | 0.460 | 0.007 | 0.443 | |
| rm_unmatched_samples | 0.626 | 0.001 | 0.627 | |
| sbind | 3.898 | 0.006 | 3.904 | |
| scaledlibsizes | 0.343 | 0.020 | 0.363 | |
| scoremat | 0.781 | 0.004 | 0.754 | |
| slevels | 0.365 | 0.001 | 0.366 | |
| snames | 0.409 | 0.000 | 0.409 | |
| split_extract_fixed | 0.460 | 0.005 | 0.444 | |
| split_samples | 1.245 | 0.005 | 1.228 | |
| stepauc | 0.296 | 0.002 | 0.298 | |
| stri_any_regex | 0.001 | 0.000 | 0.001 | |
| stri_detect_fixed_in_collapsed | 0.36 | 0.00 | 0.36 | |
| subgroup_matrix | 0.505 | 0.006 | 0.488 | |
| subtract_baseline | 4.728 | 0.069 | 4.747 | |
| sumexp_to_longdt | 1.904 | 0.025 | 1.832 | |
| sumexp_to_tsv | 0.500 | 0.002 | 0.501 | |
| sumexplist_to_longdt | 1.457 | 0.003 | 1.458 | |
| summarize_fit | 1.703 | 0.005 | 1.585 | |
| survobj | 0.137 | 0.000 | 0.138 | |
| svalues | 0.425 | 0.002 | 0.428 | |
| svars | 0.378 | 0.001 | 0.379 | |
| systematic_nas | 0.507 | 0.002 | 0.508 | |
| tag_features | 0.974 | 0.005 | 0.979 | |
| tag_hdlproteins | 0.501 | 0.013 | 0.514 | |
| taxon2org | 0.001 | 0.000 | 0.002 | |
| tpm | 0.394 | 0.024 | 0.418 | |
| uncollapse | 0.028 | 0.001 | 0.029 | |
| values | 0.402 | 0.012 | 0.413 | |
| varlevels_dont_clash | 0.024 | 0.000 | 0.023 | |
| venn_detects | 0.528 | 0.004 | 0.533 | |
| weights | 0.355 | 0.000 | 0.355 | |
| write_xl | 157.430 | 1.822 | 159.246 | |
| zero_to_na | 0.000 | 0.002 | 0.002 | |