| Back to Multiple platform build/check report for BioC 3.21: simplified long |
|
This page was generated on 2025-08-18 11:42 -0400 (Mon, 18 Aug 2025).
| Hostname | OS | Arch (*) | R version | Installed pkgs |
|---|---|---|---|---|
| nebbiolo1 | Linux (Ubuntu 24.04.3 LTS) | x86_64 | 4.5.1 (2025-06-13) -- "Great Square Root" | 4824 |
| palomino7 | Windows Server 2022 Datacenter | x64 | 4.5.1 (2025-06-13 ucrt) -- "Great Square Root" | 4566 |
| merida1 | macOS 12.7.5 Monterey | x86_64 | 4.5.1 RC (2025-06-05 r88288) -- "Great Square Root" | 4604 |
| kjohnson1 | macOS 13.6.6 Ventura | arm64 | 4.5.1 Patched (2025-06-14 r88325) -- "Great Square Root" | 4545 |
| kunpeng2 | Linux (openEuler 24.03 LTS) | aarch64 | R Under development (unstable) (2025-02-19 r87757) -- "Unsuffered Consequences" | 4579 |
| Click on any hostname to see more info about the system (e.g. compilers) (*) as reported by 'uname -p', except on Windows and Mac OS X | ||||
| Package 1924/2341 | Hostname | OS / Arch | INSTALL | BUILD | CHECK | BUILD BIN | ||||||||
| Sconify 1.28.0 (landing page) Tyler J Burns
| nebbiolo1 | Linux (Ubuntu 24.04.3 LTS) / x86_64 | OK | OK | OK | |||||||||
| palomino7 | Windows Server 2022 Datacenter / x64 | OK | OK | OK | OK | |||||||||
| merida1 | macOS 12.7.5 Monterey / x86_64 | OK | OK | OK | OK | |||||||||
| kjohnson1 | macOS 13.6.6 Ventura / arm64 | OK | OK | OK | OK | |||||||||
| kunpeng2 | Linux (openEuler 24.03 LTS) / aarch64 | OK | OK | OK | ||||||||||
|
To the developers/maintainers of the Sconify package: - Allow up to 24 hours (and sometimes 48 hours) for your latest push to git@git.bioconductor.org:packages/Sconify.git to reflect on this report. See Troubleshooting Build Report for more information. - Use the following Renviron settings to reproduce errors and warnings. - If 'R CMD check' started to fail recently on the Linux builder(s) over a missing dependency, add the missing dependency to 'Suggests:' in your DESCRIPTION file. See Renviron.bioc for more information. |
| Package: Sconify |
| Version: 1.28.0 |
| Command: E:\biocbuild\bbs-3.21-bioc\R\bin\R.exe CMD check --no-multiarch --install=check:Sconify.install-out.txt --library=E:\biocbuild\bbs-3.21-bioc\R\library --no-vignettes --timings Sconify_1.28.0.tar.gz |
| StartedAt: 2025-08-15 06:39:44 -0400 (Fri, 15 Aug 2025) |
| EndedAt: 2025-08-15 06:42:11 -0400 (Fri, 15 Aug 2025) |
| EllapsedTime: 147.3 seconds |
| RetCode: 0 |
| Status: OK |
| CheckDir: Sconify.Rcheck |
| Warnings: 0 |
##############################################################################
##############################################################################
###
### Running command:
###
### E:\biocbuild\bbs-3.21-bioc\R\bin\R.exe CMD check --no-multiarch --install=check:Sconify.install-out.txt --library=E:\biocbuild\bbs-3.21-bioc\R\library --no-vignettes --timings Sconify_1.28.0.tar.gz
###
##############################################################################
##############################################################################
* using log directory 'E:/biocbuild/bbs-3.21-bioc/meat/Sconify.Rcheck'
* using R version 4.5.1 (2025-06-13 ucrt)
* using platform: x86_64-w64-mingw32
* R was compiled by
gcc.exe (GCC) 14.2.0
GNU Fortran (GCC) 14.2.0
* running under: Windows Server 2022 x64 (build 20348)
* using session charset: UTF-8
* using option '--no-vignettes'
* checking for file 'Sconify/DESCRIPTION' ... OK
* checking extension type ... Package
* this is package 'Sconify' version '1.28.0'
* package encoding: UTF-8
* checking package namespace information ... OK
* checking package dependencies ... OK
* checking if this is a source package ... OK
* checking if there is a namespace ... OK
* checking for hidden files and directories ... OK
* checking for portable file names ... OK
* checking whether package 'Sconify' can be installed ... OK
* checking installed package size ... OK
* checking package directory ... OK
* checking 'build' directory ... OK
* checking DESCRIPTION meta-information ... OK
* checking top-level files ... OK
* checking for left-over files ... OK
* checking index information ... OK
* checking package subdirectories ... OK
* checking code files for non-ASCII characters ... OK
* checking R files for syntax errors ... OK
* checking whether the package can be loaded ... OK
* checking whether the package can be loaded with stated dependencies ... OK
* checking whether the package can be unloaded cleanly ... OK
* checking whether the namespace can be loaded with stated dependencies ... OK
* checking whether the namespace can be unloaded cleanly ... OK
* checking dependencies in R code ... OK
* checking S3 generic/method consistency ... OK
* checking replacement functions ... OK
* checking foreign function calls ... OK
* checking R code for possible problems ... OK
* checking Rd files ... OK
* checking Rd metadata ... OK
* checking Rd cross-references ... OK
* checking for missing documentation entries ... OK
* checking for code/documentation mismatches ... OK
* checking Rd \usage sections ... OK
* checking Rd contents ... OK
* checking for unstated dependencies in examples ... OK
* checking contents of 'data' directory ... OK
* checking data for non-ASCII characters ... OK
* checking LazyData ... OK
* checking data for ASCII and uncompressed saves ... OK
* checking files in 'vignettes' ... OK
* checking examples ... OK
Examples with CPU (user + system) or elapsed time > 5s
user system elapsed
SconeValues 17.7 0.32 18.03
* checking for unstated dependencies in 'tests' ... OK
* checking tests ...
Running 'testthat.R'
OK
* checking for unstated dependencies in vignettes ... OK
* checking package vignettes ... OK
* checking running R code from vignettes ... SKIPPED
* checking re-building of vignette outputs ... SKIPPED
* checking PDF version of manual ... OK
* DONE
Status: OK
Sconify.Rcheck/00install.out
############################################################################## ############################################################################## ### ### Running command: ### ### E:\biocbuild\bbs-3.21-bioc\R\bin\R.exe CMD INSTALL Sconify ### ############################################################################## ############################################################################## * installing to library 'E:/biocbuild/bbs-3.21-bioc/R/library' * installing *source* package 'Sconify' ... ** this is package 'Sconify' version '1.28.0' ** using staged installation ** R ** data *** moving datasets to lazyload DB ** inst ** byte-compile and prepare package for lazy loading Note: wrong number of arguments to '/' Note: wrong number of arguments to 'asinh' ** help *** installing help indices ** building package indices ** installing vignettes ** testing if installed package can be loaded from temporary location ** testing if installed package can be loaded from final location ** testing if installed package keeps a record of temporary installation path * DONE (Sconify)
Sconify.Rcheck/tests/testthat.Rout
R version 4.5.1 (2025-06-13 ucrt) -- "Great Square Root"
Copyright (C) 2025 The R Foundation for Statistical Computing
Platform: x86_64-w64-mingw32/x64
R is free software and comes with ABSOLUTELY NO WARRANTY.
You are welcome to redistribute it under certain conditions.
Type 'license()' or 'licence()' for distribution details.
R is a collaborative project with many contributors.
Type 'contributors()' for more information and
'citation()' on how to cite R or R packages in publications.
Type 'demo()' for some demos, 'help()' for on-line help, or
'help.start()' for an HTML browser interface to help.
Type 'q()' to quit R.
> library(testthat)
> library(Sconify)
>
> test_check("Sconify")
Read the 100 x 27 data matrix successfully!
OpenMP is working. 1 threads.
Using no_dims = 2, perplexity = 30.000000, and theta = 0.500000
Computing input similarities...
Building tree...
Done in 0.02 seconds (sparsity = 0.966600)!
Learning embedding...
Iteration 50: error is 52.634657 (50 iterations in 0.01 seconds)
Iteration 100: error is 52.384127 (50 iterations in 0.01 seconds)
Iteration 150: error is 58.964229 (50 iterations in 0.01 seconds)
Iteration 200: error is 53.335265 (50 iterations in 0.01 seconds)
Iteration 250: error is 54.518688 (50 iterations in 0.01 seconds)
Iteration 300: error is 1.315463 (50 iterations in 0.01 seconds)
Iteration 350: error is 0.575558 (50 iterations in 0.01 seconds)
Iteration 400: error is 0.329083 (50 iterations in 0.01 seconds)
Iteration 450: error is 0.206261 (50 iterations in 0.01 seconds)
Iteration 500: error is 0.207835 (50 iterations in 0.01 seconds)
Iteration 550: error is 0.207659 (50 iterations in 0.01 seconds)
Iteration 600: error is 0.206930 (50 iterations in 0.01 seconds)
Iteration 650: error is 0.207007 (50 iterations in 0.01 seconds)
Iteration 700: error is 0.205288 (50 iterations in 0.01 seconds)
Iteration 750: error is 0.208513 (50 iterations in 0.01 seconds)
Iteration 800: error is 0.209496 (50 iterations in 0.01 seconds)
Iteration 850: error is 0.207957 (50 iterations in 0.01 seconds)
Iteration 900: error is 0.208385 (50 iterations in 0.01 seconds)
Iteration 950: error is 0.208520 (50 iterations in 0.01 seconds)
Iteration 1000: error is 0.206718 (50 iterations in 0.01 seconds)
Fitting performed in 0.17 seconds.
Read the 1000 x 27 data matrix successfully!
OpenMP is working. 1 threads.
Using no_dims = 2, perplexity = 30.000000, and theta = 0.500000
Computing input similarities...
Building tree...
Done in 0.18 seconds (sparsity = 0.129120)!
Learning embedding...
Iteration 50: error is 66.788082 (50 iterations in 0.26 seconds)
Iteration 100: error is 60.968732 (50 iterations in 0.24 seconds)
Iteration 150: error is 60.342517 (50 iterations in 0.19 seconds)
Iteration 200: error is 60.147834 (50 iterations in 0.18 seconds)
Iteration 250: error is 60.091665 (50 iterations in 0.18 seconds)
Iteration 300: error is 1.331963 (50 iterations in 0.12 seconds)
Iteration 350: error is 1.223090 (50 iterations in 0.16 seconds)
Iteration 400: error is 1.191646 (50 iterations in 0.16 seconds)
Iteration 450: error is 1.179810 (50 iterations in 0.10 seconds)
Iteration 500: error is 1.169953 (50 iterations in 0.10 seconds)
Iteration 550: error is 1.164058 (50 iterations in 0.12 seconds)
Iteration 600: error is 1.159091 (50 iterations in 0.15 seconds)
Iteration 650: error is 1.155642 (50 iterations in 0.16 seconds)
Iteration 700: error is 1.153647 (50 iterations in 0.15 seconds)
Iteration 750: error is 1.150493 (50 iterations in 0.10 seconds)
Iteration 800: error is 1.148554 (50 iterations in 0.10 seconds)
Iteration 850: error is 1.147576 (50 iterations in 0.12 seconds)
Iteration 900: error is 1.144721 (50 iterations in 0.12 seconds)
Iteration 950: error is 1.144132 (50 iterations in 0.13 seconds)
Iteration 1000: error is 1.143145 (50 iterations in 0.16 seconds)
Fitting performed in 3.02 seconds.
[ FAIL 0 | WARN 4 | SKIP 0 | PASS 72 ]
[ FAIL 0 | WARN 4 | SKIP 0 | PASS 72 ]
>
> proc.time()
user system elapsed
24.78 0.98 25.84
Sconify.Rcheck/Sconify-Ex.timings
| name | user | system | elapsed | |
| FcsToTibble | 0.14 | 0.00 | 0.16 | |
| Fnn | 0.61 | 0.56 | 1.28 | |
| GetKnnDe | 0.08 | 0.00 | 0.08 | |
| GetMarkerNames | 0.04 | 0.00 | 0.04 | |
| ImputeTesting | 4.80 | 0.06 | 4.86 | |
| MakeHist | 0.36 | 0.02 | 0.38 | |
| MakeKnnList | 0.25 | 0.02 | 0.26 | |
| MeaningOfLife | 0 | 0 | 0 | |
| ParseMarkers | 0.33 | 0.07 | 1.22 | |
| PostProcessing | 0.12 | 0.00 | 0.13 | |
| ProcessMultipleFiles | 0.16 | 0.00 | 0.18 | |
| QuantNormalizeElements | 0.33 | 0.03 | 0.36 | |
| SconeValues | 17.70 | 0.32 | 18.03 | |
| SplitFile | 0.12 | 0.01 | 0.15 | |
| StringToNumbers | 0 | 0 | 0 | |
| SubsampleAndTsne | 1.86 | 0.00 | 1.85 | |
| TsneVis | 0.27 | 0.00 | 0.27 | |