| Back to Multiple platform build/check report for BioC 3.21: simplified long |
|
This page was generated on 2025-10-16 11:41 -0400 (Thu, 16 Oct 2025).
| Hostname | OS | Arch (*) | R version | Installed pkgs |
|---|---|---|---|---|
| nebbiolo1 | Linux (Ubuntu 24.04.3 LTS) | x86_64 | 4.5.1 (2025-06-13) -- "Great Square Root" | 4833 |
| merida1 | macOS 12.7.6 Monterey | x86_64 | 4.5.1 RC (2025-06-05 r88288) -- "Great Square Root" | 4614 |
| kjohnson1 | macOS 13.7.5 Ventura | arm64 | 4.5.1 Patched (2025-06-14 r88325) -- "Great Square Root" | 4555 |
| kunpeng2 | Linux (openEuler 24.03 LTS) | aarch64 | R Under development (unstable) (2025-02-19 r87757) -- "Unsuffered Consequences" | 4586 |
| Click on any hostname to see more info about the system (e.g. compilers) (*) as reported by 'uname -p', except on Windows and Mac OS X | ||||
| Package 1924/2341 | Hostname | OS / Arch | INSTALL | BUILD | CHECK | BUILD BIN | ||||||||
| Sconify 1.28.1 (landing page) Tyler J Burns
| nebbiolo1 | Linux (Ubuntu 24.04.3 LTS) / x86_64 | OK | OK | OK | |||||||||
| merida1 | macOS 12.7.6 Monterey / x86_64 | OK | OK | OK | OK | |||||||||
| kjohnson1 | macOS 13.7.5 Ventura / arm64 | OK | OK | OK | OK | |||||||||
| kunpeng2 | Linux (openEuler 24.03 LTS) / aarch64 | OK | OK | OK | ||||||||||
|
To the developers/maintainers of the Sconify package: - Allow up to 24 hours (and sometimes 48 hours) for your latest push to git@git.bioconductor.org:packages/Sconify.git to reflect on this report. See Troubleshooting Build Report for more information. - Use the following Renviron settings to reproduce errors and warnings. - If 'R CMD check' started to fail recently on the Linux builder(s) over a missing dependency, add the missing dependency to 'Suggests:' in your DESCRIPTION file. See Renviron.bioc for more information. - See Martin Grigorov's blog post for how to debug Linux ARM64 related issues on a x86_64 host. |
| Package: Sconify |
| Version: 1.28.1 |
| Command: /home/biocbuild/R/R/bin/R CMD check --install=check:Sconify.install-out.txt --library=/home/biocbuild/R/R/site-library --no-vignettes --timings Sconify_1.28.1.tar.gz |
| StartedAt: 2025-10-14 13:58:41 -0000 (Tue, 14 Oct 2025) |
| EndedAt: 2025-10-14 14:01:28 -0000 (Tue, 14 Oct 2025) |
| EllapsedTime: 166.2 seconds |
| RetCode: 0 |
| Status: OK |
| CheckDir: Sconify.Rcheck |
| Warnings: 0 |
##############################################################################
##############################################################################
###
### Running command:
###
### /home/biocbuild/R/R/bin/R CMD check --install=check:Sconify.install-out.txt --library=/home/biocbuild/R/R/site-library --no-vignettes --timings Sconify_1.28.1.tar.gz
###
##############################################################################
##############################################################################
* using log directory ‘/home/biocbuild/bbs-3.21-bioc/meat/Sconify.Rcheck’
* using R Under development (unstable) (2025-02-19 r87757)
* using platform: aarch64-unknown-linux-gnu
* R was compiled by
aarch64-unknown-linux-gnu-gcc (GCC) 14.2.0
GNU Fortran (GCC) 14.2.0
* running under: openEuler 24.03 (LTS-SP1)
* using session charset: UTF-8
* using option ‘--no-vignettes’
* checking for file ‘Sconify/DESCRIPTION’ ... OK
* checking extension type ... Package
* this is package ‘Sconify’ version ‘1.28.1’
* package encoding: UTF-8
* checking package namespace information ... OK
* checking package dependencies ... OK
* checking if this is a source package ... OK
* checking if there is a namespace ... OK
* checking for hidden files and directories ... OK
* checking for portable file names ... OK
* checking for sufficient/correct file permissions ... OK
* checking whether package ‘Sconify’ can be installed ... OK
* checking installed package size ... OK
* checking package directory ... OK
* checking ‘build’ directory ... OK
* checking DESCRIPTION meta-information ... OK
* checking top-level files ... OK
* checking for left-over files ... OK
* checking index information ... OK
* checking package subdirectories ... OK
* checking code files for non-ASCII characters ... OK
* checking R files for syntax errors ... OK
* checking whether the package can be loaded ... OK
* checking whether the package can be loaded with stated dependencies ... OK
* checking whether the package can be unloaded cleanly ... OK
* checking whether the namespace can be loaded with stated dependencies ... OK
* checking whether the namespace can be unloaded cleanly ... OK
* checking loading without being on the library search path ... OK
* checking dependencies in R code ... OK
* checking S3 generic/method consistency ... OK
* checking replacement functions ... OK
* checking foreign function calls ... OK
* checking R code for possible problems ... OK
* checking Rd files ... OK
* checking Rd metadata ... OK
* checking Rd cross-references ... OK
* checking for missing documentation entries ... OK
* checking for code/documentation mismatches ... OK
* checking Rd \usage sections ... OK
* checking Rd contents ... OK
* checking for unstated dependencies in examples ... OK
* checking contents of ‘data’ directory ... OK
* checking data for non-ASCII characters ... OK
* checking LazyData ... OK
* checking data for ASCII and uncompressed saves ... OK
* checking files in ‘vignettes’ ... OK
* checking examples ... OK
Examples with CPU (user + system) or elapsed time > 5s
user system elapsed
SconeValues 17.421 0.147 19.485
ImputeTesting 5.137 0.035 5.430
* checking for unstated dependencies in ‘tests’ ... OK
* checking tests ...
Running ‘testthat.R’
OK
* checking for unstated dependencies in vignettes ... OK
* checking package vignettes ... OK
* checking running R code from vignettes ... SKIPPED
* checking re-building of vignette outputs ... SKIPPED
* checking PDF version of manual ... OK
* DONE
Status: OK
Sconify.Rcheck/00install.out
############################################################################## ############################################################################## ### ### Running command: ### ### /home/biocbuild/R/R/bin/R CMD INSTALL Sconify ### ############################################################################## ############################################################################## * installing to library ‘/home/biocbuild/R/R-devel_2025-02-19/site-library’ * installing *source* package ‘Sconify’ ... ** this is package ‘Sconify’ version ‘1.28.1’ ** using staged installation ** R ** data *** moving datasets to lazyload DB ** inst ** byte-compile and prepare package for lazy loading Note: wrong number of arguments to '/' Note: wrong number of arguments to 'asinh' ** help *** installing help indices ** building package indices ** installing vignettes ** testing if installed package can be loaded from temporary location ** testing if installed package can be loaded from final location ** testing if installed package keeps a record of temporary installation path * DONE (Sconify)
Sconify.Rcheck/tests/testthat.Rout
R Under development (unstable) (2025-02-19 r87757) -- "Unsuffered Consequences"
Copyright (C) 2025 The R Foundation for Statistical Computing
Platform: aarch64-unknown-linux-gnu
R is free software and comes with ABSOLUTELY NO WARRANTY.
You are welcome to redistribute it under certain conditions.
Type 'license()' or 'licence()' for distribution details.
R is a collaborative project with many contributors.
Type 'contributors()' for more information and
'citation()' on how to cite R or R packages in publications.
Type 'demo()' for some demos, 'help()' for on-line help, or
'help.start()' for an HTML browser interface to help.
Type 'q()' to quit R.
> library(testthat)
> library(Sconify)
>
> test_check("Sconify")
Read the 100 x 27 data matrix successfully!
OpenMP is working. 1 threads.
Using no_dims = 2, perplexity = 30.000000, and theta = 0.500000
Computing input similarities...
Building tree...
Done in 0.01 seconds (sparsity = 0.964200)!
Learning embedding...
Iteration 50: error is 51.295045 (50 iterations in 0.01 seconds)
Iteration 100: error is 52.362612 (50 iterations in 0.01 seconds)
Iteration 150: error is 49.702717 (50 iterations in 0.01 seconds)
Iteration 200: error is 51.284531 (50 iterations in 0.01 seconds)
Iteration 250: error is 51.483867 (50 iterations in 0.01 seconds)
Iteration 300: error is 1.432659 (50 iterations in 0.01 seconds)
Iteration 350: error is 0.467060 (50 iterations in 0.01 seconds)
Iteration 400: error is 0.215320 (50 iterations in 0.01 seconds)
Iteration 450: error is 0.195243 (50 iterations in 0.01 seconds)
Iteration 500: error is 0.193280 (50 iterations in 0.01 seconds)
Iteration 550: error is 0.193252 (50 iterations in 0.01 seconds)
Iteration 600: error is 0.193228 (50 iterations in 0.01 seconds)
Iteration 650: error is 0.193254 (50 iterations in 0.01 seconds)
Iteration 700: error is 0.193694 (50 iterations in 0.01 seconds)
Iteration 750: error is 0.194263 (50 iterations in 0.01 seconds)
Iteration 800: error is 0.194577 (50 iterations in 0.01 seconds)
Iteration 850: error is 0.193998 (50 iterations in 0.01 seconds)
Iteration 900: error is 0.193544 (50 iterations in 0.01 seconds)
Iteration 950: error is 0.193813 (50 iterations in 0.01 seconds)
Iteration 1000: error is 0.194147 (50 iterations in 0.01 seconds)
Fitting performed in 0.24 seconds.
Read the 1000 x 27 data matrix successfully!
OpenMP is working. 1 threads.
Using no_dims = 2, perplexity = 30.000000, and theta = 0.500000
Computing input similarities...
Building tree...
Done in 0.16 seconds (sparsity = 0.129120)!
Learning embedding...
Iteration 50: error is 66.840182 (50 iterations in 0.39 seconds)
Iteration 100: error is 60.721722 (50 iterations in 0.33 seconds)
Iteration 150: error is 60.316746 (50 iterations in 0.32 seconds)
Iteration 200: error is 60.184379 (50 iterations in 0.33 seconds)
Iteration 250: error is 60.125407 (50 iterations in 0.33 seconds)
Iteration 300: error is 1.331851 (50 iterations in 0.29 seconds)
Iteration 350: error is 1.226900 (50 iterations in 0.26 seconds)
Iteration 400: error is 1.198194 (50 iterations in 0.26 seconds)
Iteration 450: error is 1.185427 (50 iterations in 0.29 seconds)
Iteration 500: error is 1.175809 (50 iterations in 0.27 seconds)
Iteration 550: error is 1.170019 (50 iterations in 0.26 seconds)
Iteration 600: error is 1.166255 (50 iterations in 0.28 seconds)
Iteration 650: error is 1.162916 (50 iterations in 0.28 seconds)
Iteration 700: error is 1.160544 (50 iterations in 0.29 seconds)
Iteration 750: error is 1.157991 (50 iterations in 0.29 seconds)
Iteration 800: error is 1.155390 (50 iterations in 0.29 seconds)
Iteration 850: error is 1.153599 (50 iterations in 0.27 seconds)
Iteration 900: error is 1.151404 (50 iterations in 0.28 seconds)
Iteration 950: error is 1.149298 (50 iterations in 0.28 seconds)
Iteration 1000: error is 1.148309 (50 iterations in 0.26 seconds)
Fitting performed in 5.87 seconds.
[ FAIL 0 | WARN 2 | SKIP 0 | PASS 72 ]
[ FAIL 0 | WARN 2 | SKIP 0 | PASS 72 ]
>
> proc.time()
user system elapsed
31.065 0.435 35.643
Sconify.Rcheck/Sconify-Ex.timings
| name | user | system | elapsed | |
| FcsToTibble | 0.167 | 0.000 | 0.297 | |
| Fnn | 0.256 | 0.164 | 0.420 | |
| GetKnnDe | 0.100 | 0.004 | 0.105 | |
| GetMarkerNames | 0.031 | 0.008 | 0.038 | |
| ImputeTesting | 5.137 | 0.035 | 5.430 | |
| MakeHist | 0.799 | 0.016 | 0.817 | |
| MakeKnnList | 0.441 | 0.056 | 0.743 | |
| MeaningOfLife | 0 | 0 | 0 | |
| ParseMarkers | 0.309 | 0.033 | 0.470 | |
| PostProcessing | 0.106 | 0.000 | 0.106 | |
| ProcessMultipleFiles | 0.148 | 0.004 | 0.265 | |
| QuantNormalizeElements | 0.264 | 0.005 | 0.397 | |
| SconeValues | 17.421 | 0.147 | 19.485 | |
| SplitFile | 0.106 | 0.000 | 0.106 | |
| StringToNumbers | 0 | 0 | 0 | |
| SubsampleAndTsne | 2.840 | 0.008 | 3.182 | |
| TsneVis | 0.256 | 0.016 | 0.272 | |