| Back to Multiple platform build/check report for BioC 3.21: simplified long |
|
This page was generated on 2025-10-16 11:40 -0400 (Thu, 16 Oct 2025).
| Hostname | OS | Arch (*) | R version | Installed pkgs |
|---|---|---|---|---|
| nebbiolo1 | Linux (Ubuntu 24.04.3 LTS) | x86_64 | 4.5.1 (2025-06-13) -- "Great Square Root" | 4833 |
| merida1 | macOS 12.7.6 Monterey | x86_64 | 4.5.1 RC (2025-06-05 r88288) -- "Great Square Root" | 4614 |
| kjohnson1 | macOS 13.7.5 Ventura | arm64 | 4.5.1 Patched (2025-06-14 r88325) -- "Great Square Root" | 4555 |
| kunpeng2 | Linux (openEuler 24.03 LTS) | aarch64 | R Under development (unstable) (2025-02-19 r87757) -- "Unsuffered Consequences" | 4586 |
| Click on any hostname to see more info about the system (e.g. compilers) (*) as reported by 'uname -p', except on Windows and Mac OS X | ||||
| Package 1924/2341 | Hostname | OS / Arch | INSTALL | BUILD | CHECK | BUILD BIN | ||||||||
| Sconify 1.28.1 (landing page) Tyler J Burns
| nebbiolo1 | Linux (Ubuntu 24.04.3 LTS) / x86_64 | OK | OK | OK | |||||||||
| merida1 | macOS 12.7.6 Monterey / x86_64 | OK | OK | OK | OK | |||||||||
| kjohnson1 | macOS 13.7.5 Ventura / arm64 | OK | OK | OK | OK | |||||||||
| kunpeng2 | Linux (openEuler 24.03 LTS) / aarch64 | OK | OK | OK | ||||||||||
|
To the developers/maintainers of the Sconify package: - Allow up to 24 hours (and sometimes 48 hours) for your latest push to git@git.bioconductor.org:packages/Sconify.git to reflect on this report. See Troubleshooting Build Report for more information. - Use the following Renviron settings to reproduce errors and warnings. - If 'R CMD check' started to fail recently on the Linux builder(s) over a missing dependency, add the missing dependency to 'Suggests:' in your DESCRIPTION file. See Renviron.bioc for more information. |
| Package: Sconify |
| Version: 1.28.1 |
| Command: /Library/Frameworks/R.framework/Resources/bin/R CMD check --install=check:Sconify.install-out.txt --library=/Library/Frameworks/R.framework/Resources/library --no-vignettes --timings Sconify_1.28.1.tar.gz |
| StartedAt: 2025-10-15 11:38:22 -0400 (Wed, 15 Oct 2025) |
| EndedAt: 2025-10-15 11:40:25 -0400 (Wed, 15 Oct 2025) |
| EllapsedTime: 123.9 seconds |
| RetCode: 0 |
| Status: OK |
| CheckDir: Sconify.Rcheck |
| Warnings: 0 |
##############################################################################
##############################################################################
###
### Running command:
###
### /Library/Frameworks/R.framework/Resources/bin/R CMD check --install=check:Sconify.install-out.txt --library=/Library/Frameworks/R.framework/Resources/library --no-vignettes --timings Sconify_1.28.1.tar.gz
###
##############################################################################
##############################################################################
* using log directory ‘/Users/biocbuild/bbs-3.21-bioc/meat/Sconify.Rcheck’
* using R version 4.5.1 Patched (2025-06-14 r88325)
* using platform: aarch64-apple-darwin20
* R was compiled by
Apple clang version 16.0.0 (clang-1600.0.26.6)
GNU Fortran (GCC) 14.2.0
* running under: macOS Ventura 13.7.5
* using session charset: UTF-8
* using option ‘--no-vignettes’
* checking for file ‘Sconify/DESCRIPTION’ ... OK
* checking extension type ... Package
* this is package ‘Sconify’ version ‘1.28.1’
* package encoding: UTF-8
* checking package namespace information ... OK
* checking package dependencies ... OK
* checking if this is a source package ... OK
* checking if there is a namespace ... OK
* checking for hidden files and directories ... OK
* checking for portable file names ... OK
* checking for sufficient/correct file permissions ... OK
* checking whether package ‘Sconify’ can be installed ... OK
* checking installed package size ... OK
* checking package directory ... OK
* checking ‘build’ directory ... OK
* checking DESCRIPTION meta-information ... OK
* checking top-level files ... OK
* checking for left-over files ... OK
* checking index information ... OK
* checking package subdirectories ... OK
* checking code files for non-ASCII characters ... OK
* checking R files for syntax errors ... OK
* checking whether the package can be loaded ... OK
* checking whether the package can be loaded with stated dependencies ... OK
* checking whether the package can be unloaded cleanly ... OK
* checking whether the namespace can be loaded with stated dependencies ... OK
* checking whether the namespace can be unloaded cleanly ... OK
* checking dependencies in R code ... OK
* checking S3 generic/method consistency ... OK
* checking replacement functions ... OK
* checking foreign function calls ... OK
* checking R code for possible problems ... OK
* checking Rd files ... OK
* checking Rd metadata ... OK
* checking Rd cross-references ... OK
* checking for missing documentation entries ... OK
* checking for code/documentation mismatches ... OK
* checking Rd \usage sections ... OK
* checking Rd contents ... OK
* checking for unstated dependencies in examples ... OK
* checking contents of ‘data’ directory ... OK
* checking data for non-ASCII characters ... OK
* checking LazyData ... OK
* checking data for ASCII and uncompressed saves ... OK
* checking files in ‘vignettes’ ... OK
* checking examples ... OK
Examples with CPU (user + system) or elapsed time > 5s
user system elapsed
SconeValues 11.734 0.259 12.006
* checking for unstated dependencies in ‘tests’ ... OK
* checking tests ...
Running ‘testthat.R’
OK
* checking for unstated dependencies in vignettes ... OK
* checking package vignettes ... OK
* checking running R code from vignettes ... SKIPPED
* checking re-building of vignette outputs ... SKIPPED
* checking PDF version of manual ... OK
* DONE
Status: OK
Sconify.Rcheck/00install.out
############################################################################## ############################################################################## ### ### Running command: ### ### /Library/Frameworks/R.framework/Resources/bin/R CMD INSTALL Sconify ### ############################################################################## ############################################################################## * installing to library ‘/Library/Frameworks/R.framework/Versions/4.5-arm64/Resources/library’ * installing *source* package ‘Sconify’ ... ** this is package ‘Sconify’ version ‘1.28.1’ ** using staged installation ** R ** data *** moving datasets to lazyload DB ** inst ** byte-compile and prepare package for lazy loading Note: wrong number of arguments to '/' Note: wrong number of arguments to 'asinh' ** help *** installing help indices ** building package indices ** installing vignettes ** testing if installed package can be loaded from temporary location ** testing if installed package can be loaded from final location ** testing if installed package keeps a record of temporary installation path * DONE (Sconify)
Sconify.Rcheck/tests/testthat.Rout
R version 4.5.1 Patched (2025-06-14 r88325) -- "Great Square Root"
Copyright (C) 2025 The R Foundation for Statistical Computing
Platform: aarch64-apple-darwin20
R is free software and comes with ABSOLUTELY NO WARRANTY.
You are welcome to redistribute it under certain conditions.
Type 'license()' or 'licence()' for distribution details.
R is a collaborative project with many contributors.
Type 'contributors()' for more information and
'citation()' on how to cite R or R packages in publications.
Type 'demo()' for some demos, 'help()' for on-line help, or
'help.start()' for an HTML browser interface to help.
Type 'q()' to quit R.
> library(testthat)
> library(Sconify)
>
> test_check("Sconify")
Read the 100 x 27 data matrix successfully!
Using no_dims = 2, perplexity = 30.000000, and theta = 0.500000
Computing input similarities...
Building tree...
Done in 0.01 seconds (sparsity = 0.966400)!
Learning embedding...
Iteration 50: error is 47.603551 (50 iterations in 0.02 seconds)
Iteration 100: error is 53.838755 (50 iterations in 0.02 seconds)
Iteration 150: error is 51.876081 (50 iterations in 0.01 seconds)
Iteration 200: error is 48.625030 (50 iterations in 0.02 seconds)
Iteration 250: error is 51.407578 (50 iterations in 0.02 seconds)
Iteration 300: error is 1.106251 (50 iterations in 0.01 seconds)
Iteration 350: error is 0.425122 (50 iterations in 0.01 seconds)
Iteration 400: error is 0.219114 (50 iterations in 0.01 seconds)
Iteration 450: error is 0.189437 (50 iterations in 0.01 seconds)
Iteration 500: error is 0.177842 (50 iterations in 0.01 seconds)
Iteration 550: error is 0.174905 (50 iterations in 0.01 seconds)
Iteration 600: error is 0.172828 (50 iterations in 0.01 seconds)
Iteration 650: error is 0.173535 (50 iterations in 0.01 seconds)
Iteration 700: error is 0.175175 (50 iterations in 0.01 seconds)
Iteration 750: error is 0.175567 (50 iterations in 0.01 seconds)
Iteration 800: error is 0.174617 (50 iterations in 0.01 seconds)
Iteration 850: error is 0.176748 (50 iterations in 0.01 seconds)
Iteration 900: error is 0.174977 (50 iterations in 0.01 seconds)
Iteration 950: error is 0.175228 (50 iterations in 0.01 seconds)
Iteration 1000: error is 0.174557 (50 iterations in 0.01 seconds)
Fitting performed in 0.25 seconds.
Read the 1000 x 27 data matrix successfully!
Using no_dims = 2, perplexity = 30.000000, and theta = 0.500000
Computing input similarities...
Building tree...
Done in 0.15 seconds (sparsity = 0.129120)!
Learning embedding...
Iteration 50: error is 66.338046 (50 iterations in 0.34 seconds)
Iteration 100: error is 60.853036 (50 iterations in 0.26 seconds)
Iteration 150: error is 60.370600 (50 iterations in 0.25 seconds)
Iteration 200: error is 60.226723 (50 iterations in 0.26 seconds)
Iteration 250: error is 60.133879 (50 iterations in 0.27 seconds)
Iteration 300: error is 1.338312 (50 iterations in 0.22 seconds)
Iteration 350: error is 1.225435 (50 iterations in 0.20 seconds)
Iteration 400: error is 1.192698 (50 iterations in 0.19 seconds)
Iteration 450: error is 1.181411 (50 iterations in 0.20 seconds)
Iteration 500: error is 1.173820 (50 iterations in 0.20 seconds)
Iteration 550: error is 1.167364 (50 iterations in 0.20 seconds)
Iteration 600: error is 1.164165 (50 iterations in 0.19 seconds)
Iteration 650: error is 1.160899 (50 iterations in 0.19 seconds)
Iteration 700: error is 1.157030 (50 iterations in 0.19 seconds)
Iteration 750: error is 1.155209 (50 iterations in 0.19 seconds)
Iteration 800: error is 1.153733 (50 iterations in 0.19 seconds)
Iteration 850: error is 1.152747 (50 iterations in 0.19 seconds)
Iteration 900: error is 1.150690 (50 iterations in 0.19 seconds)
Iteration 950: error is 1.149059 (50 iterations in 0.20 seconds)
Iteration 1000: error is 1.148497 (50 iterations in 0.20 seconds)
Fitting performed in 4.31 seconds.
[ FAIL 0 | WARN 2 | SKIP 0 | PASS 72 ]
[ FAIL 0 | WARN 2 | SKIP 0 | PASS 72 ]
>
> proc.time()
user system elapsed
21.247 0.848 22.182
Sconify.Rcheck/Sconify-Ex.timings
| name | user | system | elapsed | |
| FcsToTibble | 0.128 | 0.006 | 0.135 | |
| Fnn | 0.286 | 0.526 | 0.816 | |
| GetKnnDe | 0.064 | 0.006 | 0.071 | |
| GetMarkerNames | 0.018 | 0.002 | 0.020 | |
| ImputeTesting | 3.178 | 0.026 | 3.205 | |
| MakeHist | 0.683 | 0.012 | 0.695 | |
| MakeKnnList | 0.339 | 0.032 | 0.371 | |
| MeaningOfLife | 0.000 | 0.000 | 0.001 | |
| ParseMarkers | 0.276 | 0.049 | 0.327 | |
| PostProcessing | 0.068 | 0.008 | 0.076 | |
| ProcessMultipleFiles | 0.112 | 0.008 | 0.121 | |
| QuantNormalizeElements | 0.163 | 0.007 | 0.170 | |
| SconeValues | 11.734 | 0.259 | 12.006 | |
| SplitFile | 0.073 | 0.002 | 0.075 | |
| StringToNumbers | 0.000 | 0.001 | 0.001 | |
| SubsampleAndTsne | 2.036 | 0.145 | 2.205 | |
| TsneVis | 0.180 | 0.006 | 0.186 | |