| Back to Multiple platform build/check report for BioC 3.21: simplified long |
|
This page was generated on 2025-08-18 11:42 -0400 (Mon, 18 Aug 2025).
| Hostname | OS | Arch (*) | R version | Installed pkgs |
|---|---|---|---|---|
| nebbiolo1 | Linux (Ubuntu 24.04.3 LTS) | x86_64 | 4.5.1 (2025-06-13) -- "Great Square Root" | 4824 |
| palomino7 | Windows Server 2022 Datacenter | x64 | 4.5.1 (2025-06-13 ucrt) -- "Great Square Root" | 4566 |
| merida1 | macOS 12.7.5 Monterey | x86_64 | 4.5.1 RC (2025-06-05 r88288) -- "Great Square Root" | 4604 |
| kjohnson1 | macOS 13.6.6 Ventura | arm64 | 4.5.1 Patched (2025-06-14 r88325) -- "Great Square Root" | 4545 |
| kunpeng2 | Linux (openEuler 24.03 LTS) | aarch64 | R Under development (unstable) (2025-02-19 r87757) -- "Unsuffered Consequences" | 4579 |
| Click on any hostname to see more info about the system (e.g. compilers) (*) as reported by 'uname -p', except on Windows and Mac OS X | ||||
| Package 1728/2341 | Hostname | OS / Arch | INSTALL | BUILD | CHECK | BUILD BIN | ||||||||
| ReactomeGSA 1.22.0 (landing page) Johannes Griss
| nebbiolo1 | Linux (Ubuntu 24.04.3 LTS) / x86_64 | OK | OK | OK | |||||||||
| palomino7 | Windows Server 2022 Datacenter / x64 | OK | OK | OK | OK | |||||||||
| merida1 | macOS 12.7.5 Monterey / x86_64 | OK | OK | OK | OK | |||||||||
| kjohnson1 | macOS 13.6.6 Ventura / arm64 | OK | OK | OK | OK | |||||||||
| kunpeng2 | Linux (openEuler 24.03 LTS) / aarch64 | OK | OK | OK | ||||||||||
|
To the developers/maintainers of the ReactomeGSA package: - Allow up to 24 hours (and sometimes 48 hours) for your latest push to git@git.bioconductor.org:packages/ReactomeGSA.git to reflect on this report. See Troubleshooting Build Report for more information. - Use the following Renviron settings to reproduce errors and warnings. - If 'R CMD check' started to fail recently on the Linux builder(s) over a missing dependency, add the missing dependency to 'Suggests:' in your DESCRIPTION file. See Renviron.bioc for more information. |
| Package: ReactomeGSA |
| Version: 1.22.0 |
| Command: E:\biocbuild\bbs-3.21-bioc\R\bin\R.exe CMD check --no-multiarch --install=check:ReactomeGSA.install-out.txt --library=E:\biocbuild\bbs-3.21-bioc\R\library --no-vignettes --timings ReactomeGSA_1.22.0.tar.gz |
| StartedAt: 2025-08-15 05:56:03 -0400 (Fri, 15 Aug 2025) |
| EndedAt: 2025-08-15 06:10:57 -0400 (Fri, 15 Aug 2025) |
| EllapsedTime: 894.1 seconds |
| RetCode: 0 |
| Status: OK |
| CheckDir: ReactomeGSA.Rcheck |
| Warnings: 0 |
##############################################################################
##############################################################################
###
### Running command:
###
### E:\biocbuild\bbs-3.21-bioc\R\bin\R.exe CMD check --no-multiarch --install=check:ReactomeGSA.install-out.txt --library=E:\biocbuild\bbs-3.21-bioc\R\library --no-vignettes --timings ReactomeGSA_1.22.0.tar.gz
###
##############################################################################
##############################################################################
* using log directory 'E:/biocbuild/bbs-3.21-bioc/meat/ReactomeGSA.Rcheck'
* using R version 4.5.1 (2025-06-13 ucrt)
* using platform: x86_64-w64-mingw32
* R was compiled by
gcc.exe (GCC) 14.2.0
GNU Fortran (GCC) 14.2.0
* running under: Windows Server 2022 x64 (build 20348)
* using session charset: UTF-8
* using option '--no-vignettes'
* checking for file 'ReactomeGSA/DESCRIPTION' ... OK
* checking extension type ... Package
* this is package 'ReactomeGSA' version '1.22.0'
* package encoding: UTF-8
* checking package namespace information ... OK
* checking package dependencies ... OK
* checking if this is a source package ... OK
* checking if there is a namespace ... OK
* checking for hidden files and directories ... OK
* checking for portable file names ... OK
* checking whether package 'ReactomeGSA' can be installed ... OK
* checking installed package size ... OK
* checking package directory ... OK
* checking 'build' directory ... OK
* checking DESCRIPTION meta-information ... OK
* checking top-level files ... OK
* checking for left-over files ... OK
* checking index information ... OK
* checking package subdirectories ... OK
* checking code files for non-ASCII characters ... OK
* checking R files for syntax errors ... OK
* checking whether the package can be loaded ... OK
* checking whether the package can be loaded with stated dependencies ... OK
* checking whether the package can be unloaded cleanly ... OK
* checking whether the namespace can be loaded with stated dependencies ... OK
* checking whether the namespace can be unloaded cleanly ... OK
* checking whether startup messages can be suppressed ... OK
* checking dependencies in R code ... OK
* checking S3 generic/method consistency ... OK
* checking replacement functions ... OK
* checking foreign function calls ... OK
* checking R code for possible problems ... NOTE
plot_correlations,ReactomeAnalysisResult: no visible binding for global
variable 'combined_sig'
plot_correlations,ReactomeAnalysisResult: no visible binding for global
variable 'alpha'
plot_gsva_pathway,ReactomeAnalysisResult: no visible binding for global
variable 'cluster_id'
plot_gsva_pathway,ReactomeAnalysisResult: no visible binding for global
variable 'expr'
plot_gsva_pca,ReactomeAnalysisResult: no visible binding for global
variable 'gsva_result'
plot_gsva_pca,ReactomeAnalysisResult: no visible binding for global
variable 'PC1'
plot_gsva_pca,ReactomeAnalysisResult: no visible binding for global
variable 'PC2'
plot_heatmap,ReactomeAnalysisResult: no visible global function
definition for 'desc'
plot_heatmap,ReactomeAnalysisResult: no visible binding for global
variable 'n_sig'
plot_heatmap,ReactomeAnalysisResult: no visible binding for global
variable 'dataset'
plot_heatmap,ReactomeAnalysisResult: no visible binding for global
variable 'Name'
plot_volcano,ReactomeAnalysisResult: no visible binding for global
variable 'av_foldchange'
plot_volcano,ReactomeAnalysisResult: no visible binding for global
variable 'FDR'
Undefined global functions or variables:
FDR Name PC1 PC2 alpha av_foldchange cluster_id combined_sig dataset
desc expr gsva_result n_sig
* checking Rd files ... OK
* checking Rd metadata ... OK
* checking Rd cross-references ... OK
* checking for missing documentation entries ... OK
* checking for code/documentation mismatches ... OK
* checking Rd \usage sections ... OK
* checking Rd contents ... OK
* checking for unstated dependencies in examples ... OK
* checking files in 'vignettes' ... OK
* checking examples ... OK
Examples with CPU (user + system) or elapsed time > 5s
user system elapsed
plot_gsva_heatmap-ReactomeAnalysisResult-method 39.28 2.77 76.39
analyse_sc_clusters 38.45 3.04 78.31
analyse_sc_clusters-Seurat-method 37.94 2.84 82.03
analyse_sc_clusters-SingleCellExperiment-method 37.51 2.83 77.36
plot_gsva_pca 36.50 2.90 80.02
plot_gsva_heatmap 34.71 2.42 74.12
plot_gsva_pathway-ReactomeAnalysisResult-method 33.97 2.20 70.94
plot_gsva_pathway 33.28 2.38 70.00
plot_gsva_pca-ReactomeAnalysisResult-method 29.27 2.22 68.40
generate_pseudo_bulk_data 18.53 2.37 22.57
ReactomeAnalysisRequest 5.06 0.45 5.83
perform_reactome_analysis 3.90 0.28 18.31
load_public_dataset 2.68 0.15 45.86
* checking for unstated dependencies in 'tests' ... OK
* checking tests ...
Running 'testthat.R'
OK
* checking for unstated dependencies in vignettes ... OK
* checking package vignettes ... OK
* checking running R code from vignettes ... SKIPPED
* checking re-building of vignette outputs ... SKIPPED
* checking PDF version of manual ... OK
* DONE
Status: 1 NOTE
See
'E:/biocbuild/bbs-3.21-bioc/meat/ReactomeGSA.Rcheck/00check.log'
for details.
ReactomeGSA.Rcheck/00install.out
############################################################################## ############################################################################## ### ### Running command: ### ### E:\biocbuild\bbs-3.21-bioc\R\bin\R.exe CMD INSTALL ReactomeGSA ### ############################################################################## ############################################################################## * installing to library 'E:/biocbuild/bbs-3.21-bioc/R/library' * installing *source* package 'ReactomeGSA' ... ** this is package 'ReactomeGSA' version '1.22.0' ** using staged installation ** R ** inst ** byte-compile and prepare package for lazy loading in method for 'analyse_sc_clusters' with signature 'object="Seurat"': no definition for class "Seurat" in method for 'analyse_sc_clusters' with signature 'object="SingleCellExperiment"': no definition for class "SingleCellExperiment" in method for 'add_dataset' with signature 'request="ReactomeAnalysisRequest",expression_values="EList"': no definition for class "EList" in method for 'add_dataset' with signature 'request="ReactomeAnalysisRequest",expression_values="DGEList"': no definition for class "DGEList" in method for 'generate_pseudo_bulk_data' with signature 'object="Seurat"': no definition for class "Seurat" in method for 'generate_pseudo_bulk_data' with signature 'object="SingleCellExperiment"': no definition for class "SingleCellExperiment" ** help *** installing help indices ** building package indices ** installing vignettes ** testing if installed package can be loaded from temporary location ** testing if installed package can be loaded from final location ** testing if installed package keeps a record of temporary installation path * DONE (ReactomeGSA)
ReactomeGSA.Rcheck/tests/testthat.Rout
R version 4.5.1 (2025-06-13 ucrt) -- "Great Square Root"
Copyright (C) 2025 The R Foundation for Statistical Computing
Platform: x86_64-w64-mingw32/x64
R is free software and comes with ABSOLUTELY NO WARRANTY.
You are welcome to redistribute it under certain conditions.
Type 'license()' or 'licence()' for distribution details.
R is a collaborative project with many contributors.
Type 'contributors()' for more information and
'citation()' on how to cite R or R packages in publications.
Type 'demo()' for some demos, 'help()' for on-line help, or
'help.start()' for an HTML browser interface to help.
Type 'q()' to quit R.
> library(testthat)
> library(ReactomeGSA)
>
> test_check("ReactomeGSA")
[ FAIL 0 | WARN 0 | SKIP 0 | PASS 17 ]
>
> proc.time()
user system elapsed
1.78 0.15 2.11
ReactomeGSA.Rcheck/ReactomeGSA-Ex.timings
| name | user | system | elapsed | |
| ReactomeAnalysisRequest | 5.06 | 0.45 | 5.83 | |
| ReactomeAnalysisResult-class | 0.18 | 0.00 | 0.26 | |
| add_dataset-ReactomeAnalysisRequest-DGEList-method | 1.05 | 0.05 | 1.09 | |
| add_dataset-ReactomeAnalysisRequest-EList-method | 0.64 | 0.05 | 0.69 | |
| add_dataset-ReactomeAnalysisRequest-ExpressionSet-method | 0.74 | 0.04 | 0.78 | |
| add_dataset-ReactomeAnalysisRequest-data.frame-method | 0.89 | 0.06 | 0.96 | |
| add_dataset-ReactomeAnalysisRequest-matrix-method | 0.92 | 0.02 | 0.93 | |
| add_dataset | 0.92 | 0.02 | 0.94 | |
| analyse_sc_clusters-Seurat-method | 37.94 | 2.84 | 82.03 | |
| analyse_sc_clusters-SingleCellExperiment-method | 37.51 | 2.83 | 77.36 | |
| analyse_sc_clusters | 38.45 | 3.04 | 78.31 | |
| find_public_datasets | 0.02 | 0.04 | 2.37 | |
| generate_metadata | 0.01 | 0.00 | 0.02 | |
| generate_pseudo_bulk_data | 18.53 | 2.37 | 22.57 | |
| get_public_species | 0.01 | 0.00 | 0.30 | |
| get_reactome_data_types | 0.05 | 0.02 | 0.72 | |
| get_reactome_methods | 0.05 | 0.01 | 0.95 | |
| get_result-ReactomeAnalysisResult-method | 0.25 | 0.05 | 0.30 | |
| get_result | 0.17 | 0.05 | 0.22 | |
| load_public_dataset | 2.68 | 0.15 | 45.86 | |
| names-ReactomeAnalysisResult-method | 0.25 | 0.02 | 0.26 | |
| open_reactome-ReactomeAnalysisResult-method | 0.25 | 0.03 | 0.29 | |
| open_reactome | 0.30 | 0.01 | 0.31 | |
| pathways-ReactomeAnalysisResult-method | 0.28 | 0.00 | 0.29 | |
| pathways | 0.27 | 0.02 | 0.28 | |
| perform_reactome_analysis | 3.90 | 0.28 | 18.31 | |
| plot_correlations-ReactomeAnalysisResult-method | 0.37 | 0.05 | 0.43 | |
| plot_correlations | 0.24 | 0.06 | 0.29 | |
| plot_gsva_heatmap-ReactomeAnalysisResult-method | 39.28 | 2.77 | 76.39 | |
| plot_gsva_heatmap | 34.71 | 2.42 | 74.12 | |
| plot_gsva_pathway-ReactomeAnalysisResult-method | 33.97 | 2.20 | 70.94 | |
| plot_gsva_pathway | 33.28 | 2.38 | 70.00 | |
| plot_gsva_pca-ReactomeAnalysisResult-method | 29.27 | 2.22 | 68.40 | |
| plot_gsva_pca | 36.50 | 2.90 | 80.02 | |
| plot_heatmap-ReactomeAnalysisResult-method | 0.49 | 0.08 | 0.56 | |
| plot_heatmap | 0.53 | 0.05 | 0.58 | |
| plot_volcano-ReactomeAnalysisResult-method | 0.19 | 0.03 | 0.21 | |
| plot_volcano | 0.20 | 0.03 | 0.24 | |
| print-ReactomeAnalysisRequest-method | 0 | 0 | 0 | |
| print-ReactomeAnalysisResult-method | 0.17 | 0.05 | 0.22 | |
| reactome_links-ReactomeAnalysisResult-method | 0.17 | 0.03 | 0.20 | |
| reactome_links | 0.19 | 0.03 | 0.22 | |
| result_types-ReactomeAnalysisResult-method | 0.19 | 0.03 | 0.22 | |
| result_types | 0.22 | 0.00 | 0.22 | |
| set_method-ReactomeAnalysisRequest-method | 0.00 | 0.02 | 0.03 | |
| set_method | 0 | 0 | 0 | |
| set_parameters-ReactomeAnalysisRequest-method | 0 | 0 | 0 | |
| set_parameters | 0.01 | 0.00 | 0.01 | |
| show-ReactomeAnalysisRequest-method | 0 | 0 | 0 | |
| show-ReactomeAnalysisResult-method | 0.24 | 0.04 | 0.29 | |