| Back to Multiple platform build/check report for BioC 3.21: simplified long |
|
This page was generated on 2025-10-16 11:40 -0400 (Thu, 16 Oct 2025).
| Hostname | OS | Arch (*) | R version | Installed pkgs |
|---|---|---|---|---|
| nebbiolo1 | Linux (Ubuntu 24.04.3 LTS) | x86_64 | 4.5.1 (2025-06-13) -- "Great Square Root" | 4833 |
| merida1 | macOS 12.7.6 Monterey | x86_64 | 4.5.1 RC (2025-06-05 r88288) -- "Great Square Root" | 4614 |
| kjohnson1 | macOS 13.7.5 Ventura | arm64 | 4.5.1 Patched (2025-06-14 r88325) -- "Great Square Root" | 4555 |
| kunpeng2 | Linux (openEuler 24.03 LTS) | aarch64 | R Under development (unstable) (2025-02-19 r87757) -- "Unsuffered Consequences" | 4586 |
| Click on any hostname to see more info about the system (e.g. compilers) (*) as reported by 'uname -p', except on Windows and Mac OS X | ||||
| Package 1728/2341 | Hostname | OS / Arch | INSTALL | BUILD | CHECK | BUILD BIN | ||||||||
| ReactomeGSA 1.22.0 (landing page) Johannes Griss
| nebbiolo1 | Linux (Ubuntu 24.04.3 LTS) / x86_64 | OK | OK | OK | |||||||||
| merida1 | macOS 12.7.6 Monterey / x86_64 | OK | OK | ERROR | OK | |||||||||
| kjohnson1 | macOS 13.7.5 Ventura / arm64 | OK | OK | OK | OK | |||||||||
| kunpeng2 | Linux (openEuler 24.03 LTS) / aarch64 | OK | OK | ERROR | ||||||||||
|
To the developers/maintainers of the ReactomeGSA package: - Allow up to 24 hours (and sometimes 48 hours) for your latest push to git@git.bioconductor.org:packages/ReactomeGSA.git to reflect on this report. See Troubleshooting Build Report for more information. - Use the following Renviron settings to reproduce errors and warnings. - If 'R CMD check' started to fail recently on the Linux builder(s) over a missing dependency, add the missing dependency to 'Suggests:' in your DESCRIPTION file. See Renviron.bioc for more information. |
| Package: ReactomeGSA |
| Version: 1.22.0 |
| Command: /Library/Frameworks/R.framework/Resources/bin/R CMD check --install=check:ReactomeGSA.install-out.txt --library=/Library/Frameworks/R.framework/Resources/library --no-vignettes --timings ReactomeGSA_1.22.0.tar.gz |
| StartedAt: 2025-10-15 09:09:02 -0400 (Wed, 15 Oct 2025) |
| EndedAt: 2025-10-15 09:26:04 -0400 (Wed, 15 Oct 2025) |
| EllapsedTime: 1021.3 seconds |
| RetCode: 0 |
| Status: OK |
| CheckDir: ReactomeGSA.Rcheck |
| Warnings: 0 |
##############################################################################
##############################################################################
###
### Running command:
###
### /Library/Frameworks/R.framework/Resources/bin/R CMD check --install=check:ReactomeGSA.install-out.txt --library=/Library/Frameworks/R.framework/Resources/library --no-vignettes --timings ReactomeGSA_1.22.0.tar.gz
###
##############################################################################
##############################################################################
* using log directory ‘/Users/biocbuild/bbs-3.21-bioc/meat/ReactomeGSA.Rcheck’
* using R version 4.5.1 Patched (2025-06-14 r88325)
* using platform: aarch64-apple-darwin20
* R was compiled by
Apple clang version 16.0.0 (clang-1600.0.26.6)
GNU Fortran (GCC) 14.2.0
* running under: macOS Ventura 13.7.5
* using session charset: UTF-8
* using option ‘--no-vignettes’
* checking for file ‘ReactomeGSA/DESCRIPTION’ ... OK
* checking extension type ... Package
* this is package ‘ReactomeGSA’ version ‘1.22.0’
* package encoding: UTF-8
* checking package namespace information ... OK
* checking package dependencies ... OK
* checking if this is a source package ... OK
* checking if there is a namespace ... OK
* checking for hidden files and directories ... OK
* checking for portable file names ... OK
* checking for sufficient/correct file permissions ... OK
* checking whether package ‘ReactomeGSA’ can be installed ... OK
* checking installed package size ... OK
* checking package directory ... OK
* checking ‘build’ directory ... OK
* checking DESCRIPTION meta-information ... OK
* checking top-level files ... OK
* checking for left-over files ... OK
* checking index information ... OK
* checking package subdirectories ... OK
* checking code files for non-ASCII characters ... OK
* checking R files for syntax errors ... OK
* checking whether the package can be loaded ... OK
* checking whether the package can be loaded with stated dependencies ... OK
* checking whether the package can be unloaded cleanly ... OK
* checking whether the namespace can be loaded with stated dependencies ... OK
* checking whether the namespace can be unloaded cleanly ... OK
* checking whether startup messages can be suppressed ... OK
* checking dependencies in R code ... OK
* checking S3 generic/method consistency ... OK
* checking replacement functions ... OK
* checking foreign function calls ... OK
* checking R code for possible problems ... NOTE
plot_correlations,ReactomeAnalysisResult: no visible binding for global
variable ‘combined_sig’
plot_correlations,ReactomeAnalysisResult: no visible binding for global
variable ‘alpha’
plot_gsva_pathway,ReactomeAnalysisResult: no visible binding for global
variable ‘cluster_id’
plot_gsva_pathway,ReactomeAnalysisResult: no visible binding for global
variable ‘expr’
plot_gsva_pca,ReactomeAnalysisResult: no visible binding for global
variable ‘gsva_result’
plot_gsva_pca,ReactomeAnalysisResult: no visible binding for global
variable ‘PC1’
plot_gsva_pca,ReactomeAnalysisResult: no visible binding for global
variable ‘PC2’
plot_heatmap,ReactomeAnalysisResult: no visible global function
definition for ‘desc’
plot_heatmap,ReactomeAnalysisResult: no visible binding for global
variable ‘n_sig’
plot_heatmap,ReactomeAnalysisResult: no visible binding for global
variable ‘dataset’
plot_heatmap,ReactomeAnalysisResult: no visible binding for global
variable ‘Name’
plot_volcano,ReactomeAnalysisResult: no visible binding for global
variable ‘av_foldchange’
plot_volcano,ReactomeAnalysisResult: no visible binding for global
variable ‘FDR’
Undefined global functions or variables:
FDR Name PC1 PC2 alpha av_foldchange cluster_id combined_sig dataset
desc expr gsva_result n_sig
* checking Rd files ... OK
* checking Rd metadata ... OK
* checking Rd cross-references ... OK
* checking for missing documentation entries ... OK
* checking for code/documentation mismatches ... OK
* checking Rd \usage sections ... OK
* checking Rd contents ... OK
* checking for unstated dependencies in examples ... OK
* checking files in ‘vignettes’ ... OK
* checking examples ... OK
Examples with CPU (user + system) or elapsed time > 5s
user system elapsed
analyse_sc_clusters-Seurat-method 33.489 2.193 127.526
analyse_sc_clusters-SingleCellExperiment-method 32.257 3.021 139.757
plot_gsva_pca-ReactomeAnalysisResult-method 32.676 2.215 123.902
plot_gsva_heatmap-ReactomeAnalysisResult-method 30.622 2.354 73.767
plot_gsva_pca 30.626 2.085 69.624
plot_gsva_pathway-ReactomeAnalysisResult-method 29.285 1.926 69.070
plot_gsva_pathway 28.828 2.317 69.194
plot_gsva_heatmap 29.059 1.900 100.024
analyse_sc_clusters 27.439 3.283 67.272
generate_pseudo_bulk_data 16.307 1.824 18.414
ReactomeAnalysisRequest 6.157 0.387 6.626
perform_reactome_analysis 2.218 0.266 15.659
load_public_dataset 1.848 0.198 42.520
* checking for unstated dependencies in ‘tests’ ... OK
* checking tests ...
Running ‘testthat.R’
OK
* checking for unstated dependencies in vignettes ... OK
* checking package vignettes ... OK
* checking running R code from vignettes ... SKIPPED
* checking re-building of vignette outputs ... SKIPPED
* checking PDF version of manual ... OK
* DONE
Status: 1 NOTE
See
‘/Users/biocbuild/bbs-3.21-bioc/meat/ReactomeGSA.Rcheck/00check.log’
for details.
ReactomeGSA.Rcheck/00install.out
############################################################################## ############################################################################## ### ### Running command: ### ### /Library/Frameworks/R.framework/Resources/bin/R CMD INSTALL ReactomeGSA ### ############################################################################## ############################################################################## * installing to library ‘/Library/Frameworks/R.framework/Versions/4.5-arm64/Resources/library’ * installing *source* package ‘ReactomeGSA’ ... ** this is package ‘ReactomeGSA’ version ‘1.22.0’ ** using staged installation ** R ** inst ** byte-compile and prepare package for lazy loading in method for ‘analyse_sc_clusters’ with signature ‘object="Seurat"’: no definition for class “Seurat” in method for ‘analyse_sc_clusters’ with signature ‘object="SingleCellExperiment"’: no definition for class “SingleCellExperiment” in method for ‘add_dataset’ with signature ‘request="ReactomeAnalysisRequest",expression_values="EList"’: no definition for class “EList” in method for ‘add_dataset’ with signature ‘request="ReactomeAnalysisRequest",expression_values="DGEList"’: no definition for class “DGEList” in method for ‘generate_pseudo_bulk_data’ with signature ‘object="Seurat"’: no definition for class “Seurat” in method for ‘generate_pseudo_bulk_data’ with signature ‘object="SingleCellExperiment"’: no definition for class “SingleCellExperiment” ** help *** installing help indices ** building package indices ** installing vignettes ** testing if installed package can be loaded from temporary location ** testing if installed package can be loaded from final location ** testing if installed package keeps a record of temporary installation path * DONE (ReactomeGSA)
ReactomeGSA.Rcheck/tests/testthat.Rout
R version 4.5.1 Patched (2025-06-14 r88325) -- "Great Square Root"
Copyright (C) 2025 The R Foundation for Statistical Computing
Platform: aarch64-apple-darwin20
R is free software and comes with ABSOLUTELY NO WARRANTY.
You are welcome to redistribute it under certain conditions.
Type 'license()' or 'licence()' for distribution details.
R is a collaborative project with many contributors.
Type 'contributors()' for more information and
'citation()' on how to cite R or R packages in publications.
Type 'demo()' for some demos, 'help()' for on-line help, or
'help.start()' for an HTML browser interface to help.
Type 'q()' to quit R.
> library(testthat)
> library(ReactomeGSA)
>
> test_check("ReactomeGSA")
[ FAIL 0 | WARN 0 | SKIP 0 | PASS 17 ]
>
> proc.time()
user system elapsed
2.089 0.189 2.266
ReactomeGSA.Rcheck/ReactomeGSA-Ex.timings
| name | user | system | elapsed | |
| ReactomeAnalysisRequest | 6.157 | 0.387 | 6.626 | |
| ReactomeAnalysisResult-class | 0.293 | 0.015 | 0.314 | |
| add_dataset-ReactomeAnalysisRequest-DGEList-method | 1.319 | 0.067 | 1.395 | |
| add_dataset-ReactomeAnalysisRequest-EList-method | 0.807 | 0.053 | 0.870 | |
| add_dataset-ReactomeAnalysisRequest-ExpressionSet-method | 0.817 | 0.048 | 0.874 | |
| add_dataset-ReactomeAnalysisRequest-data.frame-method | 0.813 | 0.054 | 0.872 | |
| add_dataset-ReactomeAnalysisRequest-matrix-method | 0.807 | 0.058 | 0.871 | |
| add_dataset | 0.819 | 0.084 | 0.911 | |
| analyse_sc_clusters-Seurat-method | 33.489 | 2.193 | 127.526 | |
| analyse_sc_clusters-SingleCellExperiment-method | 32.257 | 3.021 | 139.757 | |
| analyse_sc_clusters | 27.439 | 3.283 | 67.272 | |
| find_public_datasets | 0.118 | 0.019 | 2.431 | |
| generate_metadata | 0.001 | 0.000 | 0.001 | |
| generate_pseudo_bulk_data | 16.307 | 1.824 | 18.414 | |
| get_public_species | 0.034 | 0.004 | 0.171 | |
| get_reactome_data_types | 0.069 | 0.013 | 0.343 | |
| get_reactome_methods | 0.115 | 0.015 | 0.511 | |
| get_result-ReactomeAnalysisResult-method | 0.711 | 0.075 | 0.803 | |
| get_result | 0.309 | 0.017 | 0.337 | |
| load_public_dataset | 1.848 | 0.198 | 42.520 | |
| names-ReactomeAnalysisResult-method | 0.273 | 0.014 | 0.289 | |
| open_reactome-ReactomeAnalysisResult-method | 0.296 | 0.014 | 0.312 | |
| open_reactome | 0.323 | 0.015 | 0.338 | |
| pathways-ReactomeAnalysisResult-method | 0.370 | 0.019 | 0.403 | |
| pathways | 0.325 | 0.018 | 0.343 | |
| perform_reactome_analysis | 2.218 | 0.266 | 15.659 | |
| plot_correlations-ReactomeAnalysisResult-method | 0.430 | 0.019 | 0.453 | |
| plot_correlations | 0.354 | 0.017 | 0.371 | |
| plot_gsva_heatmap-ReactomeAnalysisResult-method | 30.622 | 2.354 | 73.767 | |
| plot_gsva_heatmap | 29.059 | 1.900 | 100.024 | |
| plot_gsva_pathway-ReactomeAnalysisResult-method | 29.285 | 1.926 | 69.070 | |
| plot_gsva_pathway | 28.828 | 2.317 | 69.194 | |
| plot_gsva_pca-ReactomeAnalysisResult-method | 32.676 | 2.215 | 123.902 | |
| plot_gsva_pca | 30.626 | 2.085 | 69.624 | |
| plot_heatmap-ReactomeAnalysisResult-method | 0.768 | 0.059 | 0.832 | |
| plot_heatmap | 0.737 | 0.018 | 0.762 | |
| plot_volcano-ReactomeAnalysisResult-method | 0.319 | 0.016 | 0.338 | |
| plot_volcano | 0.334 | 0.015 | 0.350 | |
| print-ReactomeAnalysisRequest-method | 0.001 | 0.000 | 0.002 | |
| print-ReactomeAnalysisResult-method | 0.292 | 0.014 | 0.307 | |
| reactome_links-ReactomeAnalysisResult-method | 0.288 | 0.014 | 0.301 | |
| reactome_links | 0.294 | 0.014 | 0.309 | |
| result_types-ReactomeAnalysisResult-method | 0.305 | 0.015 | 0.323 | |
| result_types | 0.305 | 0.016 | 0.324 | |
| set_method-ReactomeAnalysisRequest-method | 0.002 | 0.003 | 0.005 | |
| set_method | 0.001 | 0.002 | 0.003 | |
| set_parameters-ReactomeAnalysisRequest-method | 0.001 | 0.000 | 0.002 | |
| set_parameters | 0.001 | 0.000 | 0.001 | |
| show-ReactomeAnalysisRequest-method | 0.001 | 0.001 | 0.001 | |
| show-ReactomeAnalysisResult-method | 0.305 | 0.015 | 0.323 | |