| Back to Multiple platform build/check report for BioC 3.22: simplified long |
|
This page was generated on 2025-08-15 12:06 -0400 (Fri, 15 Aug 2025).
| Hostname | OS | Arch (*) | R version | Installed pkgs |
|---|---|---|---|---|
| nebbiolo2 | Linux (Ubuntu 24.04.3 LTS) | x86_64 | 4.5.1 (2025-06-13) -- "Great Square Root" | 4818 |
| palomino8 | Windows Server 2022 Datacenter | x64 | 4.5.1 (2025-06-13 ucrt) -- "Great Square Root" | 4554 |
| lconway | macOS 12.7.1 Monterey | x86_64 | 4.5.1 (2025-06-13) -- "Great Square Root" | 4595 |
| kjohnson3 | macOS 13.7.7 Ventura | arm64 | 4.5.1 Patched (2025-06-14 r88325) -- "Great Square Root" | 4537 |
| taishan | Linux (openEuler 24.03 LTS) | aarch64 | 4.5.0 (2025-04-11) -- "How About a Twenty-Six" | 4535 |
| Click on any hostname to see more info about the system (e.g. compilers) (*) as reported by 'uname -p', except on Windows and Mac OS X | ||||
| Package 959/2317 | Hostname | OS / Arch | INSTALL | BUILD | CHECK | BUILD BIN | ||||||||
| HiCBricks 1.27.1 (landing page) Koustav Pal
| nebbiolo2 | Linux (Ubuntu 24.04.3 LTS) / x86_64 | OK | OK | OK | |||||||||
| palomino8 | Windows Server 2022 Datacenter / x64 | OK | OK | OK | OK | |||||||||
| lconway | macOS 12.7.1 Monterey / x86_64 | OK | OK | OK | OK | |||||||||
| kjohnson3 | macOS 13.7.7 Ventura / arm64 | OK | OK | OK | OK | |||||||||
| taishan | Linux (openEuler 24.03 LTS) / aarch64 | OK | OK | OK | ||||||||||
|
To the developers/maintainers of the HiCBricks package: - Allow up to 24 hours (and sometimes 48 hours) for your latest push to git@git.bioconductor.org:packages/HiCBricks.git to reflect on this report. See Troubleshooting Build Report for more information. - Use the following Renviron settings to reproduce errors and warnings. - If 'R CMD check' started to fail recently on the Linux builder(s) over a missing dependency, add the missing dependency to 'Suggests:' in your DESCRIPTION file. See Renviron.bioc for more information. |
| Package: HiCBricks |
| Version: 1.27.1 |
| Command: F:\biocbuild\bbs-3.22-bioc\R\bin\R.exe CMD check --no-multiarch --install=check:HiCBricks.install-out.txt --library=F:\biocbuild\bbs-3.22-bioc\R\library --no-vignettes --timings HiCBricks_1.27.1.tar.gz |
| StartedAt: 2025-08-15 04:06:04 -0400 (Fri, 15 Aug 2025) |
| EndedAt: 2025-08-15 04:11:09 -0400 (Fri, 15 Aug 2025) |
| EllapsedTime: 304.4 seconds |
| RetCode: 0 |
| Status: OK |
| CheckDir: HiCBricks.Rcheck |
| Warnings: 0 |
##############################################################################
##############################################################################
###
### Running command:
###
### F:\biocbuild\bbs-3.22-bioc\R\bin\R.exe CMD check --no-multiarch --install=check:HiCBricks.install-out.txt --library=F:\biocbuild\bbs-3.22-bioc\R\library --no-vignettes --timings HiCBricks_1.27.1.tar.gz
###
##############################################################################
##############################################################################
* using log directory 'F:/biocbuild/bbs-3.22-bioc/meat/HiCBricks.Rcheck'
* using R version 4.5.1 (2025-06-13 ucrt)
* using platform: x86_64-w64-mingw32
* R was compiled by
gcc.exe (GCC) 14.2.0
GNU Fortran (GCC) 14.2.0
* running under: Windows Server 2022 x64 (build 20348)
* using session charset: UTF-8
* using option '--no-vignettes'
* checking for file 'HiCBricks/DESCRIPTION' ... OK
* checking extension type ... Package
* this is package 'HiCBricks' version '1.27.1'
* package encoding: UTF-8
* checking package namespace information ... OK
* checking package dependencies ... OK
* checking if this is a source package ... OK
* checking if there is a namespace ... OK
* checking for hidden files and directories ... OK
* checking for portable file names ... OK
* checking whether package 'HiCBricks' can be installed ... OK
* checking installed package size ... OK
* checking package directory ... OK
* checking 'build' directory ... OK
* checking DESCRIPTION meta-information ... OK
* checking top-level files ... OK
* checking for left-over files ... OK
* checking index information ... OK
* checking package subdirectories ... OK
* checking code files for non-ASCII characters ... OK
* checking R files for syntax errors ... OK
* checking whether the package can be loaded ... OK
* checking whether the package can be loaded with stated dependencies ... OK
* checking whether the package can be unloaded cleanly ... OK
* checking whether the namespace can be loaded with stated dependencies ... OK
* checking whether the namespace can be unloaded cleanly ... OK
* checking dependencies in R code ... OK
* checking S3 generic/method consistency ... OK
* checking replacement functions ... OK
* checking foreign function calls ... OK
* checking R code for possible problems ... OK
* checking Rd files ... OK
* checking Rd metadata ... OK
* checking Rd cross-references ... OK
* checking for missing documentation entries ... OK
* checking for code/documentation mismatches ... OK
* checking Rd \usage sections ... OK
* checking Rd contents ... OK
* checking for unstated dependencies in examples ... OK
* checking files in 'vignettes' ... OK
* checking examples ... OK
Examples with CPU (user + system) or elapsed time > 5s
user system elapsed
Brick_export_to_sparse 3.47 0.27 6.10
Brick_vizart_plot_heatmap 2.70 0.31 5.16
BrickContainer_unlink_resolution 2.12 0.25 8.61
Brick_add_ranges 1.95 0.18 5.81
* checking for unstated dependencies in vignettes ... OK
* checking package vignettes ... OK
* checking running R code from vignettes ... SKIPPED
* checking re-building of vignette outputs ... SKIPPED
* checking PDF version of manual ... OK
* DONE
Status: OK
HiCBricks.Rcheck/00install.out
############################################################################## ############################################################################## ### ### Running command: ### ### F:\biocbuild\bbs-3.22-bioc\R\bin\R.exe CMD INSTALL HiCBricks ### ############################################################################## ############################################################################## * installing to library 'F:/biocbuild/bbs-3.22-bioc/R/library' * installing *source* package 'HiCBricks' ... ** this is package 'HiCBricks' version '1.27.1' ** using staged installation ** R ** inst ** byte-compile and prepare package for lazy loading ** help *** installing help indices ** building package indices ** installing vignettes ** testing if installed package can be loaded from temporary location ** testing if installed package can be loaded from final location ** testing if installed package keeps a record of temporary installation path * DONE (HiCBricks)
HiCBricks.Rcheck/HiCBricks-Ex.timings
| name | user | system | elapsed | |
| BrickContainer_change_experiment_name | 1.64 | 0.21 | 3.84 | |
| BrickContainer_change_output_directory | 1.24 | 0.12 | 3.10 | |
| BrickContainer_get_path_to_file | 1.14 | 0.22 | 3.63 | |
| BrickContainer_list_chromosomes | 1.08 | 0.09 | 3.98 | |
| BrickContainer_list_experiment_name | 1.00 | 0.19 | 3.58 | |
| BrickContainer_list_files | 1.20 | 0.13 | 3.41 | |
| BrickContainer_list_output_directory | 1.15 | 0.08 | 3.84 | |
| BrickContainer_list_resolutions | 1.04 | 0.20 | 3.75 | |
| BrickContainer_unlink_resolution | 2.12 | 0.25 | 8.61 | |
| Brick_add_ranges | 1.95 | 0.18 | 5.81 | |
| Brick_call_compartments | 1.69 | 0.23 | 4.20 | |
| Brick_export_to_sparse | 3.47 | 0.27 | 6.10 | |
| Brick_fetch_range_index | 1.27 | 0.09 | 3.70 | |
| Brick_fetch_row_vector | 1.84 | 0.33 | 4.52 | |
| Brick_get_bintable | 0.95 | 0.14 | 3.40 | |
| Brick_get_chrominfo | 0.94 | 0.17 | 3.03 | |
| Brick_get_entire_matrix | 1.63 | 0.23 | 4.45 | |
| Brick_get_matrix | 1.89 | 0.27 | 4.33 | |
| Brick_get_matrix_mcols | 1.39 | 0.38 | 4.17 | |
| Brick_get_matrix_within_coords | 2.39 | 0.34 | 4.89 | |
| Brick_get_ranges | 1.18 | 0.11 | 3.11 | |
| Brick_get_values_by_distance | 1.47 | 0.28 | 4.27 | |
| Brick_get_vector_values | 1.58 | 0.31 | 4.00 | |
| Brick_list_matrices | 1.05 | 0.14 | 3.23 | |
| Brick_list_matrix_mcols | 1.16 | 0.17 | 3.00 | |
| Brick_list_mcool_normalisations | 0 | 0 | 0 | |
| Brick_list_mcool_resolutions | 0 | 0 | 0 | |
| Brick_list_rangekeys | 1.05 | 0.18 | 3.67 | |
| Brick_list_ranges_mcols | 1.09 | 0.06 | 2.94 | |
| Brick_load_cis_matrix_till_distance | 1.20 | 0.23 | 3.56 | |
| Brick_load_data_from_mcool | 0 | 0 | 0 | |
| Brick_load_data_from_sparse | 0 | 0 | 0 | |
| Brick_load_matrix | 1.30 | 0.18 | 3.72 | |
| Brick_local_score_differentiator | 2.17 | 0.25 | 4.64 | |
| Brick_make_ranges | 0.02 | 0.00 | 0.02 | |
| Brick_matrix_dimensions | 1.47 | 0.21 | 4.28 | |
| Brick_matrix_exists | 1.25 | 0.38 | 3.65 | |
| Brick_matrix_filename | 1.28 | 0.30 | 4.97 | |
| Brick_matrix_isdone | 1.53 | 0.15 | 3.88 | |
| Brick_matrix_issparse | 1.37 | 0.30 | 4.08 | |
| Brick_matrix_maxdist | 1.33 | 0.19 | 3.59 | |
| Brick_matrix_minmax | 1.42 | 0.34 | 3.62 | |
| Brick_mcool_normalisation_exists | 0 | 0 | 0 | |
| Brick_rangekey_exists | 1.10 | 0.17 | 2.91 | |
| Brick_return_region_position | 1.05 | 0.08 | 2.89 | |
| Brick_vizart_plot_heatmap | 2.70 | 0.31 | 5.16 | |
| Create_many_Bricks | 1.09 | 0.07 | 3.03 | |
| Create_many_Bricks_from_mcool | 0 | 0 | 0 | |
| load_BrickContainer | 1.14 | 0.17 | 3.30 | |