Back to Multiple platform build/check report for BioC 3.22:   simplified   long
ABCDEFG[H]IJKLMNOPQRSTUVWXYZ

This page was generated on 2025-11-07 12:01 -0500 (Fri, 07 Nov 2025).

HostnameOSArch (*)R versionInstalled pkgs
nebbiolo2Linux (Ubuntu 24.04.3 LTS)x86_644.5.1 Patched (2025-08-23 r88802) -- "Great Square Root" 4902
kjohnson3macOS 13.7.7 Venturaarm644.5.1 Patched (2025-09-10 r88807) -- "Great Square Root" 4638
Click on any hostname to see more info about the system (e.g. compilers)      (*) as reported by 'uname -p', except on Windows and Mac OS X

Package 978/2361HostnameOS / ArchINSTALLBUILDCHECKBUILD BIN
HiCBricks 1.28.0  (landing page)
Koustav Pal
Snapshot Date: 2025-11-06 13:45 -0500 (Thu, 06 Nov 2025)
git_url: https://git.bioconductor.org/packages/HiCBricks
git_branch: RELEASE_3_22
git_last_commit: 3296656
git_last_commit_date: 2025-10-29 10:48:17 -0500 (Wed, 29 Oct 2025)
nebbiolo2Linux (Ubuntu 24.04.3 LTS) / x86_64  OK    OK    OK  UNNEEDED, same version is already published
kjohnson3macOS 13.7.7 Ventura / arm64  OK    OK    OK    OK  UNNEEDED, same version is already published


CHECK results for HiCBricks on kjohnson3

To the developers/maintainers of the HiCBricks package:
- Allow up to 24 hours (and sometimes 48 hours) for your latest push to git@git.bioconductor.org:packages/HiCBricks.git to reflect on this report. See Troubleshooting Build Report for more information.
- Use the following Renviron settings to reproduce errors and warnings.
- If 'R CMD check' started to fail recently on the Linux builder(s) over a missing dependency, add the missing dependency to 'Suggests:' in your DESCRIPTION file. See Renviron.bioc for more information.

raw results


Summary

Package: HiCBricks
Version: 1.28.0
Command: /Library/Frameworks/R.framework/Resources/bin/R CMD check --install=check:HiCBricks.install-out.txt --library=/Library/Frameworks/R.framework/Resources/library --no-vignettes --timings HiCBricks_1.28.0.tar.gz
StartedAt: 2025-11-06 20:11:56 -0500 (Thu, 06 Nov 2025)
EndedAt: 2025-11-06 20:12:56 -0500 (Thu, 06 Nov 2025)
EllapsedTime: 59.7 seconds
RetCode: 0
Status:   OK  
CheckDir: HiCBricks.Rcheck
Warnings: 0

Command output

##############################################################################
##############################################################################
###
### Running command:
###
###   /Library/Frameworks/R.framework/Resources/bin/R CMD check --install=check:HiCBricks.install-out.txt --library=/Library/Frameworks/R.framework/Resources/library --no-vignettes --timings HiCBricks_1.28.0.tar.gz
###
##############################################################################
##############################################################################


* using log directory ‘/Users/biocbuild/bbs-3.22-bioc/meat/HiCBricks.Rcheck’
* using R version 4.5.1 Patched (2025-09-10 r88807)
* using platform: aarch64-apple-darwin20
* R was compiled by
    Apple clang version 16.0.0 (clang-1600.0.26.6)
    GNU Fortran (GCC) 14.2.0
* running under: macOS Ventura 13.7.7
* using session charset: UTF-8
* using option ‘--no-vignettes’
* checking for file ‘HiCBricks/DESCRIPTION’ ... OK
* checking extension type ... Package
* this is package ‘HiCBricks’ version ‘1.28.0’
* package encoding: UTF-8
* checking package namespace information ... OK
* checking package dependencies ... OK
* checking if this is a source package ... OK
* checking if there is a namespace ... OK
* checking for hidden files and directories ... OK
* checking for portable file names ... OK
* checking for sufficient/correct file permissions ... OK
* checking whether package ‘HiCBricks’ can be installed ... OK
* checking installed package size ... OK
* checking package directory ... OK
* checking ‘build’ directory ... OK
* checking DESCRIPTION meta-information ... OK
* checking top-level files ... OK
* checking for left-over files ... OK
* checking index information ... OK
* checking package subdirectories ... OK
* checking code files for non-ASCII characters ... OK
* checking R files for syntax errors ... OK
* checking whether the package can be loaded ... OK
* checking whether the package can be loaded with stated dependencies ... OK
* checking whether the package can be unloaded cleanly ... OK
* checking whether the namespace can be loaded with stated dependencies ... OK
* checking whether the namespace can be unloaded cleanly ... OK
* checking dependencies in R code ... OK
* checking S3 generic/method consistency ... OK
* checking replacement functions ... OK
* checking foreign function calls ... OK
* checking R code for possible problems ... OK
* checking Rd files ... OK
* checking Rd metadata ... OK
* checking Rd cross-references ... OK
* checking for missing documentation entries ... OK
* checking for code/documentation mismatches ... OK
* checking Rd \usage sections ... OK
* checking Rd contents ... OK
* checking for unstated dependencies in examples ... OK
* checking files in ‘vignettes’ ... OK
* checking examples ... OK
* checking for unstated dependencies in vignettes ... OK
* checking package vignettes ... OK
* checking running R code from vignettes ... SKIPPED
* checking re-building of vignette outputs ... SKIPPED
* checking PDF version of manual ... OK
* DONE

Status: OK


Installation output

HiCBricks.Rcheck/00install.out

##############################################################################
##############################################################################
###
### Running command:
###
###   /Library/Frameworks/R.framework/Resources/bin/R CMD INSTALL HiCBricks
###
##############################################################################
##############################################################################


* installing to library ‘/Library/Frameworks/R.framework/Versions/4.5-arm64/Resources/library’
* installing *source* package ‘HiCBricks’ ...
** this is package ‘HiCBricks’ version ‘1.28.0’
** using staged installation
** R
** inst
** byte-compile and prepare package for lazy loading
** help
*** installing help indices
** building package indices
** installing vignettes
** testing if installed package can be loaded from temporary location
** testing if installed package can be loaded from final location
** testing if installed package keeps a record of temporary installation path
* DONE (HiCBricks)

Tests output


Example timings

HiCBricks.Rcheck/HiCBricks-Ex.timings

nameusersystemelapsed
BrickContainer_change_experiment_name0.3280.0410.371
BrickContainer_change_output_directory0.2620.0300.291
BrickContainer_get_path_to_file0.2130.0330.294
BrickContainer_list_chromosomes0.2170.0300.406
BrickContainer_list_experiment_name0.2190.0310.518
BrickContainer_list_files0.2270.0340.467
BrickContainer_list_output_directory0.2290.0320.500
BrickContainer_list_resolutions0.2170.0310.500
BrickContainer_unlink_resolution0.4850.0700.995
Brick_add_ranges0.5540.0480.878
Brick_call_compartments0.4160.0840.741
Brick_export_to_sparse0.7060.0981.194
Brick_fetch_range_index0.2620.0360.351
Brick_fetch_row_vector0.5620.0530.622
Brick_get_bintable0.2170.0290.246
Brick_get_chrominfo0.2060.0290.308
Brick_get_entire_matrix0.3790.0590.627
Brick_get_matrix0.3890.0680.636
Brick_get_matrix_mcols0.3780.0530.620
Brick_get_matrix_within_coords0.5410.0790.957
Brick_get_ranges0.2610.0360.408
Brick_get_values_by_distance0.3680.0670.439
Brick_get_vector_values0.3420.0520.394
Brick_list_matrices0.2190.0310.262
Brick_list_matrix_mcols0.2070.0250.233
Brick_list_mcool_normalisations000
Brick_list_mcool_resolutions000
Brick_list_rangekeys0.2120.0300.243
Brick_list_ranges_mcols0.2030.0270.230
Brick_load_cis_matrix_till_distance0.3060.0490.356
Brick_load_data_from_mcool000
Brick_load_data_from_sparse0.0000.0010.001
Brick_load_matrix0.3290.0510.380
Brick_local_score_differentiator0.5290.0780.617
Brick_make_ranges0.0020.0000.003
Brick_matrix_dimensions0.3430.0530.400
Brick_matrix_exists0.3290.0510.383
Brick_matrix_filename0.3320.0480.382
Brick_matrix_isdone0.3380.0550.451
Brick_matrix_issparse0.3390.0540.395
Brick_matrix_maxdist0.3300.0540.385
Brick_matrix_minmax0.3340.1080.449
Brick_mcool_normalisation_exists000
Brick_rangekey_exists0.2100.0350.246
Brick_return_region_position0.2320.0300.263
Brick_vizart_plot_heatmap0.6910.1060.829
Create_many_Bricks0.2360.0320.274
Create_many_Bricks_from_mcool000
load_BrickContainer0.2360.0350.274