| Back to Multiple platform build/check report for BioC 3.22: simplified long |
|
This page was generated on 2025-11-04 12:04 -0500 (Tue, 04 Nov 2025).
| Hostname | OS | Arch (*) | R version | Installed pkgs |
|---|---|---|---|---|
| nebbiolo2 | Linux (Ubuntu 24.04.3 LTS) | x86_64 | 4.5.1 Patched (2025-08-23 r88802) -- "Great Square Root" | 4902 |
| lconway | macOS 12.7.6 Monterey | x86_64 | 4.5.1 Patched (2025-09-10 r88807) -- "Great Square Root" | 4692 |
| kjohnson3 | macOS 13.7.7 Ventura | arm64 | 4.5.1 Patched (2025-09-10 r88807) -- "Great Square Root" | 4638 |
| Click on any hostname to see more info about the system (e.g. compilers) (*) as reported by 'uname -p', except on Windows and Mac OS X | ||||
| Package 978/2361 | Hostname | OS / Arch | INSTALL | BUILD | CHECK | BUILD BIN | ||||||||
| HiCBricks 1.28.0 (landing page) Koustav Pal
| nebbiolo2 | Linux (Ubuntu 24.04.3 LTS) / x86_64 | OK | OK | OK | |||||||||
| lconway | macOS 12.7.6 Monterey / x86_64 | OK | OK | OK | OK | |||||||||
| kjohnson3 | macOS 13.7.7 Ventura / arm64 | OK | OK | OK | OK | |||||||||
|
To the developers/maintainers of the HiCBricks package: - Allow up to 24 hours (and sometimes 48 hours) for your latest push to git@git.bioconductor.org:packages/HiCBricks.git to reflect on this report. See Troubleshooting Build Report for more information. - Use the following Renviron settings to reproduce errors and warnings. - If 'R CMD check' started to fail recently on the Linux builder(s) over a missing dependency, add the missing dependency to 'Suggests:' in your DESCRIPTION file. See Renviron.bioc for more information. |
| Package: HiCBricks |
| Version: 1.28.0 |
| Command: /Library/Frameworks/R.framework/Resources/bin/R CMD check --install=check:HiCBricks.install-out.txt --library=/Library/Frameworks/R.framework/Resources/library --no-vignettes --timings HiCBricks_1.28.0.tar.gz |
| StartedAt: 2025-11-03 21:48:08 -0500 (Mon, 03 Nov 2025) |
| EndedAt: 2025-11-03 21:51:11 -0500 (Mon, 03 Nov 2025) |
| EllapsedTime: 183.1 seconds |
| RetCode: 0 |
| Status: OK |
| CheckDir: HiCBricks.Rcheck |
| Warnings: 0 |
##############################################################################
##############################################################################
###
### Running command:
###
### /Library/Frameworks/R.framework/Resources/bin/R CMD check --install=check:HiCBricks.install-out.txt --library=/Library/Frameworks/R.framework/Resources/library --no-vignettes --timings HiCBricks_1.28.0.tar.gz
###
##############################################################################
##############################################################################
* using log directory ‘/Users/biocbuild/bbs-3.22-bioc/meat/HiCBricks.Rcheck’
* using R version 4.5.1 Patched (2025-09-10 r88807)
* using platform: x86_64-apple-darwin20
* R was compiled by
Apple clang version 14.0.0 (clang-1400.0.29.202)
GNU Fortran (GCC) 14.2.0
* running under: macOS Monterey 12.7.6
* using session charset: UTF-8
* using option ‘--no-vignettes’
* checking for file ‘HiCBricks/DESCRIPTION’ ... OK
* checking extension type ... Package
* this is package ‘HiCBricks’ version ‘1.28.0’
* package encoding: UTF-8
* checking package namespace information ... OK
* checking package dependencies ... OK
* checking if this is a source package ... OK
* checking if there is a namespace ... OK
* checking for hidden files and directories ... OK
* checking for portable file names ... OK
* checking for sufficient/correct file permissions ... OK
* checking whether package ‘HiCBricks’ can be installed ... OK
* checking installed package size ... OK
* checking package directory ... OK
* checking ‘build’ directory ... OK
* checking DESCRIPTION meta-information ... OK
* checking top-level files ... OK
* checking for left-over files ... OK
* checking index information ... OK
* checking package subdirectories ... OK
* checking code files for non-ASCII characters ... OK
* checking R files for syntax errors ... OK
* checking whether the package can be loaded ... OK
* checking whether the package can be loaded with stated dependencies ... OK
* checking whether the package can be unloaded cleanly ... OK
* checking whether the namespace can be loaded with stated dependencies ... OK
* checking whether the namespace can be unloaded cleanly ... OK
* checking dependencies in R code ... OK
* checking S3 generic/method consistency ... OK
* checking replacement functions ... OK
* checking foreign function calls ... OK
* checking R code for possible problems ... OK
* checking Rd files ... OK
* checking Rd metadata ... OK
* checking Rd cross-references ... OK
* checking for missing documentation entries ... OK
* checking for code/documentation mismatches ... OK
* checking Rd \usage sections ... OK
* checking Rd contents ... OK
* checking for unstated dependencies in examples ... OK
* checking files in ‘vignettes’ ... OK
* checking examples ... OK
* checking for unstated dependencies in vignettes ... OK
* checking package vignettes ... OK
* checking running R code from vignettes ... SKIPPED
* checking re-building of vignette outputs ... SKIPPED
* checking PDF version of manual ... OK
* DONE
Status: OK
HiCBricks.Rcheck/00install.out
############################################################################## ############################################################################## ### ### Running command: ### ### /Library/Frameworks/R.framework/Resources/bin/R CMD INSTALL HiCBricks ### ############################################################################## ############################################################################## * installing to library ‘/Library/Frameworks/R.framework/Versions/4.5-x86_64/Resources/library’ * installing *source* package ‘HiCBricks’ ... ** this is package ‘HiCBricks’ version ‘1.28.0’ ** using staged installation ** R ** inst ** byte-compile and prepare package for lazy loading ** help *** installing help indices ** building package indices ** installing vignettes ** testing if installed package can be loaded from temporary location ** testing if installed package can be loaded from final location ** testing if installed package keeps a record of temporary installation path * DONE (HiCBricks)
HiCBricks.Rcheck/HiCBricks-Ex.timings
| name | user | system | elapsed | |
| BrickContainer_change_experiment_name | 1.284 | 0.128 | 1.439 | |
| BrickContainer_change_output_directory | 1.027 | 0.090 | 1.122 | |
| BrickContainer_get_path_to_file | 0.849 | 0.082 | 0.936 | |
| BrickContainer_list_chromosomes | 0.869 | 0.086 | 0.979 | |
| BrickContainer_list_experiment_name | 0.916 | 0.090 | 1.020 | |
| BrickContainer_list_files | 0.942 | 0.091 | 1.057 | |
| BrickContainer_list_output_directory | 0.879 | 0.094 | 1.012 | |
| BrickContainer_list_resolutions | 0.893 | 0.089 | 1.015 | |
| BrickContainer_unlink_resolution | 2.028 | 0.203 | 2.322 | |
| Brick_add_ranges | 2.057 | 0.144 | 2.248 | |
| Brick_call_compartments | 1.501 | 0.423 | 1.976 | |
| Brick_export_to_sparse | 2.684 | 0.337 | 3.043 | |
| Brick_fetch_range_index | 0.992 | 0.080 | 1.079 | |
| Brick_fetch_row_vector | 1.826 | 0.214 | 2.053 | |
| Brick_get_bintable | 0.844 | 0.077 | 0.927 | |
| Brick_get_chrominfo | 0.750 | 0.076 | 0.830 | |
| Brick_get_entire_matrix | 1.164 | 0.286 | 1.464 | |
| Brick_get_matrix | 1.236 | 0.417 | 1.671 | |
| Brick_get_matrix_mcols | 1.211 | 0.421 | 1.647 | |
| Brick_get_matrix_within_coords | 1.621 | 0.445 | 2.081 | |
| Brick_get_ranges | 0.813 | 0.075 | 0.894 | |
| Brick_get_values_by_distance | 1.343 | 0.392 | 1.767 | |
| Brick_get_vector_values | 1.240 | 0.366 | 1.631 | |
| Brick_list_matrices | 0.874 | 0.089 | 0.975 | |
| Brick_list_matrix_mcols | 0.834 | 0.085 | 0.931 | |
| Brick_list_mcool_normalisations | 0.001 | 0.000 | 0.001 | |
| Brick_list_mcool_resolutions | 0 | 0 | 0 | |
| Brick_list_rangekeys | 0.856 | 0.090 | 0.958 | |
| Brick_list_ranges_mcols | 0.842 | 0.084 | 0.937 | |
| Brick_load_cis_matrix_till_distance | 1.141 | 0.213 | 1.372 | |
| Brick_load_data_from_mcool | 0.000 | 0.000 | 0.001 | |
| Brick_load_data_from_sparse | 0 | 0 | 0 | |
| Brick_load_matrix | 1.238 | 0.440 | 1.691 | |
| Brick_local_score_differentiator | 1.922 | 0.526 | 2.503 | |
| Brick_make_ranges | 0.012 | 0.001 | 0.012 | |
| Brick_matrix_dimensions | 1.184 | 0.312 | 1.510 | |
| Brick_matrix_exists | 1.286 | 0.379 | 1.694 | |
| Brick_matrix_filename | 1.257 | 0.267 | 1.626 | |
| Brick_matrix_isdone | 1.242 | 0.360 | 1.639 | |
| Brick_matrix_issparse | 1.258 | 0.402 | 1.764 | |
| Brick_matrix_maxdist | 1.258 | 0.345 | 1.624 | |
| Brick_matrix_minmax | 1.258 | 0.369 | 1.652 | |
| Brick_mcool_normalisation_exists | 0 | 0 | 0 | |
| Brick_rangekey_exists | 0.925 | 0.095 | 1.044 | |
| Brick_return_region_position | 0.972 | 0.087 | 1.070 | |
| Brick_vizart_plot_heatmap | 2.457 | 0.525 | 3.016 | |
| Create_many_Bricks | 0.911 | 0.090 | 1.011 | |
| Create_many_Bricks_from_mcool | 0 | 0 | 0 | |
| load_BrickContainer | 0.924 | 0.089 | 1.025 | |