Back to Multiple platform build/check report for BioC 3.22:   simplified   long
ABC[D]EFGHIJKLMNOPQRSTUVWXYZ

This page was generated on 2025-11-03 12:03 -0500 (Mon, 03 Nov 2025).

HostnameOSArch (*)R versionInstalled pkgs
nebbiolo2Linux (Ubuntu 24.04.3 LTS)x86_644.5.1 Patched (2025-08-23 r88802) -- "Great Square Root" 4902
lconwaymacOS 12.7.6 Montereyx86_644.5.1 Patched (2025-09-10 r88807) -- "Great Square Root" 4692
kjohnson3macOS 13.7.7 Venturaarm644.5.1 Patched (2025-09-10 r88807) -- "Great Square Root" 4638
Click on any hostname to see more info about the system (e.g. compilers)      (*) as reported by 'uname -p', except on Windows and Mac OS X

Package 565/2361HostnameOS / ArchINSTALLBUILDCHECKBUILD BIN
DEP 1.32.0  (landing page)
Arne Smits
Snapshot Date: 2025-11-02 13:45 -0500 (Sun, 02 Nov 2025)
git_url: https://git.bioconductor.org/packages/DEP
git_branch: RELEASE_3_22
git_last_commit: 251eef4
git_last_commit_date: 2025-10-29 10:40:06 -0500 (Wed, 29 Oct 2025)
nebbiolo2Linux (Ubuntu 24.04.3 LTS) / x86_64  OK    OK    OK  UNNEEDED, same version is already published
lconwaymacOS 12.7.6 Monterey / x86_64  OK    OK    OK    OK  UNNEEDED, same version is already published
kjohnson3macOS 13.7.7 Ventura / arm64  OK    OK    OK    OK  UNNEEDED, same version is already published


CHECK results for DEP on lconway

To the developers/maintainers of the DEP package:
- Allow up to 24 hours (and sometimes 48 hours) for your latest push to git@git.bioconductor.org:packages/DEP.git to reflect on this report. See Troubleshooting Build Report for more information.
- Use the following Renviron settings to reproduce errors and warnings.
- If 'R CMD check' started to fail recently on the Linux builder(s) over a missing dependency, add the missing dependency to 'Suggests:' in your DESCRIPTION file. See Renviron.bioc for more information.

raw results


Summary

Package: DEP
Version: 1.32.0
Command: /Library/Frameworks/R.framework/Resources/bin/R CMD check --install=check:DEP.install-out.txt --library=/Library/Frameworks/R.framework/Resources/library --no-vignettes --timings DEP_1.32.0.tar.gz
StartedAt: 2025-11-02 20:45:42 -0500 (Sun, 02 Nov 2025)
EndedAt: 2025-11-02 20:53:53 -0500 (Sun, 02 Nov 2025)
EllapsedTime: 490.9 seconds
RetCode: 0
Status:   OK  
CheckDir: DEP.Rcheck
Warnings: 0

Command output

##############################################################################
##############################################################################
###
### Running command:
###
###   /Library/Frameworks/R.framework/Resources/bin/R CMD check --install=check:DEP.install-out.txt --library=/Library/Frameworks/R.framework/Resources/library --no-vignettes --timings DEP_1.32.0.tar.gz
###
##############################################################################
##############################################################################


* using log directory ‘/Users/biocbuild/bbs-3.22-bioc/meat/DEP.Rcheck’
* using R version 4.5.1 Patched (2025-09-10 r88807)
* using platform: x86_64-apple-darwin20
* R was compiled by
    Apple clang version 14.0.0 (clang-1400.0.29.202)
    GNU Fortran (GCC) 14.2.0
* running under: macOS Monterey 12.7.6
* using session charset: UTF-8
* using option ‘--no-vignettes’
* checking for file ‘DEP/DESCRIPTION’ ... OK
* this is package ‘DEP’ version ‘1.32.0’
* package encoding: UTF-8
* checking package namespace information ... OK
* checking package dependencies ... INFO
Imports includes 23 non-default packages.
Importing from so many packages makes the package vulnerable to any of
them becoming unavailable.  Move as many as possible to Suggests and
use conditionally.
* checking if this is a source package ... OK
* checking if there is a namespace ... OK
* checking for hidden files and directories ... OK
* checking for portable file names ... OK
* checking for sufficient/correct file permissions ... OK
* checking whether package ‘DEP’ can be installed ... OK
* checking installed package size ... OK
* checking package directory ... OK
* checking ‘build’ directory ... OK
* checking DESCRIPTION meta-information ... OK
* checking top-level files ... OK
* checking for left-over files ... OK
* checking index information ... OK
* checking package subdirectories ... OK
* checking code files for non-ASCII characters ... OK
* checking R files for syntax errors ... OK
* checking whether the package can be loaded ... OK
* checking whether the package can be loaded with stated dependencies ... OK
* checking whether the package can be unloaded cleanly ... OK
* checking whether the namespace can be loaded with stated dependencies ... OK
* checking whether the namespace can be unloaded cleanly ... OK
* checking whether startup messages can be suppressed ... OK
* checking dependencies in R code ... OK
* checking S3 generic/method consistency ... OK
* checking replacement functions ... OK
* checking foreign function calls ... OK
* checking R code for possible problems ... OK
* checking Rd files ... OK
* checking Rd metadata ... OK
* checking Rd cross-references ... NOTE
Non-topic package-anchored link(s) in Rd file 'LFQ.Rd':
  ‘[MSnbase:impute]{impute}’

Non-topic package-anchored link(s) in Rd file 'TMT.Rd':
  ‘[MSnbase:impute]{impute}’

Non-topic package-anchored link(s) in Rd file 'impute.Rd':
  ‘[MSnbase:impute]{impute}’

Non-topic package-anchored link(s) in Rd file 'process.Rd':
  ‘[MSnbase:impute]{impute}’

See section 'Cross-references' in the 'Writing R Extensions' manual.
* checking for missing documentation entries ... OK
* checking for code/documentation mismatches ... OK
* checking Rd \usage sections ... OK
* checking Rd contents ... OK
* checking for unstated dependencies in examples ... OK
* checking contents of ‘data’ directory ... OK
* checking data for non-ASCII characters ... OK
* checking LazyData ... OK
* checking data for ASCII and uncompressed saves ... OK
* checking R/sysdata.rda ... OK
* checking files in ‘vignettes’ ... OK
* checking examples ... OK
Examples with CPU (user + system) or elapsed time > 5s
         user system elapsed
impute 48.969  0.189   49.22
* checking for unstated dependencies in ‘tests’ ... OK
* checking tests ...
  Running ‘testthat.R’
 OK
* checking for unstated dependencies in vignettes ... OK
* checking package vignettes ... OK
* checking running R code from vignettes ... SKIPPED
* checking re-building of vignette outputs ... SKIPPED
* checking PDF version of manual ... OK
* DONE

Status: 1 NOTE
See
  ‘/Users/biocbuild/bbs-3.22-bioc/meat/DEP.Rcheck/00check.log’
for details.


Installation output

DEP.Rcheck/00install.out

##############################################################################
##############################################################################
###
### Running command:
###
###   /Library/Frameworks/R.framework/Resources/bin/R CMD INSTALL DEP
###
##############################################################################
##############################################################################


* installing to library ‘/Library/Frameworks/R.framework/Versions/4.5-x86_64/Resources/library’
* installing *source* package ‘DEP’ ...
** this is package ‘DEP’ version ‘1.32.0’
** using staged installation
** R
** data
*** moving datasets to lazyload DB
** inst
** byte-compile and prepare package for lazy loading
** help
*** installing help indices
** building package indices
** installing vignettes
** testing if installed package can be loaded from temporary location
Warning in fun(libname, pkgname) :
  Package 'DEP' is deprecated and will be removed from Bioconductor
  version 3.23
** testing if installed package can be loaded from final location
Warning in fun(libname, pkgname) :
  Package 'DEP' is deprecated and will be removed from Bioconductor
  version 3.23
** testing if installed package keeps a record of temporary installation path
* DONE (DEP)

Tests output

DEP.Rcheck/tests/testthat.Rout


R version 4.5.1 Patched (2025-09-10 r88807) -- "Great Square Root"
Copyright (C) 2025 The R Foundation for Statistical Computing
Platform: x86_64-apple-darwin20

R is free software and comes with ABSOLUTELY NO WARRANTY.
You are welcome to redistribute it under certain conditions.
Type 'license()' or 'licence()' for distribution details.

R is a collaborative project with many contributors.
Type 'contributors()' for more information and
'citation()' on how to cite R or R packages in publications.

Type 'demo()' for some demos, 'help()' for on-line help, or
'help.start()' for an HTML browser interface to help.
Type 'q()' to quit R.

> library(testthat)
> library(DEP)
Warning message:
In fun(libname, pkgname) :
  Package 'DEP' is deprecated and will be removed from Bioconductor
  version 3.23
> 
> test_check("DEP")
[ FAIL 0 | WARN 15 | SKIP 0 | PASS 333 ]

[ FAIL 0 | WARN 15 | SKIP 0 | PASS 333 ]
> 
> proc.time()
   user  system elapsed 
 52.154   2.447  55.642 

Example timings

DEP.Rcheck/DEP-Ex.timings

nameusersystemelapsed
LFQ1.4190.0431.473
TMT0.0000.0010.000
add_rejections1.5570.0141.574
analyze_dep2.2810.0902.375
filter_missval0.4540.0080.463
filter_proteins0.2540.0060.260
get_df_long0.8090.0150.827
get_df_wide1.7140.0171.733
get_prefix0.0020.0010.002
get_results0.8640.0160.880
get_suffix0.0010.0000.001
import_IsobarQuant000
import_MaxQuant0.0580.0120.071
impute48.969 0.18949.220
make_se0.0330.0010.033
make_se_parse0.0580.0010.060
make_unique0.0180.0000.019
manual_impute0.5400.0240.564
meanSdPlot0.9250.0350.961
normalize_vsn0.3920.0030.396
plot_all1.9570.0361.998
plot_cond0.9500.0380.992
plot_cond_freq0.9150.0190.936
plot_cond_overlap0.8840.0100.896
plot_cor1.2840.0291.318
plot_coverage0.5830.0060.590
plot_detect1.0170.0101.030
plot_dist3.4670.0253.498
plot_frequency0.5030.0040.508
plot_gsea0.6160.0040.621
plot_heatmap2.6070.0332.648
plot_imputation1.2270.0271.257
plot_missval1.5170.0821.604
plot_normalization1.5220.0391.563
plot_numbers0.6040.0160.621
plot_p_hist1.4490.0141.468
plot_pca1.4360.0131.454
plot_single1.8490.0251.879
plot_volcano4.3290.0404.389
process1.4750.0191.495
report000
run_app000
se2msn0.1600.0010.162
test_diff0.9930.0111.014
test_gsea0.8600.0100.874
theme_DEP10.5510.0040.557
theme_DEP20.5340.0060.541