| Back to Multiple platform build/check report for BioC 3.22: simplified long |
|
This page was generated on 2025-11-03 12:04 -0500 (Mon, 03 Nov 2025).
| Hostname | OS | Arch (*) | R version | Installed pkgs |
|---|---|---|---|---|
| nebbiolo2 | Linux (Ubuntu 24.04.3 LTS) | x86_64 | 4.5.1 Patched (2025-08-23 r88802) -- "Great Square Root" | 4902 |
| lconway | macOS 12.7.6 Monterey | x86_64 | 4.5.1 Patched (2025-09-10 r88807) -- "Great Square Root" | 4692 |
| kjohnson3 | macOS 13.7.7 Ventura | arm64 | 4.5.1 Patched (2025-09-10 r88807) -- "Great Square Root" | 4638 |
| Click on any hostname to see more info about the system (e.g. compilers) (*) as reported by 'uname -p', except on Windows and Mac OS X | ||||
| Package 565/2361 | Hostname | OS / Arch | INSTALL | BUILD | CHECK | BUILD BIN | ||||||||
Arne Smits
| nebbiolo2 | Linux (Ubuntu 24.04.3 LTS) / x86_64 | OK | OK | OK | |||||||||
| lconway | macOS 12.7.6 Monterey / x86_64 | OK | OK | OK | OK | |||||||||
| kjohnson3 | macOS 13.7.7 Ventura / arm64 | OK | OK | OK | OK | |||||||||
|
To the developers/maintainers of the DEP package: - Allow up to 24 hours (and sometimes 48 hours) for your latest push to git@git.bioconductor.org:packages/DEP.git to reflect on this report. See Troubleshooting Build Report for more information. - Use the following Renviron settings to reproduce errors and warnings. - If 'R CMD check' started to fail recently on the Linux builder(s) over a missing dependency, add the missing dependency to 'Suggests:' in your DESCRIPTION file. See Renviron.bioc for more information. |
| Package: DEP |
| Version: 1.32.0 |
| Command: /Library/Frameworks/R.framework/Resources/bin/R CMD check --install=check:DEP.install-out.txt --library=/Library/Frameworks/R.framework/Resources/library --no-vignettes --timings DEP_1.32.0.tar.gz |
| StartedAt: 2025-11-02 19:25:03 -0500 (Sun, 02 Nov 2025) |
| EndedAt: 2025-11-02 19:27:41 -0500 (Sun, 02 Nov 2025) |
| EllapsedTime: 157.8 seconds |
| RetCode: 0 |
| Status: OK |
| CheckDir: DEP.Rcheck |
| Warnings: 0 |
##############################################################################
##############################################################################
###
### Running command:
###
### /Library/Frameworks/R.framework/Resources/bin/R CMD check --install=check:DEP.install-out.txt --library=/Library/Frameworks/R.framework/Resources/library --no-vignettes --timings DEP_1.32.0.tar.gz
###
##############################################################################
##############################################################################
* using log directory ‘/Users/biocbuild/bbs-3.22-bioc/meat/DEP.Rcheck’
* using R version 4.5.1 Patched (2025-09-10 r88807)
* using platform: aarch64-apple-darwin20
* R was compiled by
Apple clang version 16.0.0 (clang-1600.0.26.6)
GNU Fortran (GCC) 14.2.0
* running under: macOS Ventura 13.7.7
* using session charset: UTF-8
* using option ‘--no-vignettes’
* checking for file ‘DEP/DESCRIPTION’ ... OK
* this is package ‘DEP’ version ‘1.32.0’
* package encoding: UTF-8
* checking package namespace information ... OK
* checking package dependencies ... INFO
Imports includes 23 non-default packages.
Importing from so many packages makes the package vulnerable to any of
them becoming unavailable. Move as many as possible to Suggests and
use conditionally.
* checking if this is a source package ... OK
* checking if there is a namespace ... OK
* checking for hidden files and directories ... OK
* checking for portable file names ... OK
* checking for sufficient/correct file permissions ... OK
* checking whether package ‘DEP’ can be installed ... OK
* checking installed package size ... OK
* checking package directory ... OK
* checking ‘build’ directory ... OK
* checking DESCRIPTION meta-information ... OK
* checking top-level files ... OK
* checking for left-over files ... OK
* checking index information ... OK
* checking package subdirectories ... OK
* checking code files for non-ASCII characters ... OK
* checking R files for syntax errors ... OK
* checking whether the package can be loaded ... OK
* checking whether the package can be loaded with stated dependencies ... OK
* checking whether the package can be unloaded cleanly ... OK
* checking whether the namespace can be loaded with stated dependencies ... OK
* checking whether the namespace can be unloaded cleanly ... OK
* checking whether startup messages can be suppressed ... OK
* checking dependencies in R code ... OK
* checking S3 generic/method consistency ... OK
* checking replacement functions ... OK
* checking foreign function calls ... OK
* checking R code for possible problems ... OK
* checking Rd files ... OK
* checking Rd metadata ... OK
* checking Rd cross-references ... NOTE
Non-topic package-anchored link(s) in Rd file 'LFQ.Rd':
‘[MSnbase:impute]{impute}’
Non-topic package-anchored link(s) in Rd file 'TMT.Rd':
‘[MSnbase:impute]{impute}’
Non-topic package-anchored link(s) in Rd file 'impute.Rd':
‘[MSnbase:impute]{impute}’
Non-topic package-anchored link(s) in Rd file 'process.Rd':
‘[MSnbase:impute]{impute}’
See section 'Cross-references' in the 'Writing R Extensions' manual.
* checking for missing documentation entries ... OK
* checking for code/documentation mismatches ... OK
* checking Rd \usage sections ... OK
* checking Rd contents ... OK
* checking for unstated dependencies in examples ... OK
* checking contents of ‘data’ directory ... OK
* checking data for non-ASCII characters ... OK
* checking LazyData ... OK
* checking data for ASCII and uncompressed saves ... OK
* checking R/sysdata.rda ... OK
* checking files in ‘vignettes’ ... OK
* checking examples ... OK
Examples with CPU (user + system) or elapsed time > 5s
user system elapsed
impute 5.638 0.031 5.679
* checking for unstated dependencies in ‘tests’ ... OK
* checking tests ...
Running ‘testthat.R’
OK
* checking for unstated dependencies in vignettes ... OK
* checking package vignettes ... OK
* checking running R code from vignettes ... SKIPPED
* checking re-building of vignette outputs ... SKIPPED
* checking PDF version of manual ... OK
* DONE
Status: 1 NOTE
See
‘/Users/biocbuild/bbs-3.22-bioc/meat/DEP.Rcheck/00check.log’
for details.
DEP.Rcheck/00install.out
############################################################################## ############################################################################## ### ### Running command: ### ### /Library/Frameworks/R.framework/Resources/bin/R CMD INSTALL DEP ### ############################################################################## ############################################################################## * installing to library ‘/Library/Frameworks/R.framework/Versions/4.5-arm64/Resources/library’ * installing *source* package ‘DEP’ ... ** this is package ‘DEP’ version ‘1.32.0’ ** using staged installation ** R ** data *** moving datasets to lazyload DB ** inst ** byte-compile and prepare package for lazy loading ** help *** installing help indices ** building package indices ** installing vignettes ** testing if installed package can be loaded from temporary location Warning in fun(libname, pkgname) : Package 'DEP' is deprecated and will be removed from Bioconductor version 3.23 ** testing if installed package can be loaded from final location Warning in fun(libname, pkgname) : Package 'DEP' is deprecated and will be removed from Bioconductor version 3.23 ** testing if installed package keeps a record of temporary installation path * DONE (DEP)
DEP.Rcheck/tests/testthat.Rout
R version 4.5.1 Patched (2025-09-10 r88807) -- "Great Square Root"
Copyright (C) 2025 The R Foundation for Statistical Computing
Platform: aarch64-apple-darwin20
R is free software and comes with ABSOLUTELY NO WARRANTY.
You are welcome to redistribute it under certain conditions.
Type 'license()' or 'licence()' for distribution details.
R is a collaborative project with many contributors.
Type 'contributors()' for more information and
'citation()' on how to cite R or R packages in publications.
Type 'demo()' for some demos, 'help()' for on-line help, or
'help.start()' for an HTML browser interface to help.
Type 'q()' to quit R.
> library(testthat)
> library(DEP)
Warning message:
In fun(libname, pkgname) :
Package 'DEP' is deprecated and will be removed from Bioconductor
version 3.23
>
> test_check("DEP")
[ FAIL 0 | WARN 15 | SKIP 0 | PASS 333 ]
[ FAIL 0 | WARN 15 | SKIP 0 | PASS 333 ]
>
> proc.time()
user system elapsed
20.768 0.899 21.890
DEP.Rcheck/DEP-Ex.timings
| name | user | system | elapsed | |
| LFQ | 0.450 | 0.020 | 0.468 | |
| TMT | 0 | 0 | 0 | |
| add_rejections | 0.592 | 0.008 | 0.605 | |
| analyze_dep | 0.683 | 0.030 | 0.716 | |
| filter_missval | 0.143 | 0.003 | 0.146 | |
| filter_proteins | 0.087 | 0.001 | 0.088 | |
| get_df_long | 0.232 | 0.006 | 0.238 | |
| get_df_wide | 0.629 | 0.010 | 0.638 | |
| get_prefix | 0.001 | 0.000 | 0.001 | |
| get_results | 0.278 | 0.008 | 0.286 | |
| get_suffix | 0 | 0 | 0 | |
| import_IsobarQuant | 0 | 0 | 0 | |
| import_MaxQuant | 0.022 | 0.005 | 0.028 | |
| impute | 5.638 | 0.031 | 5.679 | |
| make_se | 0.013 | 0.000 | 0.013 | |
| make_se_parse | 0.019 | 0.001 | 0.020 | |
| make_unique | 0.006 | 0.000 | 0.007 | |
| manual_impute | 0.192 | 0.016 | 0.208 | |
| meanSdPlot | 0.280 | 0.010 | 0.292 | |
| normalize_vsn | 0.103 | 0.002 | 0.106 | |
| plot_all | 0.537 | 0.014 | 0.552 | |
| plot_cond | 0.363 | 0.012 | 0.376 | |
| plot_cond_freq | 0.299 | 0.009 | 0.309 | |
| plot_cond_overlap | 0.289 | 0.006 | 0.296 | |
| plot_cor | 0.413 | 0.013 | 0.433 | |
| plot_coverage | 0.189 | 0.005 | 0.195 | |
| plot_detect | 0.296 | 0.003 | 0.300 | |
| plot_dist | 1.126 | 0.015 | 1.143 | |
| plot_frequency | 0.159 | 0.004 | 0.163 | |
| plot_gsea | 0.208 | 0.006 | 0.213 | |
| plot_heatmap | 0.767 | 0.013 | 0.783 | |
| plot_imputation | 0.354 | 0.016 | 0.373 | |
| plot_missval | 0.478 | 0.040 | 0.518 | |
| plot_normalization | 0.521 | 0.020 | 0.543 | |
| plot_numbers | 0.191 | 0.007 | 0.201 | |
| plot_p_hist | 0.453 | 0.012 | 0.466 | |
| plot_pca | 0.436 | 0.007 | 0.444 | |
| plot_single | 0.626 | 0.010 | 0.637 | |
| plot_volcano | 1.924 | 0.015 | 1.940 | |
| process | 0.519 | 0.023 | 0.542 | |
| report | 0.000 | 0.000 | 0.001 | |
| run_app | 0 | 0 | 0 | |
| se2msn | 0.039 | 0.000 | 0.039 | |
| test_diff | 0.275 | 0.008 | 0.297 | |
| test_gsea | 0.228 | 0.010 | 0.238 | |
| theme_DEP1 | 0.162 | 0.002 | 0.165 | |
| theme_DEP2 | 0.191 | 0.003 | 0.195 | |