| Back to Multiple platform build/check report for BioC 3.22: simplified long | 
  | 
This page was generated on 2025-11-03 12:03 -0500 (Mon, 03 Nov 2025).
| Hostname | OS | Arch (*) | R version | Installed pkgs | 
|---|---|---|---|---|
| nebbiolo2 | Linux (Ubuntu 24.04.3 LTS) | x86_64 | 4.5.1 Patched (2025-08-23 r88802) -- "Great Square Root" | 4902 | 
| lconway | macOS 12.7.6 Monterey | x86_64 | 4.5.1 Patched (2025-09-10 r88807) -- "Great Square Root" | 4692 | 
| kjohnson3 | macOS 13.7.7 Ventura | arm64 | 4.5.1 Patched (2025-09-10 r88807) -- "Great Square Root" | 4638 | 
| Click on any hostname to see more info about the system (e.g. compilers) (*) as reported by 'uname -p', except on Windows and Mac OS X | ||||
| Package 565/2361 | Hostname | OS / Arch | INSTALL | BUILD | CHECK | BUILD BIN | ||||||||
Arne Smits 
  | nebbiolo2 | Linux (Ubuntu 24.04.3 LTS) / x86_64 | OK | OK | OK | |||||||||
| lconway | macOS 12.7.6 Monterey / x86_64 | OK | OK | OK | OK | |||||||||
| kjohnson3 | macOS 13.7.7 Ventura / arm64 | OK | OK | OK | OK | |||||||||
| 
To the developers/maintainers of the DEP package: - Allow up to 24 hours (and sometimes 48 hours) for your latest push to git@git.bioconductor.org:packages/DEP.git to reflect on this report. See Troubleshooting Build Report for more information. - Use the following Renviron settings to reproduce errors and warnings. - If 'R CMD check' started to fail recently on the Linux builder(s) over a missing dependency, add the missing dependency to 'Suggests:' in your DESCRIPTION file. See Renviron.bioc for more information.  | 
| Package: DEP | 
| Version: 1.32.0 | 
| Command: /home/biocbuild/bbs-3.22-bioc/R/bin/R CMD check --install=check:DEP.install-out.txt --library=/home/biocbuild/bbs-3.22-bioc/R/site-library --timings DEP_1.32.0.tar.gz | 
| StartedAt: 2025-11-02 23:07:55 -0500 (Sun, 02 Nov 2025) | 
| EndedAt: 2025-11-02 23:16:38 -0500 (Sun, 02 Nov 2025) | 
| EllapsedTime: 523.6 seconds | 
| RetCode: 0 | 
| Status: OK | 
| CheckDir: DEP.Rcheck | 
| Warnings: 0 | 
##############################################################################
##############################################################################
###
### Running command:
###
###   /home/biocbuild/bbs-3.22-bioc/R/bin/R CMD check --install=check:DEP.install-out.txt --library=/home/biocbuild/bbs-3.22-bioc/R/site-library --timings DEP_1.32.0.tar.gz
###
##############################################################################
##############################################################################
* using log directory ‘/home/biocbuild/bbs-3.22-bioc/meat/DEP.Rcheck’
* using R version 4.5.1 Patched (2025-08-23 r88802)
* using platform: x86_64-pc-linux-gnu
* R was compiled by
    gcc (Ubuntu 13.3.0-6ubuntu2~24.04) 13.3.0
    GNU Fortran (Ubuntu 13.3.0-6ubuntu2~24.04) 13.3.0
* running under: Ubuntu 24.04.3 LTS
* using session charset: UTF-8
* checking for file ‘DEP/DESCRIPTION’ ... OK
* this is package ‘DEP’ version ‘1.32.0’
* package encoding: UTF-8
* checking package namespace information ... OK
* checking package dependencies ... INFO
Imports includes 23 non-default packages.
Importing from so many packages makes the package vulnerable to any of
them becoming unavailable.  Move as many as possible to Suggests and
use conditionally.
* checking if this is a source package ... OK
* checking if there is a namespace ... OK
* checking for hidden files and directories ... OK
* checking for portable file names ... OK
* checking for sufficient/correct file permissions ... OK
* checking whether package ‘DEP’ can be installed ... OK
* checking installed package size ... OK
* checking package directory ... OK
* checking ‘build’ directory ... OK
* checking DESCRIPTION meta-information ... OK
* checking top-level files ... OK
* checking for left-over files ... OK
* checking index information ... OK
* checking package subdirectories ... OK
* checking code files for non-ASCII characters ... OK
* checking R files for syntax errors ... OK
* checking whether the package can be loaded ... OK
* checking whether the package can be loaded with stated dependencies ... OK
* checking whether the package can be unloaded cleanly ... OK
* checking whether the namespace can be loaded with stated dependencies ... OK
* checking whether the namespace can be unloaded cleanly ... OK
* checking loading without being on the library search path ... OK
* checking whether startup messages can be suppressed ... OK
* checking dependencies in R code ... OK
* checking S3 generic/method consistency ... OK
* checking replacement functions ... OK
* checking foreign function calls ... OK
* checking R code for possible problems ... OK
* checking Rd files ... OK
* checking Rd metadata ... OK
* checking Rd cross-references ... NOTE
Non-topic package-anchored link(s) in Rd file 'LFQ.Rd':
  ‘[MSnbase:impute]{impute}’
Non-topic package-anchored link(s) in Rd file 'TMT.Rd':
  ‘[MSnbase:impute]{impute}’
Non-topic package-anchored link(s) in Rd file 'impute.Rd':
  ‘[MSnbase:impute]{impute}’
Non-topic package-anchored link(s) in Rd file 'process.Rd':
  ‘[MSnbase:impute]{impute}’
See section 'Cross-references' in the 'Writing R Extensions' manual.
* checking for missing documentation entries ... OK
* checking for code/documentation mismatches ... OK
* checking Rd \usage sections ... OK
* checking Rd contents ... OK
* checking for unstated dependencies in examples ... OK
* checking contents of ‘data’ directory ... OK
* checking data for non-ASCII characters ... OK
* checking LazyData ... OK
* checking data for ASCII and uncompressed saves ... OK
* checking R/sysdata.rda ... OK
* checking files in ‘vignettes’ ... OK
* checking examples ... OK
Examples with CPU (user + system) or elapsed time > 5s
        user system elapsed
impute 52.72  0.442  53.164
* checking for unstated dependencies in ‘tests’ ... OK
* checking tests ...
  Running ‘testthat.R’
 OK
* checking for unstated dependencies in vignettes ... OK
* checking package vignettes ... OK
* checking re-building of vignette outputs ... OK
* checking PDF version of manual ... OK
* DONE
Status: 1 NOTE
See
  ‘/home/biocbuild/bbs-3.22-bioc/meat/DEP.Rcheck/00check.log’
for details.
DEP.Rcheck/00install.out
############################################################################## ############################################################################## ### ### Running command: ### ### /home/biocbuild/bbs-3.22-bioc/R/bin/R CMD INSTALL DEP ### ############################################################################## ############################################################################## * installing to library ‘/home/biocbuild/bbs-3.22-bioc/R/site-library’ * installing *source* package ‘DEP’ ... ** this is package ‘DEP’ version ‘1.32.0’ ** using staged installation ** R ** data *** moving datasets to lazyload DB ** inst ** byte-compile and prepare package for lazy loading ** help *** installing help indices ** building package indices ** installing vignettes ** testing if installed package can be loaded from temporary location Warning in fun(libname, pkgname) : Package 'DEP' is deprecated and will be removed from Bioconductor version 3.23 ** testing if installed package can be loaded from final location Warning in fun(libname, pkgname) : Package 'DEP' is deprecated and will be removed from Bioconductor version 3.23 ** testing if installed package keeps a record of temporary installation path * DONE (DEP)
DEP.Rcheck/tests/testthat.Rout
R version 4.5.1 Patched (2025-08-23 r88802) -- "Great Square Root"
Copyright (C) 2025 The R Foundation for Statistical Computing
Platform: x86_64-pc-linux-gnu
R is free software and comes with ABSOLUTELY NO WARRANTY.
You are welcome to redistribute it under certain conditions.
Type 'license()' or 'licence()' for distribution details.
R is a collaborative project with many contributors.
Type 'contributors()' for more information and
'citation()' on how to cite R or R packages in publications.
Type 'demo()' for some demos, 'help()' for on-line help, or
'help.start()' for an HTML browser interface to help.
Type 'q()' to quit R.
> library(testthat)
> library(DEP)
Warning message:
In fun(libname, pkgname) :
  Package 'DEP' is deprecated and will be removed from Bioconductor
  version 3.23
> 
> test_check("DEP")
[ FAIL 0 | WARN 16 | SKIP 0 | PASS 333 ]
[ FAIL 0 | WARN 16 | SKIP 0 | PASS 333 ]
> 
> proc.time()
   user  system elapsed 
 56.303   2.106  58.595 
DEP.Rcheck/DEP-Ex.timings
| name | user | system | elapsed | |
| LFQ | 1.296 | 0.017 | 1.313 | |
| TMT | 0 | 0 | 0 | |
| add_rejections | 1.515 | 0.103 | 1.618 | |
| analyze_dep | 2.137 | 0.110 | 2.247 | |
| filter_missval | 0.407 | 0.016 | 0.423 | |
| filter_proteins | 0.259 | 0.013 | 0.272 | |
| get_df_long | 0.700 | 0.019 | 0.719 | |
| get_df_wide | 0.693 | 0.007 | 0.700 | |
| get_prefix | 0.002 | 0.000 | 0.002 | |
| get_results | 0.887 | 0.008 | 0.895 | |
| get_suffix | 0.000 | 0.000 | 0.001 | |
| import_IsobarQuant | 0 | 0 | 0 | |
| import_MaxQuant | 0.045 | 0.000 | 0.045 | |
| impute | 52.720 | 0.442 | 53.164 | |
| make_se | 0.037 | 0.001 | 0.039 | |
| make_se_parse | 0.055 | 0.001 | 0.056 | |
| make_unique | 0.016 | 0.000 | 0.017 | |
| manual_impute | 0.596 | 0.012 | 0.609 | |
| meanSdPlot | 0.615 | 0.001 | 0.616 | |
| normalize_vsn | 0.299 | 0.001 | 0.300 | |
| plot_all | 1.774 | 0.001 | 1.774 | |
| plot_cond | 1.077 | 0.000 | 1.077 | |
| plot_cond_freq | 0.901 | 0.002 | 0.902 | |
| plot_cond_overlap | 0.895 | 0.001 | 0.896 | |
| plot_cor | 1.113 | 0.001 | 1.115 | |
| plot_coverage | 0.533 | 0.000 | 0.533 | |
| plot_detect | 0.881 | 0.015 | 0.896 | |
| plot_dist | 3.324 | 0.020 | 3.344 | |
| plot_frequency | 0.474 | 0.004 | 0.478 | |
| plot_gsea | 0.590 | 0.011 | 0.601 | |
| plot_heatmap | 2.358 | 0.054 | 2.412 | |
| plot_imputation | 1.073 | 0.004 | 1.078 | |
| plot_missval | 1.514 | 0.058 | 1.572 | |
| plot_normalization | 1.452 | 0.026 | 1.479 | |
| plot_numbers | 0.532 | 0.000 | 0.533 | |
| plot_p_hist | 1.366 | 0.041 | 1.407 | |
| plot_pca | 1.355 | 0.010 | 1.366 | |
| plot_single | 1.921 | 0.004 | 1.925 | |
| plot_volcano | 4.426 | 0.018 | 4.447 | |
| process | 1.504 | 0.019 | 1.523 | |
| report | 0.000 | 0.000 | 0.001 | |
| run_app | 0 | 0 | 0 | |
| se2msn | 0.112 | 0.001 | 0.113 | |
| test_diff | 0.802 | 0.000 | 0.803 | |
| test_gsea | 0.629 | 0.002 | 0.631 | |
| theme_DEP1 | 0.463 | 0.001 | 0.464 | |
| theme_DEP2 | 0.550 | 0.001 | 0.551 | |