| Back to Multiple platform build/check report for BioC 3.21: simplified long |
|
This page was generated on 2025-10-16 11:41 -0400 (Thu, 16 Oct 2025).
| Hostname | OS | Arch (*) | R version | Installed pkgs |
|---|---|---|---|---|
| nebbiolo1 | Linux (Ubuntu 24.04.3 LTS) | x86_64 | 4.5.1 (2025-06-13) -- "Great Square Root" | 4833 |
| merida1 | macOS 12.7.6 Monterey | x86_64 | 4.5.1 RC (2025-06-05 r88288) -- "Great Square Root" | 4614 |
| kjohnson1 | macOS 13.7.5 Ventura | arm64 | 4.5.1 Patched (2025-06-14 r88325) -- "Great Square Root" | 4555 |
| kunpeng2 | Linux (openEuler 24.03 LTS) | aarch64 | R Under development (unstable) (2025-02-19 r87757) -- "Unsuffered Consequences" | 4586 |
| Click on any hostname to see more info about the system (e.g. compilers) (*) as reported by 'uname -p', except on Windows and Mac OS X | ||||
| Package 515/2341 | Hostname | OS / Arch | INSTALL | BUILD | CHECK | BUILD BIN | ||||||||
| DAPAR 1.40.0 (landing page) Samuel Wieczorek
| nebbiolo1 | Linux (Ubuntu 24.04.3 LTS) / x86_64 | OK | OK | OK | |||||||||
| merida1 | macOS 12.7.6 Monterey / x86_64 | OK | OK | OK | OK | |||||||||
| kjohnson1 | macOS 13.7.5 Ventura / arm64 | OK | OK | OK | OK | |||||||||
| kunpeng2 | Linux (openEuler 24.03 LTS) / aarch64 | OK | OK | OK | ||||||||||
|
To the developers/maintainers of the DAPAR package: - Allow up to 24 hours (and sometimes 48 hours) for your latest push to git@git.bioconductor.org:packages/DAPAR.git to reflect on this report. See Troubleshooting Build Report for more information. - Use the following Renviron settings to reproduce errors and warnings. - If 'R CMD check' started to fail recently on the Linux builder(s) over a missing dependency, add the missing dependency to 'Suggests:' in your DESCRIPTION file. See Renviron.bioc for more information. - See Martin Grigorov's blog post for how to debug Linux ARM64 related issues on a x86_64 host. |
| Package: DAPAR |
| Version: 1.40.0 |
| Command: /home/biocbuild/R/R/bin/R CMD check --install=check:DAPAR.install-out.txt --library=/home/biocbuild/R/R/site-library --no-vignettes --timings DAPAR_1.40.0.tar.gz |
| StartedAt: 2025-10-14 08:11:21 -0000 (Tue, 14 Oct 2025) |
| EndedAt: 2025-10-14 08:22:28 -0000 (Tue, 14 Oct 2025) |
| EllapsedTime: 667.3 seconds |
| RetCode: 0 |
| Status: OK |
| CheckDir: DAPAR.Rcheck |
| Warnings: 0 |
##############################################################################
##############################################################################
###
### Running command:
###
### /home/biocbuild/R/R/bin/R CMD check --install=check:DAPAR.install-out.txt --library=/home/biocbuild/R/R/site-library --no-vignettes --timings DAPAR_1.40.0.tar.gz
###
##############################################################################
##############################################################################
* using log directory ‘/home/biocbuild/bbs-3.21-bioc/meat/DAPAR.Rcheck’
* using R Under development (unstable) (2025-02-19 r87757)
* using platform: aarch64-unknown-linux-gnu
* R was compiled by
aarch64-unknown-linux-gnu-gcc (GCC) 14.2.0
GNU Fortran (GCC) 14.2.0
* running under: openEuler 24.03 (LTS-SP1)
* using session charset: UTF-8
* using option ‘--no-vignettes’
* checking for file ‘DAPAR/DESCRIPTION’ ... OK
* checking extension type ... Package
* this is package ‘DAPAR’ version ‘1.40.0’
* package encoding: UTF-8
* checking package namespace information ... OK
* checking package dependencies ... INFO
Vignette dependency required without any vignettes: ‘knitr’
* checking if this is a source package ... OK
* checking if there is a namespace ... OK
* checking for hidden files and directories ... OK
* checking for portable file names ... OK
* checking for sufficient/correct file permissions ... OK
* checking whether package ‘DAPAR’ can be installed ... OK
* checking installed package size ... OK
* checking package directory ... OK
* checking DESCRIPTION meta-information ... OK
* checking top-level files ... OK
* checking for left-over files ... OK
* checking index information ... OK
* checking package subdirectories ... OK
* checking code files for non-ASCII characters ... OK
* checking R files for syntax errors ... OK
* checking whether the package can be loaded ... OK
* checking whether the package can be loaded with stated dependencies ... OK
* checking whether the package can be unloaded cleanly ... OK
* checking whether the namespace can be loaded with stated dependencies ... OK
* checking whether the namespace can be unloaded cleanly ... OK
* checking loading without being on the library search path ... OK
* checking whether startup messages can be suppressed ... OK
* checking dependencies in R code ... OK
* checking S3 generic/method consistency ... OK
* checking replacement functions ... OK
* checking foreign function calls ... OK
* checking R code for possible problems ... NOTE
Check_Dataset_Validity: no visible global function definition for
‘exprs’
OWAnova: no visible global function definition for ‘aov’
aggregateIterParallel: no visible binding for global variable ‘cond’
averageIntensities: no visible binding for global variable ‘condition’
averageIntensities: no visible binding for global variable ‘feature’
averageIntensities: no visible binding for global variable ‘intensity’
createMSnset: no visible global function definition for
‘installed.packages’
createMSnset: no visible binding for global variable ‘Prostar.loc’
createMSnset2: no visible global function definition for
‘installed.packages’
createMSnset2: no visible binding for global variable ‘Prostar.loc’
diffAnaVolcanoplot_rCharts: no visible binding for global variable ‘x’
diffAnaVolcanoplot_rCharts: no visible binding for global variable ‘y’
diffAnaVolcanoplot_rCharts: no visible binding for global variable ‘g’
display.CC.visNet: no visible binding for global variable
‘layout_nicely’
getTextForGOAnalysis: no visible binding for global variable
‘textGOParams’
getTextForGOAnalysis: no visible binding for global variable ‘input’
globalAdjPval: no visible global function definition for ‘stack’
heatmapForMissingValues: no visible binding for global variable ‘par’
limmaCompleteTest: no visible binding for global variable ‘A’
limmaCompleteTest: no visible binding for global variable ‘B’
limmaCompleteTest: no visible binding for global variable ‘P.Value’
pepa.test: no visible global function definition for ‘nodes<-’
testAnovaModels : <anonymous>: no visible global function definition
for ‘TukeyHSD’
visualizeClusters: no visible binding for global variable
‘adjusted_pvalues’
visualizeClusters: no visible binding for global variable ‘Condition’
visualizeClusters: no visible binding for global variable ‘Intensity’
visualizeClusters: no visible binding for global variable
‘FDR_threshold’
visualizeClusters: no visible binding for global variable ‘feature’
wrapperClassic1wayAnova: no visible binding for global variable
‘Pr(>F)1’
wrapperRunClustering: no visible global function definition for ‘str_c’
Undefined global functions or variables:
A B Condition FDR_threshold Intensity P.Value Pr(>F)1 Prostar.loc
TukeyHSD adjusted_pvalues aov cond condition exprs feature g input
installed.packages intensity layout_nicely nodes<- par stack str_c
textGOParams x y
Consider adding
importFrom("graphics", "par")
importFrom("stats", "TukeyHSD", "aov")
importFrom("utils", "installed.packages", "stack")
to your NAMESPACE file.
* checking Rd files ... OK
* checking Rd metadata ... OK
* checking Rd cross-references ... OK
* checking for missing documentation entries ... OK
* checking for code/documentation mismatches ... OK
* checking Rd \usage sections ... OK
* checking Rd contents ... OK
* checking for unstated dependencies in examples ... OK
* checking examples ... OK
Examples with CPU (user + system) or elapsed time > 5s
user system elapsed
wrapper.compareNormalizationD_HC 57.176 14.302 74.130
wrapper.dapar.impute.mi 19.637 0.480 20.280
barplotEnrichGO_HC 9.499 0.895 10.550
barplotGroupGO_HC 5.207 0.232 5.481
enrich_GO 5.149 0.247 5.438
scatterplotEnrichGO_HC 5.114 0.239 5.398
group_GO 5.112 0.231 5.381
* checking for unstated dependencies in ‘tests’ ... OK
* checking tests ...
Running ‘testthat.R’
OK
* checking PDF version of manual ... OK
* DONE
Status: 1 NOTE
See
‘/home/biocbuild/bbs-3.21-bioc/meat/DAPAR.Rcheck/00check.log’
for details.
DAPAR.Rcheck/00install.out
############################################################################## ############################################################################## ### ### Running command: ### ### /home/biocbuild/R/R/bin/R CMD INSTALL DAPAR ### ############################################################################## ############################################################################## * installing to library ‘/home/biocbuild/R/R-devel_2025-02-19/site-library’ * installing *source* package ‘DAPAR’ ... ** this is package ‘DAPAR’ version ‘1.40.0’ ** using staged installation ** R ** inst ** byte-compile and prepare package for lazy loading ** help *** installing help indices ** building package indices ** testing if installed package can be loaded from temporary location ** testing if installed package can be loaded from final location ** testing if installed package keeps a record of temporary installation path * DONE (DAPAR)
DAPAR.Rcheck/tests/testthat.Rout
R Under development (unstable) (2025-02-19 r87757) -- "Unsuffered Consequences"
Copyright (C) 2025 The R Foundation for Statistical Computing
Platform: aarch64-unknown-linux-gnu
R is free software and comes with ABSOLUTELY NO WARRANTY.
You are welcome to redistribute it under certain conditions.
Type 'license()' or 'licence()' for distribution details.
R is a collaborative project with many contributors.
Type 'contributors()' for more information and
'citation()' on how to cite R or R packages in publications.
Type 'demo()' for some demos, 'help()' for on-line help, or
'help.start()' for an HTML browser interface to help.
Type 'q()' to quit R.
> library(testthat)
> library(DAPAR)
This is the 'DAPAR' version 1.40.0.
To get started, visit
http://www.prostar-proteomics.org/
>
> test_check("DAPAR")
Iterations:
1 / 1 - Imputation MNAR OK -
Imputation MCAR in progress -
3 % - 6 % - 9 % - 12 % - 15 % - 18 % - 21 % - 24 % - 27 % - 30 % - 33 % - 36 % - 39 % - 42 % - 45 % - 48 % - 51 % - 54 % - 57 % - 60 % - 63 % - 66 % - 69 % - 72 % - 75 % - 78 % - 81 % - 84 % - 87 % - 90 % - 93 % - 96 % - 99 % -
Iterations:
1 / 1 - Imputation MNAR OK -
Imputation MCAR in progress -
3 % - 6 % - 9 % - 12 % - 15 % - 18 % - 21 % - 24 % - 27 % - 30 % - 33 % - 36 % - 39 % - 42 % - 45 % - 48 % - 51 % - 54 % - 57 % - 60 % - 63 % - 66 % - 69 % - 72 % - 75 % - 78 % - 81 % - 84 % - 87 % - 90 % - 93 % - 96 % - 99 % -
Imputation in condition 1 ...
In progress: 10 % - 20 % - 30 % - 40 % - 50 % - 60 % - 70 % - 80 % - 90 % - 100 % -
Imputation in condition 2 ...
In progress: 10 % - 20 % - 30 % - 40 % - 50 % - 60 % - 70 % - 80 % - 90 % - 100 % - [ FAIL 0 | WARN 17 | SKIP 0 | PASS 66 ]
[ FAIL 0 | WARN 17 | SKIP 0 | PASS 66 ]
>
> proc.time()
user system elapsed
43.227 1.286 44.783
DAPAR.Rcheck/DAPAR-Ex.timings
| name | user | system | elapsed | |
| AggregateMetacell | 0.473 | 0.000 | 0.477 | |
| BuildAdjacencyMatrix | 0.302 | 0.012 | 0.314 | |
| BuildColumnToProteinDataset | 0.400 | 0.012 | 0.414 | |
| BuildMetaCell | 0.705 | 0.028 | 0.746 | |
| CVDistD_HC | 4.296 | 0.060 | 4.432 | |
| Children | 0.006 | 0.000 | 0.006 | |
| CountPep | 0.320 | 0.004 | 0.325 | |
| ExtendPalette | 0.036 | 0.000 | 0.036 | |
| GOAnalysisSave | 0 | 0 | 0 | |
| GetCC | 2.728 | 0.027 | 2.770 | |
| GetColorsForConditions | 0.269 | 0.004 | 0.274 | |
| GetDetailedNbPeptides | 0.306 | 0.012 | 0.320 | |
| GetDetailedNbPeptidesUsed | 0 | 0 | 0 | |
| GetIndices_BasedOnConditions | 0.293 | 0.004 | 0.300 | |
| GetIndices_MetacellFiltering | 0.307 | 0.000 | 0.307 | |
| GetIndices_WholeLine | 0.293 | 0.004 | 0.297 | |
| GetIndices_WholeMatrix | 0.285 | 0.012 | 0.297 | |
| GetKeyId | 0.268 | 0.008 | 0.277 | |
| GetMatAdj | 0.347 | 0.008 | 0.356 | |
| GetMetacell | 0 | 0 | 0 | |
| GetMetacellTags | 0.293 | 0.004 | 0.299 | |
| GetNbPeptidesUsed | 0.290 | 0.012 | 0.304 | |
| GetNbTags | 0 | 0 | 0 | |
| GetSoftAvailables | 0.001 | 0.000 | 0.001 | |
| GetTypeofData | 0.264 | 0.012 | 0.277 | |
| Get_AllComparisons | 0.283 | 0.016 | 0.302 | |
| GlobalQuantileAlignment | 0.301 | 0.000 | 0.307 | |
| GraphPepProt | 0.302 | 0.000 | 0.303 | |
| LH0 | 0 | 0 | 0 | |
| LH0.lm | 0 | 0 | 0 | |
| LH1 | 0 | 0 | 0 | |
| LH1.lm | 0 | 0 | 0 | |
| LOESS | 1.675 | 0.019 | 1.701 | |
| MeanCentering | 0.308 | 0.008 | 0.317 | |
| MetaCellFiltering | 0.500 | 0.004 | 0.505 | |
| MetacellFilteringScope | 0 | 0 | 0 | |
| Metacell_DIA_NN | 0.555 | 0.010 | 0.566 | |
| Metacell_generic | 0.465 | 0.022 | 0.488 | |
| Metacell_maxquant | 1.552 | 0.088 | 1.645 | |
| Metacell_proline | 0.470 | 0.000 | 0.472 | |
| NumericalFiltering | 0.336 | 0.000 | 0.337 | |
| NumericalgetIndicesOfLinesToRemove | 0.283 | 0.004 | 0.288 | |
| OWAnova | 0.004 | 0.004 | 0.008 | |
| QuantileCentering | 0.277 | 0.000 | 0.277 | |
| SetCC | 2.605 | 0.008 | 2.621 | |
| SetMatAdj | 0.327 | 0.015 | 0.343 | |
| Set_POV_MEC_tags | 0.286 | 0.004 | 0.292 | |
| StringBasedFiltering | 0.325 | 0.000 | 0.326 | |
| StringBasedFiltering2 | 0.326 | 0.008 | 0.336 | |
| SumByColumns | 1.596 | 0.150 | 1.754 | |
| SymFilteringOperators | 0 | 0 | 0 | |
| UpdateMetacellAfterImputation | 0.290 | 0.008 | 0.299 | |
| aggregateIter | 0.494 | 0.004 | 0.500 | |
| aggregateIterParallel | 0 | 0 | 0 | |
| aggregateMean | 0.400 | 0.004 | 0.406 | |
| aggregateSum | 0.439 | 0.000 | 0.441 | |
| aggregateTopn | 0.376 | 0.004 | 0.381 | |
| applyAnovasOnProteins | 0.085 | 0.004 | 0.089 | |
| averageIntensities | 0.526 | 0.048 | 0.582 | |
| barplotEnrichGO_HC | 9.499 | 0.895 | 10.550 | |
| barplotGroupGO_HC | 5.207 | 0.232 | 5.481 | |
| boxPlotD_HC | 0.272 | 0.024 | 0.301 | |
| buildGraph | 1.729 | 0.004 | 1.737 | |
| check.conditions | 0.261 | 0.000 | 0.261 | |
| check.design | 0.262 | 0.000 | 0.263 | |
| checkClusterability | 3.195 | 1.073 | 4.493 | |
| classic1wayAnova | 0 | 0 | 0 | |
| compareNormalizationD_HC | 0.124 | 0.016 | 0.142 | |
| compute.selection.table | 0.796 | 0.080 | 0.891 | |
| compute_t_tests | 1.393 | 0.135 | 1.560 | |
| corrMatrixD_HC | 0.409 | 0.027 | 0.440 | |
| createMSnset | 1.963 | 0.040 | 2.010 | |
| createMSnset2 | 1.898 | 0.067 | 1.973 | |
| dapar_hc_ExportMenu | 0.156 | 0.032 | 0.192 | |
| dapar_hc_chart | 0.065 | 0.012 | 0.079 | |
| deleteLinesFromIndices | 0.318 | 0.015 | 0.336 | |
| densityPlotD_HC | 3.263 | 0.726 | 4.109 | |
| diffAnaComputeAdjustedPValues | 0.189 | 0.022 | 0.214 | |
| diffAnaComputeFDR | 0 | 0 | 0 | |
| diffAnaGetSignificant | 0.264 | 0.036 | 0.308 | |
| diffAnaSave | 0.226 | 0.056 | 0.288 | |
| diffAnaVolcanoplot | 0.152 | 0.012 | 0.166 | |
| diffAnaVolcanoplot_rCharts | 0.385 | 0.043 | 0.438 | |
| display.CC.visNet | 1.869 | 0.043 | 1.922 | |
| enrich_GO | 5.149 | 0.247 | 5.438 | |
| finalizeAggregation | 0 | 0 | 0 | |
| findMECBlock | 0.332 | 0.000 | 0.334 | |
| formatHSDResults | 0.000 | 0.000 | 0.001 | |
| formatLimmaResult | 0.140 | 0.020 | 0.163 | |
| formatPHResults | 0 | 0 | 0 | |
| formatPHTResults | 0 | 0 | 0 | |
| fudge2LRT | 0.000 | 0.000 | 0.001 | |
| get.pep.prot.cc | 1.724 | 0.036 | 1.764 | |
| getDesignLevel | 0.259 | 0.004 | 0.263 | |
| getIndicesConditions | 0.263 | 0.000 | 0.263 | |
| getIndicesOfLinesToRemove | 0.287 | 0.003 | 0.292 | |
| getListNbValuesInLines | 0.262 | 0.000 | 0.263 | |
| getNumberOf | 0.287 | 0.003 | 0.292 | |
| getNumberOfEmptyLines | 0.306 | 0.000 | 0.308 | |
| getPourcentageOfMV | 0.291 | 0.000 | 0.293 | |
| getProcessingInfo | 0.257 | 0.003 | 0.261 | |
| getProteinsStats | 0.301 | 0.000 | 0.302 | |
| getQuantile4Imp | 0.063 | 0.000 | 0.063 | |
| getTextForAggregation | 0 | 0 | 0 | |
| getTextForAnaDiff | 0 | 0 | 0 | |
| getTextForFiltering | 0.000 | 0.000 | 0.001 | |
| getTextForGOAnalysis | 0 | 0 | 0 | |
| getTextForHypothesisTest | 0.001 | 0.000 | 0.000 | |
| getTextForNewDataset | 0.002 | 0.000 | 0.002 | |
| getTextForNormalization | 0 | 0 | 0 | |
| getTextForpeptideImputation | 0.000 | 0.000 | 0.001 | |
| getTextForproteinImputation | 0.001 | 0.000 | 0.000 | |
| globalAdjPval | 0.490 | 0.048 | 0.546 | |
| group_GO | 5.112 | 0.231 | 5.381 | |
| hc_logFC_DensityPlot | 0.783 | 0.107 | 0.917 | |
| hc_mvTypePlot2 | 0.828 | 0.134 | 0.983 | |
| heatmapD | 0.557 | 0.027 | 0.588 | |
| heatmapForMissingValues | 0.162 | 0.008 | 0.171 | |
| histPValue_HC | 0.204 | 0.040 | 0.247 | |
| impute.pa2 | 0.339 | 0.012 | 0.353 | |
| inner.aggregate.iter | 0.356 | 0.004 | 0.362 | |
| inner.aggregate.topn | 0.322 | 0.004 | 0.327 | |
| inner.mean | 0.363 | 0.001 | 0.365 | |
| inner.sum | 0.317 | 0.002 | 0.320 | |
| is.subset | 0.001 | 0.000 | 0.000 | |
| limmaCompleteTest | 1.883 | 0.024 | 1.915 | |
| listSheets | 0 | 0 | 0 | |
| make.contrast | 0.283 | 0.002 | 0.286 | |
| make.design.1 | 0.281 | 0.001 | 0.284 | |
| make.design.2 | 0.287 | 0.000 | 0.288 | |
| make.design.3 | 0.286 | 0.000 | 0.287 | |
| make.design | 0.280 | 0.004 | 0.285 | |
| match.metacell | 0.311 | 0.010 | 0.322 | |
| metacell.def | 0.000 | 0.006 | 0.006 | |
| metacellHisto_HC | 0.346 | 0.029 | 0.377 | |
| metacellPerLinesHistoPerCondition_HC | 0.524 | 0.040 | 0.568 | |
| metacellPerLinesHisto_HC | 0.621 | 0.079 | 0.707 | |
| metacombine | 0.269 | 0.020 | 0.292 | |
| mvImage | 2.829 | 0.083 | 2.936 | |
| my_hc_ExportMenu | 0.160 | 0.028 | 0.191 | |
| my_hc_chart | 0.158 | 0.032 | 0.193 | |
| nonzero | 0.019 | 0.004 | 0.024 | |
| normalizeMethods.dapar | 0 | 0 | 0 | |
| pepa.test | 0.313 | 0.007 | 0.322 | |
| pkgs.require | 0 | 0 | 0 | |
| plotJitter | 1.796 | 0.048 | 1.849 | |
| plotJitter_rCharts | 1.723 | 0.024 | 1.754 | |
| plotPCA_Eigen | 0.351 | 0.015 | 0.369 | |
| plotPCA_Eigen_hc | 0.256 | 0.004 | 0.261 | |
| plotPCA_Ind | 0.265 | 0.004 | 0.270 | |
| plotPCA_Var | 0.261 | 0.000 | 0.261 | |
| postHocTest | 0 | 0 | 0 | |
| proportionConRev_HC | 0.058 | 0.008 | 0.067 | |
| rbindMSnset | 0.358 | 0.047 | 0.410 | |
| reIntroduceMEC | 0.340 | 0.012 | 0.354 | |
| readExcel | 0 | 0 | 0 | |
| removeLines | 0.310 | 0.016 | 0.328 | |
| samLRT | 0.001 | 0.000 | 0.000 | |
| saveParameters | 0.267 | 0.000 | 0.267 | |
| scatterplotEnrichGO_HC | 5.114 | 0.239 | 5.398 | |
| search.metacell.tags | 0.009 | 0.000 | 0.009 | |
| separateAdjPval | 0.167 | 0.008 | 0.176 | |
| splitAdjacencyMat | 0.329 | 0.000 | 0.331 | |
| test.design | 0.302 | 0.000 | 0.304 | |
| testAnovaModels | 0.093 | 0.012 | 0.106 | |
| thresholdpval4fdr | 0 | 0 | 0 | |
| translatedRandomBeta | 0.003 | 0.000 | 0.002 | |
| univ_AnnotDbPkg | 0.209 | 0.024 | 0.234 | |
| violinPlotD | 0.346 | 0.000 | 0.349 | |
| visualizeClusters | 1.788 | 0.183 | 2.013 | |
| vsn | 0.637 | 0.012 | 0.652 | |
| wrapper.CVDistD_HC | 2.156 | 0.605 | 2.861 | |
| wrapper.compareNormalizationD_HC | 57.176 | 14.302 | 74.130 | |
| wrapper.corrMatrixD_HC | 0.425 | 0.008 | 0.436 | |
| wrapper.dapar.impute.mi | 19.637 | 0.480 | 20.280 | |
| wrapper.heatmapD | 0.493 | 0.012 | 0.506 | |
| wrapper.impute.KNN | 0.337 | 0.007 | 0.346 | |
| wrapper.impute.detQuant | 0.348 | 0.020 | 0.372 | |
| wrapper.impute.fixedValue | 0.399 | 0.027 | 0.431 | |
| wrapper.impute.mle | 0.310 | 0.012 | 0.324 | |
| wrapper.impute.pa | 0.116 | 0.007 | 0.127 | |
| wrapper.impute.pa2 | 0.313 | 0.016 | 0.331 | |
| wrapper.impute.slsa | 0.508 | 0.024 | 0.538 | |
| wrapper.mvImage | 0.147 | 0.012 | 0.163 | |
| wrapper.normalizeD | 0.352 | 0.000 | 0.353 | |
| wrapper.pca | 0.136 | 0.020 | 0.158 | |
| wrapperCalibrationPlot | 0.184 | 0.008 | 0.195 | |
| wrapperClassic1wayAnova | 0 | 0 | 0 | |
| wrapperRunClustering | 2.915 | 0.344 | 3.338 | |
| write.excel | 0.731 | 0.090 | 0.840 | |
| writeMSnsetToCSV | 0.274 | 0.024 | 0.303 | |
| writeMSnsetToExcel | 2.508 | 0.197 | 2.731 | |