| Back to Multiple platform build/check report for BioC 3.21: simplified long |
|
This page was generated on 2025-10-16 11:38 -0400 (Thu, 16 Oct 2025).
| Hostname | OS | Arch (*) | R version | Installed pkgs |
|---|---|---|---|---|
| nebbiolo1 | Linux (Ubuntu 24.04.3 LTS) | x86_64 | 4.5.1 (2025-06-13) -- "Great Square Root" | 4833 |
| merida1 | macOS 12.7.6 Monterey | x86_64 | 4.5.1 RC (2025-06-05 r88288) -- "Great Square Root" | 4614 |
| kjohnson1 | macOS 13.7.5 Ventura | arm64 | 4.5.1 Patched (2025-06-14 r88325) -- "Great Square Root" | 4555 |
| kunpeng2 | Linux (openEuler 24.03 LTS) | aarch64 | R Under development (unstable) (2025-02-19 r87757) -- "Unsuffered Consequences" | 4586 |
| Click on any hostname to see more info about the system (e.g. compilers) (*) as reported by 'uname -p', except on Windows and Mac OS X | ||||
| Package 515/2341 | Hostname | OS / Arch | INSTALL | BUILD | CHECK | BUILD BIN | ||||||||
| DAPAR 1.40.0 (landing page) Samuel Wieczorek
| nebbiolo1 | Linux (Ubuntu 24.04.3 LTS) / x86_64 | OK | OK | OK | |||||||||
| merida1 | macOS 12.7.6 Monterey / x86_64 | OK | OK | OK | OK | |||||||||
| kjohnson1 | macOS 13.7.5 Ventura / arm64 | OK | OK | OK | OK | |||||||||
| kunpeng2 | Linux (openEuler 24.03 LTS) / aarch64 | OK | OK | OK | ||||||||||
|
To the developers/maintainers of the DAPAR package: - Allow up to 24 hours (and sometimes 48 hours) for your latest push to git@git.bioconductor.org:packages/DAPAR.git to reflect on this report. See Troubleshooting Build Report for more information. - Use the following Renviron settings to reproduce errors and warnings. - If 'R CMD check' started to fail recently on the Linux builder(s) over a missing dependency, add the missing dependency to 'Suggests:' in your DESCRIPTION file. See Renviron.bioc for more information. |
| Package: DAPAR |
| Version: 1.40.0 |
| Command: /Library/Frameworks/R.framework/Resources/bin/R CMD check --install=check:DAPAR.install-out.txt --library=/Library/Frameworks/R.framework/Resources/library --no-vignettes --timings DAPAR_1.40.0.tar.gz |
| StartedAt: 2025-10-14 02:26:02 -0400 (Tue, 14 Oct 2025) |
| EndedAt: 2025-10-14 02:46:19 -0400 (Tue, 14 Oct 2025) |
| EllapsedTime: 1217.6 seconds |
| RetCode: 0 |
| Status: OK |
| CheckDir: DAPAR.Rcheck |
| Warnings: 0 |
##############################################################################
##############################################################################
###
### Running command:
###
### /Library/Frameworks/R.framework/Resources/bin/R CMD check --install=check:DAPAR.install-out.txt --library=/Library/Frameworks/R.framework/Resources/library --no-vignettes --timings DAPAR_1.40.0.tar.gz
###
##############################################################################
##############################################################################
* using log directory ‘/Users/biocbuild/bbs-3.21-bioc/meat/DAPAR.Rcheck’
* using R version 4.5.1 RC (2025-06-05 r88288)
* using platform: x86_64-apple-darwin20
* R was compiled by
Apple clang version 14.0.0 (clang-1400.0.29.202)
GNU Fortran (GCC) 14.2.0
* running under: macOS Monterey 12.7.6
* using session charset: UTF-8
* using option ‘--no-vignettes’
* checking for file ‘DAPAR/DESCRIPTION’ ... OK
* checking extension type ... Package
* this is package ‘DAPAR’ version ‘1.40.0’
* package encoding: UTF-8
* checking package namespace information ... OK
* checking package dependencies ... INFO
Vignette dependency required without any vignettes: ‘knitr’
* checking if this is a source package ... OK
* checking if there is a namespace ... OK
* checking for hidden files and directories ... OK
* checking for portable file names ... OK
* checking for sufficient/correct file permissions ... OK
* checking whether package ‘DAPAR’ can be installed ... OK
* checking installed package size ... OK
* checking package directory ... OK
* checking DESCRIPTION meta-information ... OK
* checking top-level files ... OK
* checking for left-over files ... OK
* checking index information ... OK
* checking package subdirectories ... OK
* checking code files for non-ASCII characters ... OK
* checking R files for syntax errors ... OK
* checking whether the package can be loaded ... OK
* checking whether the package can be loaded with stated dependencies ... OK
* checking whether the package can be unloaded cleanly ... OK
* checking whether the namespace can be loaded with stated dependencies ... OK
* checking whether the namespace can be unloaded cleanly ... OK
* checking whether startup messages can be suppressed ... OK
* checking dependencies in R code ... OK
* checking S3 generic/method consistency ... OK
* checking replacement functions ... OK
* checking foreign function calls ... OK
* checking R code for possible problems ... NOTE
Check_Dataset_Validity: no visible global function definition for
‘exprs’
OWAnova: no visible global function definition for ‘aov’
aggregateIterParallel: no visible binding for global variable ‘cond’
averageIntensities: no visible binding for global variable ‘condition’
averageIntensities: no visible binding for global variable ‘feature’
averageIntensities: no visible binding for global variable ‘intensity’
createMSnset: no visible global function definition for
‘installed.packages’
createMSnset: no visible binding for global variable ‘Prostar.loc’
createMSnset2: no visible global function definition for
‘installed.packages’
createMSnset2: no visible binding for global variable ‘Prostar.loc’
diffAnaVolcanoplot_rCharts: no visible binding for global variable ‘x’
diffAnaVolcanoplot_rCharts: no visible binding for global variable ‘y’
diffAnaVolcanoplot_rCharts: no visible binding for global variable ‘g’
display.CC.visNet: no visible binding for global variable
‘layout_nicely’
getTextForGOAnalysis: no visible binding for global variable
‘textGOParams’
getTextForGOAnalysis: no visible binding for global variable ‘input’
globalAdjPval: no visible global function definition for ‘stack’
heatmapForMissingValues: no visible binding for global variable ‘par’
limmaCompleteTest: no visible binding for global variable ‘A’
limmaCompleteTest: no visible binding for global variable ‘B’
limmaCompleteTest: no visible binding for global variable ‘P.Value’
pepa.test: no visible global function definition for ‘nodes<-’
testAnovaModels : <anonymous>: no visible global function definition
for ‘TukeyHSD’
visualizeClusters: no visible binding for global variable
‘adjusted_pvalues’
visualizeClusters: no visible binding for global variable ‘Condition’
visualizeClusters: no visible binding for global variable ‘Intensity’
visualizeClusters: no visible binding for global variable
‘FDR_threshold’
visualizeClusters: no visible binding for global variable ‘feature’
wrapperClassic1wayAnova: no visible binding for global variable
‘Pr(>F)1’
wrapperRunClustering: no visible global function definition for ‘str_c’
Undefined global functions or variables:
A B Condition FDR_threshold Intensity P.Value Pr(>F)1 Prostar.loc
TukeyHSD adjusted_pvalues aov cond condition exprs feature g input
installed.packages intensity layout_nicely nodes<- par stack str_c
textGOParams x y
Consider adding
importFrom("graphics", "par")
importFrom("stats", "TukeyHSD", "aov")
importFrom("utils", "installed.packages", "stack")
to your NAMESPACE file.
* checking Rd files ... OK
* checking Rd metadata ... OK
* checking Rd cross-references ... OK
* checking for missing documentation entries ... OK
* checking for code/documentation mismatches ... OK
* checking Rd \usage sections ... OK
* checking Rd contents ... OK
* checking for unstated dependencies in examples ... OK
* checking examples ... OK
Examples with CPU (user + system) or elapsed time > 5s
user system elapsed
wrapper.compareNormalizationD_HC 106.930 46.700 175.537
wrapper.dapar.impute.mi 30.274 2.196 40.694
barplotEnrichGO_HC 14.915 3.000 20.007
checkClusterability 6.268 3.794 11.221
barplotGroupGO_HC 8.708 1.251 11.420
enrich_GO 8.833 1.058 11.530
group_GO 8.802 1.038 11.769
scatterplotEnrichGO_HC 8.726 1.005 12.074
densityPlotD_HC 6.391 2.414 9.931
wrapperRunClustering 6.372 1.640 9.561
CVDistD_HC 6.211 0.284 7.009
wrapper.CVDistD_HC 4.717 1.727 7.606
mvImage 5.833 0.298 7.060
* checking for unstated dependencies in ‘tests’ ... OK
* checking tests ...
Running ‘testthat.R’
OK
* checking PDF version of manual ... OK
* DONE
Status: 1 NOTE
See
‘/Users/biocbuild/bbs-3.21-bioc/meat/DAPAR.Rcheck/00check.log’
for details.
DAPAR.Rcheck/00install.out
############################################################################## ############################################################################## ### ### Running command: ### ### /Library/Frameworks/R.framework/Resources/bin/R CMD INSTALL DAPAR ### ############################################################################## ############################################################################## * installing to library ‘/Library/Frameworks/R.framework/Versions/4.5-x86_64/Resources/library’ * installing *source* package ‘DAPAR’ ... ** this is package ‘DAPAR’ version ‘1.40.0’ ** using staged installation ** R ** inst ** byte-compile and prepare package for lazy loading ** help *** installing help indices ** building package indices ** testing if installed package can be loaded from temporary location ** testing if installed package can be loaded from final location ** testing if installed package keeps a record of temporary installation path * DONE (DAPAR)
DAPAR.Rcheck/tests/testthat.Rout
R version 4.5.1 RC (2025-06-05 r88288) -- "Great Square Root"
Copyright (C) 2025 The R Foundation for Statistical Computing
Platform: x86_64-apple-darwin20
R is free software and comes with ABSOLUTELY NO WARRANTY.
You are welcome to redistribute it under certain conditions.
Type 'license()' or 'licence()' for distribution details.
R is a collaborative project with many contributors.
Type 'contributors()' for more information and
'citation()' on how to cite R or R packages in publications.
Type 'demo()' for some demos, 'help()' for on-line help, or
'help.start()' for an HTML browser interface to help.
Type 'q()' to quit R.
> library(testthat)
> library(DAPAR)
This is the 'DAPAR' version 1.40.0.
To get started, visit
http://www.prostar-proteomics.org/
>
> test_check("DAPAR")
Iterations:
1 / 1 - Imputation MNAR OK -
Imputation MCAR in progress -
3 % - 6 % - 9 % - 12 % - 15 % - 18 % - 21 % - 24 % - 27 % - 30 % - 33 % - 36 % - 39 % - 42 % - 45 % - 48 % - 51 % - 54 % - 57 % - 60 % - 63 % - 66 % - 69 % - 72 % - 75 % - 78 % - 81 % - 84 % - 87 % - 90 % - 93 % - 96 % - 99 % -
Iterations:
1 / 1 - Imputation MNAR OK -
Imputation MCAR in progress -
3 % - 6 % - 9 % - 12 % - 15 % - 18 % - 21 % - 24 % - 27 % - 30 % - 33 % - 36 % - 39 % - 42 % - 45 % - 48 % - 51 % - 54 % - 57 % - 60 % - 63 % - 66 % - 69 % - 72 % - 75 % - 78 % - 81 % - 84 % - 87 % - 90 % - 93 % - 96 % - 99 % -
Imputation in condition 1 ...
In progress: 10 % - 20 % - 30 % - 40 % - 50 % - 60 % - 70 % - 80 % - 90 % - 100 % -
Imputation in condition 2 ...
In progress: 10 % - 20 % - 30 % - 40 % - 50 % - 60 % - 70 % - 80 % - 90 % - 100 % - [ FAIL 0 | WARN 17 | SKIP 0 | PASS 66 ]
[ FAIL 0 | WARN 17 | SKIP 0 | PASS 66 ]
>
> proc.time()
user system elapsed
69.754 2.726 78.246
DAPAR.Rcheck/DAPAR-Ex.timings
| name | user | system | elapsed | |
| AggregateMetacell | 1.053 | 0.036 | 1.181 | |
| BuildAdjacencyMatrix | 0.855 | 0.016 | 0.940 | |
| BuildColumnToProteinDataset | 1.073 | 0.020 | 1.229 | |
| BuildMetaCell | 1.978 | 0.039 | 2.185 | |
| CVDistD_HC | 6.211 | 0.284 | 7.009 | |
| Children | 0.012 | 0.001 | 0.013 | |
| CountPep | 0.882 | 0.013 | 0.951 | |
| ExtendPalette | 0.058 | 0.003 | 0.068 | |
| GOAnalysisSave | 0.001 | 0.000 | 0.000 | |
| GetCC | 3.220 | 0.068 | 3.447 | |
| GetColorsForConditions | 0.798 | 0.012 | 0.889 | |
| GetDetailedNbPeptides | 0.847 | 0.011 | 0.905 | |
| GetDetailedNbPeptidesUsed | 0.000 | 0.001 | 0.001 | |
| GetIndices_BasedOnConditions | 0.842 | 0.013 | 0.911 | |
| GetIndices_MetacellFiltering | 0.856 | 0.017 | 0.944 | |
| GetIndices_WholeLine | 0.845 | 0.013 | 0.894 | |
| GetIndices_WholeMatrix | 0.835 | 0.013 | 0.891 | |
| GetKeyId | 0.798 | 0.013 | 0.817 | |
| GetMatAdj | 0.931 | 0.017 | 0.974 | |
| GetMetacell | 0.001 | 0.000 | 0.000 | |
| GetMetacellTags | 0.828 | 0.018 | 0.856 | |
| GetNbPeptidesUsed | 0.833 | 0.017 | 0.855 | |
| GetNbTags | 0 | 0 | 0 | |
| GetSoftAvailables | 0.001 | 0.000 | 0.001 | |
| GetTypeofData | 0.791 | 0.015 | 0.833 | |
| Get_AllComparisons | 0.522 | 0.027 | 0.590 | |
| GlobalQuantileAlignment | 0.825 | 0.012 | 0.885 | |
| GraphPepProt | 0.846 | 0.013 | 0.901 | |
| LH0 | 0.001 | 0.000 | 0.001 | |
| LH0.lm | 0.000 | 0.001 | 0.000 | |
| LH1 | 0 | 0 | 0 | |
| LH1.lm | 0.000 | 0.001 | 0.001 | |
| LOESS | 2.027 | 0.043 | 2.179 | |
| MeanCentering | 0.807 | 0.013 | 0.880 | |
| MetaCellFiltering | 1.193 | 0.020 | 1.284 | |
| MetacellFilteringScope | 0.000 | 0.000 | 0.001 | |
| Metacell_DIA_NN | 0.861 | 0.020 | 0.902 | |
| Metacell_generic | 0.837 | 0.029 | 0.999 | |
| Metacell_maxquant | 0.767 | 0.021 | 0.919 | |
| Metacell_proline | 0.746 | 0.024 | 0.795 | |
| NumericalFiltering | 0.929 | 0.021 | 1.005 | |
| NumericalgetIndicesOfLinesToRemove | 0.789 | 0.017 | 0.851 | |
| OWAnova | 0.010 | 0.001 | 0.011 | |
| QuantileCentering | 0.765 | 0.018 | 0.838 | |
| SetCC | 2.868 | 0.027 | 2.997 | |
| SetMatAdj | 0.907 | 0.013 | 0.955 | |
| Set_POV_MEC_tags | 0.822 | 0.012 | 0.870 | |
| StringBasedFiltering | 0.887 | 0.015 | 0.932 | |
| StringBasedFiltering2 | 0.877 | 0.011 | 0.898 | |
| SumByColumns | 3.698 | 0.211 | 3.928 | |
| SymFilteringOperators | 0.000 | 0.001 | 0.001 | |
| UpdateMetacellAfterImputation | 0.849 | 0.014 | 0.877 | |
| aggregateIter | 1.021 | 0.033 | 1.195 | |
| aggregateIterParallel | 0.000 | 0.001 | 0.002 | |
| aggregateMean | 1.009 | 0.020 | 1.150 | |
| aggregateSum | 1.090 | 0.017 | 1.154 | |
| aggregateTopn | 0.978 | 0.018 | 1.021 | |
| applyAnovasOnProteins | 0.232 | 0.011 | 0.256 | |
| averageIntensities | 1.145 | 0.247 | 1.583 | |
| barplotEnrichGO_HC | 14.915 | 3.000 | 20.007 | |
| barplotGroupGO_HC | 8.708 | 1.251 | 11.420 | |
| boxPlotD_HC | 0.491 | 0.154 | 0.762 | |
| buildGraph | 2.210 | 0.083 | 2.500 | |
| check.conditions | 0.776 | 0.016 | 0.823 | |
| check.design | 0.781 | 0.015 | 0.833 | |
| checkClusterability | 6.268 | 3.794 | 11.221 | |
| classic1wayAnova | 0.001 | 0.001 | 0.001 | |
| compareNormalizationD_HC | 0.307 | 0.097 | 0.508 | |
| compute.selection.table | 1.621 | 0.293 | 2.304 | |
| compute_t_tests | 2.503 | 0.354 | 3.192 | |
| corrMatrixD_HC | 0.980 | 0.127 | 1.247 | |
| createMSnset | 3.255 | 0.193 | 3.825 | |
| createMSnset2 | 3.219 | 0.188 | 3.630 | |
| dapar_hc_ExportMenu | 0.273 | 0.247 | 0.549 | |
| dapar_hc_chart | 0.115 | 0.084 | 0.224 | |
| deleteLinesFromIndices | 0.941 | 0.048 | 1.008 | |
| densityPlotD_HC | 6.391 | 2.414 | 9.931 | |
| diffAnaComputeAdjustedPValues | 0.356 | 0.077 | 0.523 | |
| diffAnaComputeFDR | 0.000 | 0.000 | 0.001 | |
| diffAnaGetSignificant | 0.554 | 0.106 | 0.703 | |
| diffAnaSave | 0.518 | 0.095 | 0.780 | |
| diffAnaVolcanoplot | 0.347 | 0.051 | 0.534 | |
| diffAnaVolcanoplot_rCharts | 0.755 | 0.210 | 1.188 | |
| display.CC.visNet | 2.459 | 0.147 | 2.995 | |
| enrich_GO | 8.833 | 1.058 | 11.530 | |
| finalizeAggregation | 0.000 | 0.000 | 0.001 | |
| findMECBlock | 0.870 | 0.027 | 1.052 | |
| formatHSDResults | 0.000 | 0.001 | 0.001 | |
| formatLimmaResult | 0.329 | 0.047 | 0.486 | |
| formatPHResults | 0.001 | 0.000 | 0.001 | |
| formatPHTResults | 0 | 0 | 0 | |
| fudge2LRT | 0.000 | 0.000 | 0.001 | |
| get.pep.prot.cc | 2.120 | 0.047 | 2.530 | |
| getDesignLevel | 0.768 | 0.014 | 0.854 | |
| getIndicesConditions | 0.784 | 0.012 | 0.882 | |
| getIndicesOfLinesToRemove | 0.833 | 0.027 | 1.060 | |
| getListNbValuesInLines | 0.780 | 0.013 | 0.867 | |
| getNumberOf | 0.832 | 0.027 | 1.010 | |
| getNumberOfEmptyLines | 0.862 | 0.019 | 0.996 | |
| getPourcentageOfMV | 0.830 | 0.028 | 0.966 | |
| getProcessingInfo | 0.793 | 0.013 | 0.890 | |
| getProteinsStats | 0.856 | 0.031 | 0.924 | |
| getQuantile4Imp | 0.186 | 0.009 | 0.209 | |
| getTextForAggregation | 0.001 | 0.000 | 0.001 | |
| getTextForAnaDiff | 0.000 | 0.001 | 0.001 | |
| getTextForFiltering | 0.001 | 0.000 | 0.001 | |
| getTextForGOAnalysis | 0.000 | 0.000 | 0.001 | |
| getTextForHypothesisTest | 0.001 | 0.001 | 0.001 | |
| getTextForNewDataset | 0.004 | 0.000 | 0.005 | |
| getTextForNormalization | 0.000 | 0.001 | 0.001 | |
| getTextForpeptideImputation | 0.001 | 0.001 | 0.002 | |
| getTextForproteinImputation | 0.001 | 0.001 | 0.002 | |
| globalAdjPval | 0.984 | 0.096 | 1.363 | |
| group_GO | 8.802 | 1.038 | 11.769 | |
| hc_logFC_DensityPlot | 1.423 | 0.520 | 2.317 | |
| hc_mvTypePlot2 | 1.897 | 0.499 | 2.798 | |
| heatmapD | 1.309 | 0.105 | 1.565 | |
| heatmapForMissingValues | 0.355 | 0.046 | 0.477 | |
| histPValue_HC | 0.466 | 0.140 | 0.725 | |
| impute.pa2 | 0.922 | 0.051 | 1.050 | |
| inner.aggregate.iter | 0.942 | 0.045 | 1.061 | |
| inner.aggregate.topn | 0.897 | 0.033 | 1.032 | |
| inner.mean | 0.872 | 0.030 | 0.955 | |
| inner.sum | 0.923 | 0.035 | 1.083 | |
| is.subset | 0.001 | 0.001 | 0.002 | |
| limmaCompleteTest | 3.644 | 0.115 | 4.264 | |
| listSheets | 0.000 | 0.001 | 0.001 | |
| make.contrast | 0.817 | 0.015 | 0.922 | |
| make.design.1 | 0.816 | 0.017 | 0.918 | |
| make.design.2 | 0.820 | 0.017 | 0.931 | |
| make.design.3 | 0.821 | 0.017 | 0.928 | |
| make.design | 0.855 | 0.019 | 0.970 | |
| match.metacell | 0.871 | 0.028 | 1.075 | |
| metacell.def | 0.011 | 0.005 | 0.017 | |
| metacellHisto_HC | 0.930 | 0.107 | 1.237 | |
| metacellPerLinesHistoPerCondition_HC | 1.166 | 0.200 | 1.779 | |
| metacellPerLinesHisto_HC | 1.427 | 0.474 | 2.521 | |
| metacombine | 0.477 | 0.025 | 0.555 | |
| mvImage | 5.833 | 0.298 | 7.060 | |
| my_hc_ExportMenu | 0.281 | 0.244 | 0.653 | |
| my_hc_chart | 0.281 | 0.251 | 0.695 | |
| nonzero | 0.031 | 0.003 | 0.043 | |
| normalizeMethods.dapar | 0.000 | 0.000 | 0.001 | |
| pepa.test | 0.872 | 0.030 | 1.203 | |
| pkgs.require | 0.000 | 0.001 | 0.001 | |
| plotJitter | 2.236 | 0.074 | 2.807 | |
| plotJitter_rCharts | 2.205 | 0.152 | 2.788 | |
| plotPCA_Eigen | 0.973 | 0.076 | 1.210 | |
| plotPCA_Eigen_hc | 0.785 | 0.014 | 0.904 | |
| plotPCA_Ind | 0.803 | 0.017 | 0.976 | |
| plotPCA_Var | 0.782 | 0.014 | 0.919 | |
| postHocTest | 0 | 0 | 0 | |
| proportionConRev_HC | 0.101 | 0.093 | 0.265 | |
| rbindMSnset | 0.994 | 0.071 | 1.303 | |
| reIntroduceMEC | 0.922 | 0.049 | 1.170 | |
| readExcel | 0.000 | 0.001 | 0.000 | |
| removeLines | 0.891 | 0.045 | 1.105 | |
| samLRT | 0.000 | 0.000 | 0.001 | |
| saveParameters | 0.789 | 0.017 | 0.939 | |
| scatterplotEnrichGO_HC | 8.726 | 1.005 | 12.074 | |
| search.metacell.tags | 0.016 | 0.004 | 0.020 | |
| separateAdjPval | 0.337 | 0.027 | 0.482 | |
| splitAdjacencyMat | 0.876 | 0.028 | 1.179 | |
| test.design | 0.819 | 0.014 | 1.029 | |
| testAnovaModels | 0.248 | 0.026 | 0.366 | |
| thresholdpval4fdr | 0.000 | 0.000 | 0.001 | |
| translatedRandomBeta | 0.007 | 0.028 | 0.034 | |
| univ_AnnotDbPkg | 0.337 | 0.186 | 0.736 | |
| violinPlotD | 0.603 | 0.048 | 0.897 | |
| visualizeClusters | 3.187 | 0.389 | 4.698 | |
| vsn | 1.263 | 0.036 | 1.579 | |
| wrapper.CVDistD_HC | 4.717 | 1.727 | 7.606 | |
| wrapper.compareNormalizationD_HC | 106.930 | 46.700 | 175.537 | |
| wrapper.corrMatrixD_HC | 0.976 | 0.194 | 2.552 | |
| wrapper.dapar.impute.mi | 30.274 | 2.196 | 40.694 | |
| wrapper.heatmapD | 1.183 | 0.103 | 1.450 | |
| wrapper.impute.KNN | 0.926 | 0.054 | 1.105 | |
| wrapper.impute.detQuant | 0.966 | 0.064 | 1.247 | |
| wrapper.impute.fixedValue | 0.984 | 0.075 | 1.409 | |
| wrapper.impute.mle | 0.871 | 0.053 | 1.036 | |
| wrapper.impute.pa | 0.288 | 0.048 | 0.469 | |
| wrapper.impute.pa2 | 0.898 | 0.061 | 1.142 | |
| wrapper.impute.slsa | 1.282 | 0.104 | 1.548 | |
| wrapper.mvImage | 0.337 | 0.050 | 0.478 | |
| wrapper.normalizeD | 0.817 | 0.017 | 0.929 | |
| wrapper.pca | 0.325 | 0.049 | 0.465 | |
| wrapperCalibrationPlot | 0.384 | 0.063 | 0.562 | |
| wrapperClassic1wayAnova | 0.001 | 0.000 | 0.001 | |
| wrapperRunClustering | 6.372 | 1.640 | 9.561 | |
| write.excel | 1.652 | 0.277 | 2.361 | |
| writeMSnsetToCSV | 0.837 | 0.048 | 1.060 | |
| writeMSnsetToExcel | 2.146 | 0.435 | 3.030 | |