| Back to Multiple platform build/check report for BioC 3.21: simplified long |
|
This page was generated on 2025-10-16 11:40 -0400 (Thu, 16 Oct 2025).
| Hostname | OS | Arch (*) | R version | Installed pkgs |
|---|---|---|---|---|
| nebbiolo1 | Linux (Ubuntu 24.04.3 LTS) | x86_64 | 4.5.1 (2025-06-13) -- "Great Square Root" | 4833 |
| merida1 | macOS 12.7.6 Monterey | x86_64 | 4.5.1 RC (2025-06-05 r88288) -- "Great Square Root" | 4614 |
| kjohnson1 | macOS 13.7.5 Ventura | arm64 | 4.5.1 Patched (2025-06-14 r88325) -- "Great Square Root" | 4555 |
| kunpeng2 | Linux (openEuler 24.03 LTS) | aarch64 | R Under development (unstable) (2025-02-19 r87757) -- "Unsuffered Consequences" | 4586 |
| Click on any hostname to see more info about the system (e.g. compilers) (*) as reported by 'uname -p', except on Windows and Mac OS X | ||||
| Package 515/2341 | Hostname | OS / Arch | INSTALL | BUILD | CHECK | BUILD BIN | ||||||||
| DAPAR 1.40.0 (landing page) Samuel Wieczorek
| nebbiolo1 | Linux (Ubuntu 24.04.3 LTS) / x86_64 | OK | OK | OK | |||||||||
| merida1 | macOS 12.7.6 Monterey / x86_64 | OK | OK | OK | OK | |||||||||
| kjohnson1 | macOS 13.7.5 Ventura / arm64 | OK | OK | OK | OK | |||||||||
| kunpeng2 | Linux (openEuler 24.03 LTS) / aarch64 | OK | OK | OK | ||||||||||
|
To the developers/maintainers of the DAPAR package: - Allow up to 24 hours (and sometimes 48 hours) for your latest push to git@git.bioconductor.org:packages/DAPAR.git to reflect on this report. See Troubleshooting Build Report for more information. - Use the following Renviron settings to reproduce errors and warnings. - If 'R CMD check' started to fail recently on the Linux builder(s) over a missing dependency, add the missing dependency to 'Suggests:' in your DESCRIPTION file. See Renviron.bioc for more information. |
| Package: DAPAR |
| Version: 1.40.0 |
| Command: /Library/Frameworks/R.framework/Resources/bin/R CMD check --install=check:DAPAR.install-out.txt --library=/Library/Frameworks/R.framework/Resources/library --no-vignettes --timings DAPAR_1.40.0.tar.gz |
| StartedAt: 2025-10-14 18:43:23 -0400 (Tue, 14 Oct 2025) |
| EndedAt: 2025-10-14 18:55:36 -0400 (Tue, 14 Oct 2025) |
| EllapsedTime: 733.7 seconds |
| RetCode: 0 |
| Status: OK |
| CheckDir: DAPAR.Rcheck |
| Warnings: 0 |
##############################################################################
##############################################################################
###
### Running command:
###
### /Library/Frameworks/R.framework/Resources/bin/R CMD check --install=check:DAPAR.install-out.txt --library=/Library/Frameworks/R.framework/Resources/library --no-vignettes --timings DAPAR_1.40.0.tar.gz
###
##############################################################################
##############################################################################
* using log directory ‘/Users/biocbuild/bbs-3.21-bioc/meat/DAPAR.Rcheck’
* using R version 4.5.1 Patched (2025-06-14 r88325)
* using platform: aarch64-apple-darwin20
* R was compiled by
Apple clang version 16.0.0 (clang-1600.0.26.6)
GNU Fortran (GCC) 14.2.0
* running under: macOS Ventura 13.7.5
* using session charset: UTF-8
* using option ‘--no-vignettes’
* checking for file ‘DAPAR/DESCRIPTION’ ... OK
* checking extension type ... Package
* this is package ‘DAPAR’ version ‘1.40.0’
* package encoding: UTF-8
* checking package namespace information ... OK
* checking package dependencies ... INFO
Vignette dependency required without any vignettes: ‘knitr’
* checking if this is a source package ... OK
* checking if there is a namespace ... OK
* checking for hidden files and directories ... OK
* checking for portable file names ... OK
* checking for sufficient/correct file permissions ... OK
* checking whether package ‘DAPAR’ can be installed ... OK
* checking installed package size ... OK
* checking package directory ... OK
* checking DESCRIPTION meta-information ... OK
* checking top-level files ... OK
* checking for left-over files ... OK
* checking index information ... OK
* checking package subdirectories ... OK
* checking code files for non-ASCII characters ... OK
* checking R files for syntax errors ... OK
* checking whether the package can be loaded ... OK
* checking whether the package can be loaded with stated dependencies ... OK
* checking whether the package can be unloaded cleanly ... OK
* checking whether the namespace can be loaded with stated dependencies ... OK
* checking whether the namespace can be unloaded cleanly ... OK
* checking whether startup messages can be suppressed ... OK
* checking dependencies in R code ... OK
* checking S3 generic/method consistency ... OK
* checking replacement functions ... OK
* checking foreign function calls ... OK
* checking R code for possible problems ... NOTE
Check_Dataset_Validity: no visible global function definition for
‘exprs’
OWAnova: no visible global function definition for ‘aov’
aggregateIterParallel: no visible binding for global variable ‘cond’
averageIntensities: no visible binding for global variable ‘condition’
averageIntensities: no visible binding for global variable ‘feature’
averageIntensities: no visible binding for global variable ‘intensity’
createMSnset: no visible global function definition for
‘installed.packages’
createMSnset: no visible binding for global variable ‘Prostar.loc’
createMSnset2: no visible global function definition for
‘installed.packages’
createMSnset2: no visible binding for global variable ‘Prostar.loc’
diffAnaVolcanoplot_rCharts: no visible binding for global variable ‘x’
diffAnaVolcanoplot_rCharts: no visible binding for global variable ‘y’
diffAnaVolcanoplot_rCharts: no visible binding for global variable ‘g’
display.CC.visNet: no visible binding for global variable
‘layout_nicely’
getTextForGOAnalysis: no visible binding for global variable
‘textGOParams’
getTextForGOAnalysis: no visible binding for global variable ‘input’
globalAdjPval: no visible global function definition for ‘stack’
heatmapForMissingValues: no visible binding for global variable ‘par’
limmaCompleteTest: no visible binding for global variable ‘A’
limmaCompleteTest: no visible binding for global variable ‘B’
limmaCompleteTest: no visible binding for global variable ‘P.Value’
pepa.test: no visible global function definition for ‘nodes<-’
testAnovaModels : <anonymous>: no visible global function definition
for ‘TukeyHSD’
visualizeClusters: no visible binding for global variable
‘adjusted_pvalues’
visualizeClusters: no visible binding for global variable ‘Condition’
visualizeClusters: no visible binding for global variable ‘Intensity’
visualizeClusters: no visible binding for global variable
‘FDR_threshold’
visualizeClusters: no visible binding for global variable ‘feature’
wrapperClassic1wayAnova: no visible binding for global variable
‘Pr(>F)1’
wrapperRunClustering: no visible global function definition for ‘str_c’
Undefined global functions or variables:
A B Condition FDR_threshold Intensity P.Value Pr(>F)1 Prostar.loc
TukeyHSD adjusted_pvalues aov cond condition exprs feature g input
installed.packages intensity layout_nicely nodes<- par stack str_c
textGOParams x y
Consider adding
importFrom("graphics", "par")
importFrom("stats", "TukeyHSD", "aov")
importFrom("utils", "installed.packages", "stack")
to your NAMESPACE file.
* checking Rd files ... OK
* checking Rd metadata ... OK
* checking Rd cross-references ... OK
* checking for missing documentation entries ... OK
* checking for code/documentation mismatches ... OK
* checking Rd \usage sections ... OK
* checking Rd contents ... OK
* checking for unstated dependencies in examples ... OK
* checking examples ... OK
Examples with CPU (user + system) or elapsed time > 5s
user system elapsed
wrapper.compareNormalizationD_HC 46.646 17.878 86.116
wrapper.dapar.impute.mi 17.876 1.389 27.940
barplotEnrichGO_HC 10.540 1.746 15.126
barplotGroupGO_HC 6.265 0.731 7.670
enrich_GO 6.346 0.640 10.214
group_GO 6.162 0.622 7.160
scatterplotEnrichGO_HC 5.772 0.532 7.153
checkClusterability 3.069 1.733 6.101
wrapperRunClustering 4.257 0.392 6.290
densityPlotD_HC 2.984 1.052 6.154
* checking for unstated dependencies in ‘tests’ ... OK
* checking tests ...
Running ‘testthat.R’
OK
* checking PDF version of manual ... OK
* DONE
Status: 1 NOTE
See
‘/Users/biocbuild/bbs-3.21-bioc/meat/DAPAR.Rcheck/00check.log’
for details.
DAPAR.Rcheck/00install.out
############################################################################## ############################################################################## ### ### Running command: ### ### /Library/Frameworks/R.framework/Resources/bin/R CMD INSTALL DAPAR ### ############################################################################## ############################################################################## * installing to library ‘/Library/Frameworks/R.framework/Versions/4.5-arm64/Resources/library’ * installing *source* package ‘DAPAR’ ... ** this is package ‘DAPAR’ version ‘1.40.0’ ** using staged installation ** R ** inst ** byte-compile and prepare package for lazy loading ** help *** installing help indices ** building package indices ** testing if installed package can be loaded from temporary location ** testing if installed package can be loaded from final location ** testing if installed package keeps a record of temporary installation path * DONE (DAPAR)
DAPAR.Rcheck/tests/testthat.Rout
R version 4.5.1 Patched (2025-06-14 r88325) -- "Great Square Root"
Copyright (C) 2025 The R Foundation for Statistical Computing
Platform: aarch64-apple-darwin20
R is free software and comes with ABSOLUTELY NO WARRANTY.
You are welcome to redistribute it under certain conditions.
Type 'license()' or 'licence()' for distribution details.
R is a collaborative project with many contributors.
Type 'contributors()' for more information and
'citation()' on how to cite R or R packages in publications.
Type 'demo()' for some demos, 'help()' for on-line help, or
'help.start()' for an HTML browser interface to help.
Type 'q()' to quit R.
> library(testthat)
> library(DAPAR)
This is the 'DAPAR' version 1.40.0.
To get started, visit
http://www.prostar-proteomics.org/
>
> test_check("DAPAR")
Iterations:
1 / 1 - Imputation MNAR OK -
Imputation MCAR in progress -
3 % - 6 % - 9 % - 12 % - 15 % - 18 % - 21 % - 24 % - 27 % - 30 % - 33 % - 36 % - 39 % - 42 % - 45 % - 48 % - 51 % - 54 % - 57 % - 60 % - 63 % - 66 % - 69 % - 72 % - 75 % - 78 % - 81 % - 84 % - 87 % - 90 % - 93 % - 96 % - 99 % -
Iterations:
1 / 1 - Imputation MNAR OK -
Imputation MCAR in progress -
3 % - 6 % - 9 % - 12 % - 15 % - 18 % - 21 % - 24 % - 27 % - 30 % - 33 % - 36 % - 39 % - 42 % - 45 % - 48 % - 51 % - 54 % - 57 % - 60 % - 63 % - 66 % - 69 % - 72 % - 75 % - 78 % - 81 % - 84 % - 87 % - 90 % - 93 % - 96 % - 99 % -
Imputation in condition 1 ...
In progress: 10 % - 20 % - 30 % - 40 % - 50 % - 60 % - 70 % - 80 % - 90 % - 100 % -
Imputation in condition 2 ...
In progress: 10 % - 20 % - 30 % - 40 % - 50 % - 60 % - 70 % - 80 % - 90 % - 100 % - [ FAIL 0 | WARN 17 | SKIP 0 | PASS 66 ]
[ FAIL 0 | WARN 17 | SKIP 0 | PASS 66 ]
>
> proc.time()
user system elapsed
39.461 1.916 44.997
DAPAR.Rcheck/DAPAR-Ex.timings
| name | user | system | elapsed | |
| AggregateMetacell | 0.740 | 0.030 | 0.857 | |
| BuildAdjacencyMatrix | 0.607 | 0.022 | 0.686 | |
| BuildColumnToProteinDataset | 0.732 | 0.022 | 0.812 | |
| BuildMetaCell | 2.105 | 0.051 | 2.421 | |
| CVDistD_HC | 2.375 | 0.158 | 2.838 | |
| Children | 0.004 | 0.000 | 0.005 | |
| CountPep | 0.637 | 0.018 | 0.741 | |
| ExtendPalette | 0.030 | 0.002 | 0.038 | |
| GOAnalysisSave | 0 | 0 | 0 | |
| GetCC | 3.253 | 0.178 | 3.641 | |
| GetColorsForConditions | 0.570 | 0.014 | 0.606 | |
| GetDetailedNbPeptides | 0.603 | 0.017 | 0.638 | |
| GetDetailedNbPeptidesUsed | 0 | 0 | 0 | |
| GetIndices_BasedOnConditions | 0.466 | 0.017 | 0.523 | |
| GetIndices_MetacellFiltering | 0.375 | 0.017 | 0.451 | |
| GetIndices_WholeLine | 0.451 | 0.020 | 0.530 | |
| GetIndices_WholeMatrix | 0.445 | 0.021 | 1.296 | |
| GetKeyId | 0.581 | 0.019 | 0.627 | |
| GetMatAdj | 0.636 | 0.021 | 0.709 | |
| GetMetacell | 0 | 0 | 0 | |
| GetMetacellTags | 0.580 | 0.021 | 0.681 | |
| GetNbPeptidesUsed | 0.576 | 0.022 | 0.790 | |
| GetNbTags | 0 | 0 | 0 | |
| GetSoftAvailables | 0.001 | 0.000 | 0.000 | |
| GetTypeofData | 0.509 | 0.020 | 1.193 | |
| Get_AllComparisons | 0.360 | 0.032 | 0.506 | |
| GlobalQuantileAlignment | 0.615 | 0.020 | 0.652 | |
| GraphPepProt | 0.610 | 0.021 | 0.659 | |
| LH0 | 0 | 0 | 0 | |
| LH0.lm | 0.000 | 0.000 | 0.001 | |
| LH1 | 0 | 0 | 0 | |
| LH1.lm | 0 | 0 | 0 | |
| LOESS | 1.474 | 0.059 | 1.595 | |
| MeanCentering | 0.591 | 0.022 | 0.682 | |
| MetaCellFiltering | 0.766 | 0.019 | 0.836 | |
| MetacellFilteringScope | 0.001 | 0.000 | 0.001 | |
| Metacell_DIA_NN | 0.777 | 0.021 | 0.813 | |
| Metacell_generic | 0.637 | 0.022 | 0.677 | |
| Metacell_maxquant | 0.587 | 0.025 | 0.664 | |
| Metacell_proline | 0.609 | 0.024 | 0.724 | |
| NumericalFiltering | 0.578 | 0.025 | 0.689 | |
| NumericalgetIndicesOfLinesToRemove | 0.368 | 0.015 | 0.426 | |
| OWAnova | 0.008 | 0.001 | 0.009 | |
| QuantileCentering | 0.482 | 0.018 | 0.558 | |
| SetCC | 3.025 | 0.035 | 3.394 | |
| SetMatAdj | 0.599 | 0.011 | 0.701 | |
| Set_POV_MEC_tags | 0.562 | 0.013 | 0.634 | |
| StringBasedFiltering | 0.596 | 0.015 | 0.703 | |
| StringBasedFiltering2 | 0.588 | 0.013 | 0.664 | |
| SumByColumns | 1.477 | 0.081 | 1.795 | |
| SymFilteringOperators | 0.001 | 0.001 | 0.000 | |
| UpdateMetacellAfterImputation | 0.579 | 0.014 | 0.658 | |
| aggregateIter | 0.733 | 0.016 | 0.817 | |
| aggregateIterParallel | 0 | 0 | 0 | |
| aggregateMean | 0.665 | 0.015 | 0.743 | |
| aggregateSum | 0.675 | 0.018 | 0.753 | |
| aggregateTopn | 0.640 | 0.015 | 0.716 | |
| applyAnovasOnProteins | 0.177 | 0.008 | 0.205 | |
| averageIntensities | 0.753 | 0.166 | 1.197 | |
| barplotEnrichGO_HC | 10.540 | 1.746 | 15.126 | |
| barplotGroupGO_HC | 6.265 | 0.731 | 7.670 | |
| boxPlotD_HC | 0.348 | 0.088 | 0.491 | |
| buildGraph | 2.200 | 0.066 | 2.628 | |
| check.conditions | 0.545 | 0.018 | 0.583 | |
| check.design | 0.553 | 0.017 | 0.599 | |
| checkClusterability | 3.069 | 1.733 | 6.101 | |
| classic1wayAnova | 0.000 | 0.001 | 0.000 | |
| compareNormalizationD_HC | 0.227 | 0.061 | 0.337 | |
| compute.selection.table | 0.977 | 0.217 | 1.408 | |
| compute_t_tests | 1.244 | 0.204 | 1.611 | |
| corrMatrixD_HC | 0.669 | 0.074 | 0.782 | |
| createMSnset | 2.324 | 0.131 | 2.586 | |
| createMSnset2 | 2.246 | 0.114 | 2.537 | |
| dapar_hc_ExportMenu | 0.151 | 0.134 | 0.336 | |
| dapar_hc_chart | 0.069 | 0.043 | 0.130 | |
| deleteLinesFromIndices | 0.690 | 0.027 | 0.749 | |
| densityPlotD_HC | 2.984 | 1.052 | 6.154 | |
| diffAnaComputeAdjustedPValues | 0.282 | 0.047 | 0.645 | |
| diffAnaComputeFDR | 0.000 | 0.001 | 0.000 | |
| diffAnaGetSignificant | 0.380 | 0.058 | 0.663 | |
| diffAnaSave | 0.385 | 0.061 | 0.811 | |
| diffAnaVolcanoplot | 0.265 | 0.031 | 0.419 | |
| diffAnaVolcanoplot_rCharts | 0.490 | 0.113 | 0.781 | |
| display.CC.visNet | 2.396 | 0.097 | 2.981 | |
| enrich_GO | 6.346 | 0.640 | 10.214 | |
| finalizeAggregation | 0 | 0 | 0 | |
| findMECBlock | 0.649 | 0.022 | 0.804 | |
| formatHSDResults | 0 | 0 | 0 | |
| formatLimmaResult | 0.256 | 0.029 | 0.435 | |
| formatPHResults | 0.000 | 0.000 | 0.001 | |
| formatPHTResults | 0 | 0 | 0 | |
| fudge2LRT | 0 | 0 | 0 | |
| get.pep.prot.cc | 2.326 | 0.046 | 2.910 | |
| getDesignLevel | 0.549 | 0.011 | 0.598 | |
| getIndicesConditions | 0.555 | 0.015 | 0.647 | |
| getIndicesOfLinesToRemove | 0.575 | 0.018 | 0.627 | |
| getListNbValuesInLines | 0.547 | 0.013 | 0.582 | |
| getNumberOf | 0.572 | 0.018 | 0.636 | |
| getNumberOfEmptyLines | 0.574 | 0.017 | 0.631 | |
| getPourcentageOfMV | 0.579 | 0.018 | 0.628 | |
| getProcessingInfo | 0.544 | 0.014 | 0.582 | |
| getProteinsStats | 0.588 | 0.024 | 0.661 | |
| getQuantile4Imp | 0.161 | 0.008 | 0.184 | |
| getTextForAggregation | 0.000 | 0.001 | 0.001 | |
| getTextForAnaDiff | 0.000 | 0.000 | 0.001 | |
| getTextForFiltering | 0.000 | 0.000 | 0.001 | |
| getTextForGOAnalysis | 0.001 | 0.000 | 0.001 | |
| getTextForHypothesisTest | 0.001 | 0.001 | 0.001 | |
| getTextForNewDataset | 0.003 | 0.000 | 0.005 | |
| getTextForNormalization | 0.001 | 0.000 | 0.001 | |
| getTextForpeptideImputation | 0 | 0 | 0 | |
| getTextForproteinImputation | 0.000 | 0.001 | 0.001 | |
| globalAdjPval | 0.501 | 0.050 | 0.592 | |
| group_GO | 6.162 | 0.622 | 7.160 | |
| hc_logFC_DensityPlot | 0.766 | 0.264 | 1.155 | |
| hc_mvTypePlot2 | 1.048 | 0.248 | 1.388 | |
| heatmapD | 0.947 | 0.078 | 1.250 | |
| heatmapForMissingValues | 0.275 | 0.029 | 0.313 | |
| histPValue_HC | 0.310 | 0.076 | 0.406 | |
| impute.pa2 | 0.658 | 0.033 | 0.708 | |
| inner.aggregate.iter | 0.672 | 0.032 | 0.723 | |
| inner.aggregate.topn | 0.641 | 0.029 | 0.699 | |
| inner.mean | 0.635 | 0.028 | 0.677 | |
| inner.sum | 0.676 | 0.028 | 0.716 | |
| is.subset | 0.001 | 0.001 | 0.001 | |
| limmaCompleteTest | 1.726 | 0.102 | 2.123 | |
| listSheets | 0 | 0 | 0 | |
| make.contrast | 0.608 | 0.020 | 0.641 | |
| make.design.1 | 0.607 | 0.020 | 0.646 | |
| make.design.2 | 0.603 | 0.022 | 0.641 | |
| make.design.3 | 0.622 | 0.022 | 0.666 | |
| make.design | 0.649 | 0.023 | 0.689 | |
| match.metacell | 0.636 | 0.023 | 0.674 | |
| metacell.def | 0.005 | 0.002 | 0.008 | |
| metacellHisto_HC | 0.684 | 0.077 | 0.929 | |
| metacellPerLinesHistoPerCondition_HC | 0.824 | 0.128 | 1.166 | |
| metacellPerLinesHisto_HC | 0.933 | 0.257 | 1.277 | |
| metacombine | 0.203 | 0.018 | 0.239 | |
| mvImage | 2.819 | 0.216 | 4.758 | |
| my_hc_ExportMenu | 0.168 | 0.147 | 0.510 | |
| my_hc_chart | 0.191 | 0.162 | 0.684 | |
| nonzero | 0.030 | 0.002 | 0.036 | |
| normalizeMethods.dapar | 0 | 0 | 0 | |
| pepa.test | 0.650 | 0.023 | 0.857 | |
| pkgs.require | 0.000 | 0.001 | 0.000 | |
| plotJitter | 2.365 | 0.048 | 2.956 | |
| plotJitter_rCharts | 2.156 | 0.101 | 2.986 | |
| plotPCA_Eigen | 0.696 | 0.077 | 1.144 | |
| plotPCA_Eigen_hc | 0.545 | 0.021 | 0.637 | |
| plotPCA_Ind | 0.568 | 0.021 | 0.678 | |
| plotPCA_Var | 0.552 | 0.016 | 0.608 | |
| postHocTest | 0.000 | 0.000 | 0.001 | |
| proportionConRev_HC | 0.055 | 0.047 | 0.133 | |
| rbindMSnset | 0.704 | 0.055 | 1.173 | |
| reIntroduceMEC | 0.630 | 0.032 | 0.773 | |
| readExcel | 0 | 0 | 0 | |
| removeLines | 0.611 | 0.029 | 0.716 | |
| samLRT | 0 | 0 | 0 | |
| saveParameters | 0.395 | 0.016 | 0.515 | |
| scatterplotEnrichGO_HC | 5.772 | 0.532 | 7.153 | |
| search.metacell.tags | 0.006 | 0.002 | 0.010 | |
| separateAdjPval | 0.262 | 0.017 | 0.296 | |
| splitAdjacencyMat | 0.653 | 0.022 | 0.757 | |
| test.design | 0.625 | 0.017 | 0.667 | |
| testAnovaModels | 0.202 | 0.014 | 0.230 | |
| thresholdpval4fdr | 0.000 | 0.000 | 0.001 | |
| translatedRandomBeta | 0.002 | 0.010 | 0.019 | |
| univ_AnnotDbPkg | 0.281 | 0.075 | 0.425 | |
| violinPlotD | 0.472 | 0.039 | 0.565 | |
| visualizeClusters | 1.684 | 0.212 | 2.262 | |
| vsn | 0.884 | 0.043 | 1.120 | |
| wrapper.CVDistD_HC | 2.101 | 0.815 | 3.166 | |
| wrapper.compareNormalizationD_HC | 46.646 | 17.878 | 86.116 | |
| wrapper.corrMatrixD_HC | 0.661 | 0.086 | 1.098 | |
| wrapper.dapar.impute.mi | 17.876 | 1.389 | 27.940 | |
| wrapper.heatmapD | 0.759 | 0.048 | 1.098 | |
| wrapper.impute.KNN | 0.612 | 0.026 | 0.735 | |
| wrapper.impute.detQuant | 0.712 | 0.040 | 0.877 | |
| wrapper.impute.fixedValue | 0.682 | 0.042 | 0.984 | |
| wrapper.impute.mle | 0.619 | 0.029 | 0.827 | |
| wrapper.impute.pa | 0.219 | 0.020 | 0.290 | |
| wrapper.impute.pa2 | 0.633 | 0.031 | 0.827 | |
| wrapper.impute.slsa | 0.781 | 0.055 | 1.295 | |
| wrapper.mvImage | 0.241 | 0.028 | 0.388 | |
| wrapper.normalizeD | 0.641 | 0.020 | 0.781 | |
| wrapper.pca | 0.242 | 0.029 | 0.435 | |
| wrapperCalibrationPlot | 0.295 | 0.031 | 0.413 | |
| wrapperClassic1wayAnova | 0.000 | 0.000 | 0.001 | |
| wrapperRunClustering | 4.257 | 0.392 | 6.290 | |
| write.excel | 1.028 | 0.142 | 1.650 | |
| writeMSnsetToCSV | 0.575 | 0.033 | 0.782 | |
| writeMSnsetToExcel | 1.192 | 0.204 | 1.670 | |