Back to Multiple platform build/check report for BioC 3.21:   simplified   long
A[B]CDEFGHIJKLMNOPQRSTUVWXYZ

This page was generated on 2025-10-06 11:41 -0400 (Mon, 06 Oct 2025).

HostnameOSArch (*)R versionInstalled pkgs
nebbiolo1Linux (Ubuntu 24.04.3 LTS)x86_644.5.1 (2025-06-13) -- "Great Square Root" 4832
merida1macOS 12.7.5 Montereyx86_644.5.1 RC (2025-06-05 r88288) -- "Great Square Root" 4613
kjohnson1macOS 13.6.6 Venturaarm644.5.1 Patched (2025-06-14 r88325) -- "Great Square Root" 4554
kunpeng2Linux (openEuler 24.03 LTS)aarch64R Under development (unstable) (2025-02-19 r87757) -- "Unsuffered Consequences" 4585
Click on any hostname to see more info about the system (e.g. compilers)      (*) as reported by 'uname -p', except on Windows and Mac OS X

Package 255/2341HostnameOS / ArchINSTALLBUILDCHECKBUILD BIN
BulkSignalR 1.0.5  (landing page)
Jean-Philippe Villemin
Snapshot Date: 2025-10-02 13:40 -0400 (Thu, 02 Oct 2025)
git_url: https://git.bioconductor.org/packages/BulkSignalR
git_branch: RELEASE_3_21
git_last_commit: 84707b3
git_last_commit_date: 2025-09-27 05:41:27 -0400 (Sat, 27 Sep 2025)
nebbiolo1Linux (Ubuntu 24.04.3 LTS) / x86_64  OK    OK    OK  UNNEEDED, same version is already published
merida1macOS 12.7.5 Monterey / x86_64  OK    OK    OK    OK  UNNEEDED, same version is already published
kjohnson1macOS 13.6.6 Ventura / arm64  OK    OK    OK    OK  UNNEEDED, same version is already published
kunpeng2Linux (openEuler 24.03 LTS) / aarch64  OK    OK    OK  


CHECK results for BulkSignalR on kunpeng2

To the developers/maintainers of the BulkSignalR package:
- Allow up to 24 hours (and sometimes 48 hours) for your latest push to git@git.bioconductor.org:packages/BulkSignalR.git to reflect on this report. See Troubleshooting Build Report for more information.
- Use the following Renviron settings to reproduce errors and warnings.
- If 'R CMD check' started to fail recently on the Linux builder(s) over a missing dependency, add the missing dependency to 'Suggests:' in your DESCRIPTION file. See Renviron.bioc for more information.
- See Martin Grigorov's blog post for how to debug Linux ARM64 related issues on a x86_64 host.

raw results


Summary

Package: BulkSignalR
Version: 1.0.5
Command: /home/biocbuild/R/R/bin/R CMD check --install=check:BulkSignalR.install-out.txt --library=/home/biocbuild/R/R/site-library --no-vignettes --timings BulkSignalR_1.0.5.tar.gz
StartedAt: 2025-10-03 07:09:51 -0000 (Fri, 03 Oct 2025)
EndedAt: 2025-10-03 07:19:35 -0000 (Fri, 03 Oct 2025)
EllapsedTime: 583.4 seconds
RetCode: 0
Status:   OK  
CheckDir: BulkSignalR.Rcheck
Warnings: 0

Command output

##############################################################################
##############################################################################
###
### Running command:
###
###   /home/biocbuild/R/R/bin/R CMD check --install=check:BulkSignalR.install-out.txt --library=/home/biocbuild/R/R/site-library --no-vignettes --timings BulkSignalR_1.0.5.tar.gz
###
##############################################################################
##############################################################################


* using log directory ‘/home/biocbuild/bbs-3.21-bioc/meat/BulkSignalR.Rcheck’
* using R Under development (unstable) (2025-02-19 r87757)
* using platform: aarch64-unknown-linux-gnu
* R was compiled by
    aarch64-unknown-linux-gnu-gcc (GCC) 14.2.0
    GNU Fortran (GCC) 14.2.0
* running under: openEuler 24.03 (LTS-SP1)
* using session charset: UTF-8
* using option ‘--no-vignettes’
* checking for file ‘BulkSignalR/DESCRIPTION’ ... OK
* checking extension type ... Package
* this is package ‘BulkSignalR’ version ‘1.0.5’
* package encoding: UTF-8
* checking package namespace information ... OK
* checking package dependencies ... INFO
Imports includes 26 non-default packages.
Importing from so many packages makes the package vulnerable to any of
them becoming unavailable.  Move as many as possible to Suggests and
use conditionally.
* checking if this is a source package ... OK
* checking if there is a namespace ... OK
* checking for hidden files and directories ... OK
* checking for portable file names ... OK
* checking for sufficient/correct file permissions ... OK
* checking whether package ‘BulkSignalR’ can be installed ... OK
* checking installed package size ... OK
* checking package directory ... OK
* checking ‘build’ directory ... OK
* checking DESCRIPTION meta-information ... OK
* checking top-level files ... OK
* checking for left-over files ... OK
* checking index information ... OK
* checking package subdirectories ... OK
* checking code files for non-ASCII characters ... OK
* checking R files for syntax errors ... OK
* checking whether the package can be loaded ... OK
* checking whether the package can be loaded with stated dependencies ... OK
* checking whether the package can be unloaded cleanly ... OK
* checking whether the namespace can be loaded with stated dependencies ... OK
* checking whether the namespace can be unloaded cleanly ... OK
* checking loading without being on the library search path ... OK
* checking whether startup messages can be suppressed ... OK
* checking dependencies in R code ... OK
* checking S3 generic/method consistency ... OK
* checking replacement functions ... OK
* checking foreign function calls ... OK
* checking R code for possible problems ... OK
* checking Rd files ... OK
* checking Rd metadata ... OK
* checking Rd cross-references ... OK
* checking for missing documentation entries ... OK
* checking for code/documentation mismatches ... OK
* checking Rd \usage sections ... OK
* checking Rd contents ... OK
* checking for unstated dependencies in examples ... OK
* checking contents of ‘data’ directory ... OK
* checking data for non-ASCII characters ... OK
* checking data for ASCII and uncompressed saves ... OK
* checking files in ‘vignettes’ ... OK
* checking examples ... OK
Examples with CPU (user + system) or elapsed time > 5s
                        user system elapsed
simpleHeatmap          8.535  0.377   8.937
spatialAssociationPlot 5.674  0.071   5.759
cacheClear             4.676  0.307  33.695
* checking for unstated dependencies in ‘tests’ ... OK
* checking tests ...
  Running ‘testthat.R’
 OK
* checking for unstated dependencies in vignettes ... OK
* checking package vignettes ... OK
* checking running R code from vignettes ... SKIPPED
* checking re-building of vignette outputs ... SKIPPED
* checking PDF version of manual ... OK
* DONE

Status: OK


Installation output

BulkSignalR.Rcheck/00install.out

##############################################################################
##############################################################################
###
### Running command:
###
###   /home/biocbuild/R/R/bin/R CMD INSTALL BulkSignalR
###
##############################################################################
##############################################################################


* installing to library ‘/home/biocbuild/R/R-devel_2025-02-19/site-library’
* installing *source* package ‘BulkSignalR’ ...
** this is package ‘BulkSignalR’ version ‘1.0.5’
** using staged installation
** R
** data
** inst
** byte-compile and prepare package for lazy loading
** help
*** installing help indices
*** copying figures
** building package indices
** installing vignettes
** testing if installed package can be loaded from temporary location
** testing if installed package can be loaded from final location
** testing if installed package keeps a record of temporary installation path
* DONE (BulkSignalR)

Tests output

BulkSignalR.Rcheck/tests/testthat.Rout


R Under development (unstable) (2025-02-19 r87757) -- "Unsuffered Consequences"
Copyright (C) 2025 The R Foundation for Statistical Computing
Platform: aarch64-unknown-linux-gnu

R is free software and comes with ABSOLUTELY NO WARRANTY.
You are welcome to redistribute it under certain conditions.
Type 'license()' or 'licence()' for distribution details.

R is a collaborative project with many contributors.
Type 'contributors()' for more information and
'citation()' on how to cite R or R packages in publications.

Type 'demo()' for some demos, 'help()' for on-line help, or
'help.start()' for an HTML browser interface to help.
Type 'q()' to quit R.

> library(testthat)
> library(BulkSignalR)
Local "resources" are up to date.

> test_check("BulkSignalR")
[ FAIL 0 | WARN 0 | SKIP 0 | PASS 1 ]
> 
> proc.time()
   user  system elapsed 
 18.234   1.240  21.284 

Example timings

BulkSignalR.Rcheck/BulkSignalR-Ex.timings

nameusersystemelapsed
BSRClusterComp-class0.0040.0000.005
BSRClusterComp0.4380.0040.443
BSRDataModel-class0.0070.0000.007
BSRDataModel0.2770.0000.278
BSRDataModelComp-class0.0070.0000.006
BSRDataModelComp0.2940.0000.296
BSRInference-class0.0060.0000.006
BSRInference3.7220.1473.878
BSRInferenceComp-class0.010.000.01
BSRInferenceComp2.0670.0282.100
BSRSignature-class0.0030.0000.002
BSRSignature0.0450.0000.046
BSRSignatureComp-class0.0050.0000.005
BSRSignatureComp0.0200.0000.021
LRinter0.0020.0000.002
LRinterScore0.0040.0000.005
LRinterShort0.0050.0000.005
addClusterComp0.4150.0000.416
alluvialPlot1.5070.1161.627
assignCellTypesToInteractions0.8990.0360.938
bubblePlotPathwaysLR0.4930.0080.503
cacheClear 4.676 0.30733.695
cacheInfo0.1410.0080.150
cacheVersion0.3890.0601.121
cellTypeFrequency1.0900.4151.510
cellularNetwork0.9820.3241.309
cellularNetworkTable0.9650.0361.003
chordDiagramLR1.8440.0081.857
coerce0.0010.0000.001
colClusterA000
colClusterB000
comparison0.0000.0000.001
comparisonName000
convertToHuman0.2510.0153.648
createResources0.3750.0041.505
differentialStats0.0010.0000.002
findOrthoGenes0.1700.0040.579
generateSpatialPlots1.9430.0041.951
getLRIntracellNetwork3.2330.1123.353
getLRNetwork0.0540.0000.055
getPathwayStats0.0160.0080.023
getResource0.3710.0040.377
inferenceParameters0.0000.0000.001
initialOrganism0.0000.0020.002
initialOrthologs0.0000.0010.002
learnParameters4.0340.1274.176
ligands000
logTransformed0.0020.0000.002
maxLigandSpatialCounts0.0650.0040.070
mu0.0000.0000.001
ncounts0.0020.0000.002
normalization0.0010.0000.002
parameters0.0020.0000.001
pathways0.0010.0000.000
receptors000
reduceToBestPathway0.1300.0040.135
reduceToLigand0.0560.0000.056
reduceToPathway0.1140.0000.115
reduceToReceptor0.0220.0000.023
relateToGeneSet0.0990.0040.103
removeClusterComp0.4190.0080.428
rescoreInference0.0340.0080.042
resetLRdb0.0170.0040.021
resetNetwork0.0110.0000.011
resetPathways0.3750.0200.396
resetToInitialOrganism0.2060.0160.223
scoreLRGeneSignatures0.6570.0560.715
scoreSignatures0.4970.0000.498
separatedLRPlot2.0030.0682.076
signatureHeatmaps0.0220.0000.023
simpleHeatmap8.5350.3778.937
smoothSpatialCounts0.0690.0130.081
sourceComparisonName000
spatialAssociation0.0590.0000.059
spatialAssociationPlot5.6740.0715.759
spatialDiversityPlot1.2560.0361.294
spatialIndexPlot1.5830.0561.643
spatialPlot1.3880.0481.439
summarizedCellularNetwork0.9510.0040.958
tgCorr000
tgExpr000
tgGenes000
tgLogFC000
tgPval000
updateInference0.1010.0000.101