Back to Multiple platform build/check report for BioC 3.21:   simplified   long
A[B]CDEFGHIJKLMNOPQRSTUVWXYZ

This page was generated on 2025-10-06 11:38 -0400 (Mon, 06 Oct 2025).

HostnameOSArch (*)R versionInstalled pkgs
nebbiolo1Linux (Ubuntu 24.04.3 LTS)x86_644.5.1 (2025-06-13) -- "Great Square Root" 4832
merida1macOS 12.7.5 Montereyx86_644.5.1 RC (2025-06-05 r88288) -- "Great Square Root" 4613
kjohnson1macOS 13.6.6 Venturaarm644.5.1 Patched (2025-06-14 r88325) -- "Great Square Root" 4554
kunpeng2Linux (openEuler 24.03 LTS)aarch64R Under development (unstable) (2025-02-19 r87757) -- "Unsuffered Consequences" 4585
Click on any hostname to see more info about the system (e.g. compilers)      (*) as reported by 'uname -p', except on Windows and Mac OS X

Package 255/2341HostnameOS / ArchINSTALLBUILDCHECKBUILD BIN
BulkSignalR 1.0.5  (landing page)
Jean-Philippe Villemin
Snapshot Date: 2025-10-02 13:40 -0400 (Thu, 02 Oct 2025)
git_url: https://git.bioconductor.org/packages/BulkSignalR
git_branch: RELEASE_3_21
git_last_commit: 84707b3
git_last_commit_date: 2025-09-27 05:41:27 -0400 (Sat, 27 Sep 2025)
nebbiolo1Linux (Ubuntu 24.04.3 LTS) / x86_64  OK    OK    OK  UNNEEDED, same version is already published
merida1macOS 12.7.5 Monterey / x86_64  OK    OK    OK    OK  UNNEEDED, same version is already published
kjohnson1macOS 13.6.6 Ventura / arm64  OK    OK    OK    OK  UNNEEDED, same version is already published
kunpeng2Linux (openEuler 24.03 LTS) / aarch64  OK    OK    OK  


CHECK results for BulkSignalR on merida1

To the developers/maintainers of the BulkSignalR package:
- Allow up to 24 hours (and sometimes 48 hours) for your latest push to git@git.bioconductor.org:packages/BulkSignalR.git to reflect on this report. See Troubleshooting Build Report for more information.
- Use the following Renviron settings to reproduce errors and warnings.
- If 'R CMD check' started to fail recently on the Linux builder(s) over a missing dependency, add the missing dependency to 'Suggests:' in your DESCRIPTION file. See Renviron.bioc for more information.

raw results


Summary

Package: BulkSignalR
Version: 1.0.5
Command: /Library/Frameworks/R.framework/Resources/bin/R CMD check --install=check:BulkSignalR.install-out.txt --library=/Library/Frameworks/R.framework/Resources/library --no-vignettes --timings BulkSignalR_1.0.5.tar.gz
StartedAt: 2025-10-03 00:59:07 -0400 (Fri, 03 Oct 2025)
EndedAt: 2025-10-03 01:12:48 -0400 (Fri, 03 Oct 2025)
EllapsedTime: 820.9 seconds
RetCode: 0
Status:   OK  
CheckDir: BulkSignalR.Rcheck
Warnings: 0

Command output

##############################################################################
##############################################################################
###
### Running command:
###
###   /Library/Frameworks/R.framework/Resources/bin/R CMD check --install=check:BulkSignalR.install-out.txt --library=/Library/Frameworks/R.framework/Resources/library --no-vignettes --timings BulkSignalR_1.0.5.tar.gz
###
##############################################################################
##############################################################################


* using log directory ‘/Users/biocbuild/bbs-3.21-bioc/meat/BulkSignalR.Rcheck’
* using R version 4.5.1 RC (2025-06-05 r88288)
* using platform: x86_64-apple-darwin20
* R was compiled by
    Apple clang version 14.0.0 (clang-1400.0.29.202)
    GNU Fortran (GCC) 14.2.0
* running under: macOS Monterey 12.7.6
* using session charset: UTF-8
* using option ‘--no-vignettes’
* checking for file ‘BulkSignalR/DESCRIPTION’ ... OK
* checking extension type ... Package
* this is package ‘BulkSignalR’ version ‘1.0.5’
* package encoding: UTF-8
* checking package namespace information ... OK
* checking package dependencies ... INFO
Imports includes 26 non-default packages.
Importing from so many packages makes the package vulnerable to any of
them becoming unavailable.  Move as many as possible to Suggests and
use conditionally.
* checking if this is a source package ... OK
* checking if there is a namespace ... OK
* checking for hidden files and directories ... OK
* checking for portable file names ... OK
* checking for sufficient/correct file permissions ... OK
* checking whether package ‘BulkSignalR’ can be installed ... OK
* checking installed package size ... OK
* checking package directory ... OK
* checking ‘build’ directory ... OK
* checking DESCRIPTION meta-information ... OK
* checking top-level files ... OK
* checking for left-over files ... OK
* checking index information ... OK
* checking package subdirectories ... OK
* checking code files for non-ASCII characters ... OK
* checking R files for syntax errors ... OK
* checking whether the package can be loaded ... OK
* checking whether the package can be loaded with stated dependencies ... OK
* checking whether the package can be unloaded cleanly ... OK
* checking whether the namespace can be loaded with stated dependencies ... OK
* checking whether the namespace can be unloaded cleanly ... OK
* checking whether startup messages can be suppressed ... OK
* checking dependencies in R code ... OK
* checking S3 generic/method consistency ... OK
* checking replacement functions ... OK
* checking foreign function calls ... OK
* checking R code for possible problems ... OK
* checking Rd files ... OK
* checking Rd metadata ... OK
* checking Rd cross-references ... OK
* checking for missing documentation entries ... OK
* checking for code/documentation mismatches ... OK
* checking Rd \usage sections ... OK
* checking Rd contents ... OK
* checking for unstated dependencies in examples ... OK
* checking contents of ‘data’ directory ... OK
* checking data for non-ASCII characters ... OK
* checking data for ASCII and uncompressed saves ... OK
* checking files in ‘vignettes’ ... OK
* checking examples ... OK
Examples with CPU (user + system) or elapsed time > 5s
                         user system elapsed
simpleHeatmap          11.352  0.655  12.632
spatialAssociationPlot  9.501  0.111   9.797
BSRInference            6.513  0.198   6.873
learnParameters         5.768  0.038   5.852
cacheClear              5.027  0.340   8.911
* checking for unstated dependencies in ‘tests’ ... OK
* checking tests ...
  Running ‘testthat.R’
 OK
* checking for unstated dependencies in vignettes ... OK
* checking package vignettes ... OK
* checking running R code from vignettes ... SKIPPED
* checking re-building of vignette outputs ... SKIPPED
* checking PDF version of manual ... OK
* DONE

Status: OK


Installation output

BulkSignalR.Rcheck/00install.out

##############################################################################
##############################################################################
###
### Running command:
###
###   /Library/Frameworks/R.framework/Resources/bin/R CMD INSTALL BulkSignalR
###
##############################################################################
##############################################################################


* installing to library ‘/Library/Frameworks/R.framework/Versions/4.5-x86_64/Resources/library’
* installing *source* package ‘BulkSignalR’ ...
** this is package ‘BulkSignalR’ version ‘1.0.5’
** using staged installation
** R
** data
** inst
** byte-compile and prepare package for lazy loading
** help
*** installing help indices
*** copying figures
** building package indices
** installing vignettes
** testing if installed package can be loaded from temporary location
** testing if installed package can be loaded from final location
** testing if installed package keeps a record of temporary installation path
* DONE (BulkSignalR)

Tests output

BulkSignalR.Rcheck/tests/testthat.Rout


R version 4.5.1 RC (2025-06-05 r88288) -- "Great Square Root"
Copyright (C) 2025 The R Foundation for Statistical Computing
Platform: x86_64-apple-darwin20

R is free software and comes with ABSOLUTELY NO WARRANTY.
You are welcome to redistribute it under certain conditions.
Type 'license()' or 'licence()' for distribution details.

R is a collaborative project with many contributors.
Type 'contributors()' for more information and
'citation()' on how to cite R or R packages in publications.

Type 'demo()' for some demos, 'help()' for on-line help, or
'help.start()' for an HTML browser interface to help.
Type 'q()' to quit R.

> library(testthat)
> library(BulkSignalR)
Local "resources" are up to date.

> test_check("BulkSignalR")
[ FAIL 0 | WARN 0 | SKIP 0 | PASS 1 ]
> 
> proc.time()
   user  system elapsed 
 27.688   1.500  31.147 

Example timings

BulkSignalR.Rcheck/BulkSignalR-Ex.timings

nameusersystemelapsed
BSRClusterComp-class0.0040.0010.006
BSRClusterComp0.4850.0290.519
BSRDataModel-class0.0560.0060.063
BSRDataModel0.3060.0120.321
BSRDataModelComp-class0.0090.0010.010
BSRDataModelComp0.3440.0090.356
BSRInference-class0.0100.0010.009
BSRInference6.5130.1986.873
BSRInferenceComp-class0.0150.0010.017
BSRInferenceComp2.5390.1542.697
BSRSignature-class0.0040.0010.005
BSRSignature0.0810.0050.085
BSRSignatureComp-class0.0060.0010.007
BSRSignatureComp0.0300.0030.032
LRinter0.0030.0000.004
LRinterScore0.0070.0040.011
LRinterShort0.0080.0050.012
addClusterComp0.4000.0190.421
alluvialPlot1.2530.0261.281
assignCellTypesToInteractions1.7260.0961.837
bubblePlotPathwaysLR1.2260.0121.246
cacheClear5.0270.3408.911
cacheInfo0.1880.0100.197
cacheVersion0.4980.0510.983
cellTypeFrequency1.8050.0361.852
cellularNetwork1.6250.0431.677
cellularNetworkTable1.6170.0331.685
chordDiagramLR2.9920.0253.030
coerce0.0030.0000.003
colClusterA000
colClusterB000
comparison000
comparisonName0.0000.0000.001
convertToHuman0.4400.0141.583
createResources0.4850.0501.305
differentialStats0.0020.0010.003
findOrthoGenes0.3280.0050.605
generateSpatialPlots4.4700.0744.568
getLRIntracellNetwork3.5640.2153.801
getLRNetwork0.0890.0050.096
getPathwayStats0.0340.0040.039
getResource0.5350.0230.559
inferenceParameters0.0000.0010.001
initialOrganism0.0030.0010.004
initialOrthologs0.0030.0000.003
learnParameters5.7680.0385.852
ligands0.0000.0000.001
logTransformed0.0030.0000.003
maxLigandSpatialCounts0.1040.0070.113
mu000
ncounts0.0030.0010.003
normalization0.0020.0000.004
parameters0.0030.0010.003
pathways0.0010.0000.001
receptors0.0010.0000.001
reduceToBestPathway0.2300.0130.243
reduceToLigand0.1010.0080.111
reduceToPathway0.2240.0120.236
reduceToReceptor0.0360.0080.045
relateToGeneSet0.1670.0100.178
removeClusterComp0.4610.0130.476
rescoreInference0.0560.0140.070
resetLRdb0.0270.0010.028
resetNetwork0.0160.0010.017
resetPathways0.5410.0260.569
resetToInitialOrganism0.3230.0070.332
scoreLRGeneSignatures2.0560.0472.124
scoreSignatures0.6930.0140.719
separatedLRPlot4.4250.0584.508
signatureHeatmaps0.0330.0080.042
simpleHeatmap11.352 0.65512.632
smoothSpatialCounts0.1130.0160.129
sourceComparisonName0.0010.0000.002
spatialAssociation0.1100.0230.136
spatialAssociationPlot9.5010.1119.797
spatialDiversityPlot2.5020.0552.624
spatialIndexPlot3.7170.0473.793
spatialPlot3.0880.0513.205
summarizedCellularNetwork1.5970.0301.641
tgCorr0.0000.0010.001
tgExpr0.0010.0010.001
tgGenes0.0010.0010.001
tgLogFC0.0000.0000.001
tgPval0.0000.0010.001
updateInference0.1580.0150.174