Back to Multiple platform build/check report for BioC 3.21: simplified long |
|
This page was generated on 2025-10-06 11:40 -0400 (Mon, 06 Oct 2025).
Hostname | OS | Arch (*) | R version | Installed pkgs |
---|---|---|---|---|
nebbiolo1 | Linux (Ubuntu 24.04.3 LTS) | x86_64 | 4.5.1 (2025-06-13) -- "Great Square Root" | 4832 |
merida1 | macOS 12.7.5 Monterey | x86_64 | 4.5.1 RC (2025-06-05 r88288) -- "Great Square Root" | 4613 |
kjohnson1 | macOS 13.6.6 Ventura | arm64 | 4.5.1 Patched (2025-06-14 r88325) -- "Great Square Root" | 4554 |
kunpeng2 | Linux (openEuler 24.03 LTS) | aarch64 | R Under development (unstable) (2025-02-19 r87757) -- "Unsuffered Consequences" | 4585 |
Click on any hostname to see more info about the system (e.g. compilers) (*) as reported by 'uname -p', except on Windows and Mac OS X |
Package 255/2341 | Hostname | OS / Arch | INSTALL | BUILD | CHECK | BUILD BIN | ||||||||
BulkSignalR 1.0.5 (landing page) Jean-Philippe Villemin
| nebbiolo1 | Linux (Ubuntu 24.04.3 LTS) / x86_64 | OK | OK | OK | ![]() | ||||||||
merida1 | macOS 12.7.5 Monterey / x86_64 | OK | OK | OK | OK | ![]() | ||||||||
kjohnson1 | macOS 13.6.6 Ventura / arm64 | OK | OK | OK | OK | ![]() | ||||||||
kunpeng2 | Linux (openEuler 24.03 LTS) / aarch64 | OK | OK | OK | ||||||||||
To the developers/maintainers of the BulkSignalR package: - Allow up to 24 hours (and sometimes 48 hours) for your latest push to git@git.bioconductor.org:packages/BulkSignalR.git to reflect on this report. See Troubleshooting Build Report for more information. - Use the following Renviron settings to reproduce errors and warnings. - If 'R CMD check' started to fail recently on the Linux builder(s) over a missing dependency, add the missing dependency to 'Suggests:' in your DESCRIPTION file. See Renviron.bioc for more information. |
Package: BulkSignalR |
Version: 1.0.5 |
Command: /Library/Frameworks/R.framework/Resources/bin/R CMD check --install=check:BulkSignalR.install-out.txt --library=/Library/Frameworks/R.framework/Resources/library --no-vignettes --timings BulkSignalR_1.0.5.tar.gz |
StartedAt: 2025-10-03 14:42:41 -0400 (Fri, 03 Oct 2025) |
EndedAt: 2025-10-03 14:50:39 -0400 (Fri, 03 Oct 2025) |
EllapsedTime: 477.8 seconds |
RetCode: 0 |
Status: OK |
CheckDir: BulkSignalR.Rcheck |
Warnings: 0 |
############################################################################## ############################################################################## ### ### Running command: ### ### /Library/Frameworks/R.framework/Resources/bin/R CMD check --install=check:BulkSignalR.install-out.txt --library=/Library/Frameworks/R.framework/Resources/library --no-vignettes --timings BulkSignalR_1.0.5.tar.gz ### ############################################################################## ############################################################################## * using log directory ‘/Users/biocbuild/bbs-3.21-bioc/meat/BulkSignalR.Rcheck’ * using R version 4.5.1 Patched (2025-06-14 r88325) * using platform: aarch64-apple-darwin20 * R was compiled by Apple clang version 16.0.0 (clang-1600.0.26.6) GNU Fortran (GCC) 14.2.0 * running under: macOS Ventura 13.7.5 * using session charset: UTF-8 * using option ‘--no-vignettes’ * checking for file ‘BulkSignalR/DESCRIPTION’ ... OK * checking extension type ... Package * this is package ‘BulkSignalR’ version ‘1.0.5’ * package encoding: UTF-8 * checking package namespace information ... OK * checking package dependencies ... INFO Imports includes 26 non-default packages. Importing from so many packages makes the package vulnerable to any of them becoming unavailable. Move as many as possible to Suggests and use conditionally. * checking if this is a source package ... OK * checking if there is a namespace ... OK * checking for hidden files and directories ... OK * checking for portable file names ... OK * checking for sufficient/correct file permissions ... OK * checking whether package ‘BulkSignalR’ can be installed ... OK * checking installed package size ... OK * checking package directory ... OK * checking ‘build’ directory ... OK * checking DESCRIPTION meta-information ... OK * checking top-level files ... OK * checking for left-over files ... OK * checking index information ... OK * checking package subdirectories ... OK * checking code files for non-ASCII characters ... OK * checking R files for syntax errors ... OK * checking whether the package can be loaded ... OK * checking whether the package can be loaded with stated dependencies ... OK * checking whether the package can be unloaded cleanly ... OK * checking whether the namespace can be loaded with stated dependencies ... OK * checking whether the namespace can be unloaded cleanly ... OK * checking whether startup messages can be suppressed ... OK * checking dependencies in R code ... OK * checking S3 generic/method consistency ... OK * checking replacement functions ... OK * checking foreign function calls ... OK * checking R code for possible problems ... OK * checking Rd files ... OK * checking Rd metadata ... OK * checking Rd cross-references ... OK * checking for missing documentation entries ... OK * checking for code/documentation mismatches ... OK * checking Rd \usage sections ... OK * checking Rd contents ... OK * checking for unstated dependencies in examples ... OK * checking contents of ‘data’ directory ... OK * checking data for non-ASCII characters ... OK * checking data for ASCII and uncompressed saves ... OK * checking files in ‘vignettes’ ... OK * checking examples ... OK Examples with CPU (user + system) or elapsed time > 5s user system elapsed simpleHeatmap 8.356 0.444 8.957 cacheClear 4.497 0.232 6.222 * checking for unstated dependencies in ‘tests’ ... OK * checking tests ... Running ‘testthat.R’ OK * checking for unstated dependencies in vignettes ... OK * checking package vignettes ... OK * checking running R code from vignettes ... SKIPPED * checking re-building of vignette outputs ... SKIPPED * checking PDF version of manual ... OK * DONE Status: OK
BulkSignalR.Rcheck/00install.out
############################################################################## ############################################################################## ### ### Running command: ### ### /Library/Frameworks/R.framework/Resources/bin/R CMD INSTALL BulkSignalR ### ############################################################################## ############################################################################## * installing to library ‘/Library/Frameworks/R.framework/Versions/4.5-arm64/Resources/library’ * installing *source* package ‘BulkSignalR’ ... ** this is package ‘BulkSignalR’ version ‘1.0.5’ ** using staged installation ** R ** data ** inst ** byte-compile and prepare package for lazy loading ** help *** installing help indices *** copying figures ** building package indices ** installing vignettes ** testing if installed package can be loaded from temporary location ** testing if installed package can be loaded from final location ** testing if installed package keeps a record of temporary installation path * DONE (BulkSignalR)
BulkSignalR.Rcheck/tests/testthat.Rout
R version 4.5.1 Patched (2025-06-14 r88325) -- "Great Square Root" Copyright (C) 2025 The R Foundation for Statistical Computing Platform: aarch64-apple-darwin20 R is free software and comes with ABSOLUTELY NO WARRANTY. You are welcome to redistribute it under certain conditions. Type 'license()' or 'licence()' for distribution details. R is a collaborative project with many contributors. Type 'contributors()' for more information and 'citation()' on how to cite R or R packages in publications. Type 'demo()' for some demos, 'help()' for on-line help, or 'help.start()' for an HTML browser interface to help. Type 'q()' to quit R. > library(testthat) > library(BulkSignalR) Local "resources" are up to date. > test_check("BulkSignalR") [ FAIL 0 | WARN 0 | SKIP 0 | PASS 1 ] > > proc.time() user system elapsed 17.658 0.973 19.445
BulkSignalR.Rcheck/BulkSignalR-Ex.timings
name | user | system | elapsed | |
BSRClusterComp-class | 0.002 | 0.000 | 0.004 | |
BSRClusterComp | 0.390 | 0.033 | 0.427 | |
BSRDataModel-class | 0.064 | 0.004 | 0.071 | |
BSRDataModel | 0.298 | 0.007 | 0.311 | |
BSRDataModelComp-class | 0.005 | 0.000 | 0.006 | |
BSRDataModelComp | 0.347 | 0.008 | 0.358 | |
BSRInference-class | 0.004 | 0.000 | 0.005 | |
BSRInference | 3.243 | 0.124 | 3.420 | |
BSRInferenceComp-class | 0.008 | 0.000 | 0.010 | |
BSRInferenceComp | 1.279 | 0.152 | 1.449 | |
BSRSignature-class | 0.002 | 0.000 | 0.002 | |
BSRSignature | 0.030 | 0.003 | 0.041 | |
BSRSignatureComp-class | 0.004 | 0.001 | 0.004 | |
BSRSignatureComp | 0.015 | 0.002 | 0.018 | |
LRinter | 0.001 | 0.000 | 0.002 | |
LRinterScore | 0.004 | 0.002 | 0.005 | |
LRinterShort | 0.003 | 0.002 | 0.005 | |
addClusterComp | 0.373 | 0.029 | 0.409 | |
alluvialPlot | 0.639 | 0.021 | 0.669 | |
assignCellTypesToInteractions | 0.735 | 0.054 | 0.796 | |
bubblePlotPathwaysLR | 0.513 | 0.014 | 0.536 | |
cacheClear | 4.497 | 0.232 | 6.222 | |
cacheInfo | 0.120 | 0.008 | 0.129 | |
cacheVersion | 0.376 | 0.035 | 0.553 | |
cellTypeFrequency | 0.684 | 0.030 | 0.722 | |
cellularNetwork | 0.606 | 0.034 | 0.645 | |
cellularNetworkTable | 0.621 | 0.034 | 0.666 | |
chordDiagramLR | 1.156 | 0.019 | 1.192 | |
coerce | 0.002 | 0.000 | 0.003 | |
colClusterA | 0 | 0 | 0 | |
colClusterB | 0 | 0 | 0 | |
comparison | 0.000 | 0.001 | 0.000 | |
comparisonName | 0.000 | 0.000 | 0.001 | |
convertToHuman | 0.253 | 0.014 | 0.824 | |
createResources | 0.283 | 0.033 | 0.451 | |
differentialStats | 0.001 | 0.000 | 0.001 | |
findOrthoGenes | 0.165 | 0.004 | 0.305 | |
generateSpatialPlots | 1.844 | 0.070 | 1.993 | |
getLRIntracellNetwork | 2.161 | 0.360 | 2.550 | |
getLRNetwork | 0.031 | 0.003 | 0.034 | |
getPathwayStats | 0.017 | 0.002 | 0.019 | |
getResource | 0.328 | 0.014 | 0.355 | |
inferenceParameters | 0.000 | 0.000 | 0.001 | |
initialOrganism | 0.002 | 0.000 | 0.002 | |
initialOrthologs | 0.001 | 0.000 | 0.002 | |
learnParameters | 2.362 | 0.027 | 2.416 | |
ligands | 0.000 | 0.000 | 0.001 | |
logTransformed | 0.001 | 0.001 | 0.002 | |
maxLigandSpatialCounts | 0.062 | 0.007 | 0.069 | |
mu | 0.001 | 0.001 | 0.000 | |
ncounts | 0.002 | 0.000 | 0.002 | |
normalization | 0.001 | 0.000 | 0.001 | |
parameters | 0.001 | 0.001 | 0.002 | |
pathways | 0.000 | 0.000 | 0.001 | |
receptors | 0 | 0 | 0 | |
reduceToBestPathway | 0.086 | 0.006 | 0.099 | |
reduceToLigand | 0.035 | 0.004 | 0.038 | |
reduceToPathway | 0.096 | 0.006 | 0.102 | |
reduceToReceptor | 0.015 | 0.003 | 0.018 | |
relateToGeneSet | 0.052 | 0.004 | 0.058 | |
removeClusterComp | 0.247 | 0.024 | 0.280 | |
rescoreInference | 0.028 | 0.006 | 0.035 | |
resetLRdb | 0.006 | 0.000 | 0.007 | |
resetNetwork | 0.003 | 0.000 | 0.003 | |
resetPathways | 0.178 | 0.011 | 0.197 | |
resetToInitialOrganism | 0.081 | 0.006 | 0.103 | |
scoreLRGeneSignatures | 1.608 | 0.043 | 1.732 | |
scoreSignatures | 0.505 | 0.014 | 0.534 | |
separatedLRPlot | 1.812 | 0.043 | 1.882 | |
signatureHeatmaps | 0.033 | 0.005 | 0.038 | |
simpleHeatmap | 8.356 | 0.444 | 8.957 | |
smoothSpatialCounts | 0.055 | 0.011 | 0.065 | |
sourceComparisonName | 0 | 0 | 0 | |
spatialAssociation | 0.068 | 0.017 | 0.087 | |
spatialAssociationPlot | 4.165 | 0.073 | 4.468 | |
spatialDiversityPlot | 1.022 | 0.034 | 1.127 | |
spatialIndexPlot | 1.513 | 0.042 | 1.648 | |
spatialPlot | 1.227 | 0.031 | 1.269 | |
summarizedCellularNetwork | 0.636 | 0.031 | 0.671 | |
tgCorr | 0 | 0 | 0 | |
tgExpr | 0 | 0 | 0 | |
tgGenes | 0.000 | 0.001 | 0.000 | |
tgLogFC | 0 | 0 | 0 | |
tgPval | 0.000 | 0.000 | 0.001 | |
updateInference | 0.110 | 0.011 | 0.121 | |