Back to Multiple platform build/check report for BioC 3.22:   simplified   long
A[B]CDEFGHIJKLMNOPQRSTUVWXYZ

This page was generated on 2025-11-07 11:59 -0500 (Fri, 07 Nov 2025).

HostnameOSArch (*)R versionInstalled pkgs
nebbiolo2Linux (Ubuntu 24.04.3 LTS)x86_644.5.1 Patched (2025-08-23 r88802) -- "Great Square Root" 4902
kjohnson3macOS 13.7.7 Venturaarm644.5.1 Patched (2025-09-10 r88807) -- "Great Square Root" 4638
Click on any hostname to see more info about the system (e.g. compilers)      (*) as reported by 'uname -p', except on Windows and Mac OS X

All results for package BiocFileCache


To the developers/maintainers of the BiocFileCache package:
- Allow up to 24 hours (and sometimes 48 hours) for your latest push to git@git.bioconductor.org:packages/BiocFileCache.git to reflect on this report. See Troubleshooting Build Report for more information.
- Use the following Renviron settings to reproduce errors and warnings.
- If 'R CMD check' started to fail recently on the Linux builder(s) over a missing dependency, add the missing dependency to 'Suggests:' in your DESCRIPTION file. See Renviron.bioc for more information.

raw results

Package 189/2361HostnameOS / ArchINSTALLBUILDCHECKBUILD BIN
BiocFileCache 3.0.0  (landing page)
Lori Shepherd
Snapshot Date: 2025-11-06 13:45 -0500 (Thu, 06 Nov 2025)
git_url: https://git.bioconductor.org/packages/BiocFileCache
git_branch: RELEASE_3_22
git_last_commit: 81fd6e0
git_last_commit_date: 2025-10-29 10:37:29 -0500 (Wed, 29 Oct 2025)
nebbiolo2Linux (Ubuntu 24.04.3 LTS) / x86_64  OK    ERROR  skipped
kjohnson3macOS 13.7.7 Ventura / arm64  OK    OK    OK    OK  UNNEEDED, same version is already published



Results for Bioconductor software packages that depend directly on package BiocFileCache

QUICK STATSOS / ArchINSTALLBUILDCHECKBUILD BIN
nebbiolo2Linux (Ubuntu 24.04.3 LTS) / x86_64
0079
0574
05762
kjohnson3macOS 13.7.7 Ventura / arm64
0078
1770
04759
0070
Package 1/79HostnameOS / ArchINSTALLBUILDCHECKBUILD BIN
AlphaMissenseR 1.6.0  (landing page)
Martin Morgan
git_last_commit: 869abf7
git_last_commit_date: 2025-10-29 11:27:01 -0500
nebbiolo2Linux (Ubuntu 24.04.3 LTS) / x86_64  OK    OK    ERROR  
kjohnson3macOS 13.7.7 Ventura / arm64  OK    OK    OK    OK  UNNEEDED, same version is already published
Package 2/79HostnameOS / ArchINSTALLBUILDCHECKBUILD BIN
AMARETTO 1.26.0  (landing page)
Olivier Gevaert
git_last_commit: aa11071
git_last_commit_date: 2025-10-29 10:50:47 -0500
nebbiolo2Linux (Ubuntu 24.04.3 LTS) / x86_64  OK    OK    WARNINGS  UNNEEDED, same version is already published
kjohnson3macOS 13.7.7 Ventura / arm64  OK    OK    WARNINGS    OK  UNNEEDED, same version is already published
Package 3/79HostnameOS / ArchINSTALLBUILDCHECKBUILD BIN
AnnotationHub 4.0.0  (landing page)
Bioconductor Package Maintainer
git_last_commit: e27e804
git_last_commit_date: 2025-10-29 10:14:23 -0500
nebbiolo2Linux (Ubuntu 24.04.3 LTS) / x86_64  OK    OK    OK  UNNEEDED, same version is already published
kjohnson3macOS 13.7.7 Ventura / arm64  OK    OK    OK    OK  UNNEEDED, same version is already published
Package 4/79HostnameOS / ArchINSTALLBUILDCHECKBUILD BIN
atSNP 1.26.0  (landing page)
Sunyoung Shin
git_last_commit: fab0a78
git_last_commit_date: 2025-10-29 10:50:02 -0500
nebbiolo2Linux (Ubuntu 24.04.3 LTS) / x86_64  OK    OK    OK  UNNEEDED, same version is already published
kjohnson3macOS 13.7.7 Ventura / arm64  OK    OK    OK    OK  UNNEEDED, same version is already published
Package 5/79HostnameOS / ArchINSTALLBUILDCHECKBUILD BIN
autonomics 1.18.0  (landing page)
Aditya Bhagwat
git_last_commit: c22fce2
git_last_commit_date: 2025-10-29 11:06:51 -0500
nebbiolo2Linux (Ubuntu 24.04.3 LTS) / x86_64  OK    OK    OK  UNNEEDED, same version is already published
kjohnson3macOS 13.7.7 Ventura / arm64  OK    OK    OK    OK  UNNEEDED, same version is already published
Package 6/79HostnameOS / ArchINSTALLBUILDCHECKBUILD BIN
BayesSpace 1.20.0  (landing page)
Senbai Kang
git_last_commit: b8f514b
git_last_commit_date: 2025-10-29 11:03:05 -0500
nebbiolo2Linux (Ubuntu 24.04.3 LTS) / x86_64  OK    OK    OK  UNNEEDED, same version is already published
kjohnson3macOS 13.7.7 Ventura / arm64  OK    OK    OK    OK  UNNEEDED, same version is already published
Package 7/79HostnameOS / ArchINSTALLBUILDCHECKBUILD BIN
bedbaser 1.2.0  (landing page)
Andres Wokaty
git_last_commit: 4ef0719
git_last_commit_date: 2025-10-29 11:34:32 -0500
nebbiolo2Linux (Ubuntu 24.04.3 LTS) / x86_64  OK    OK    OK  UNNEEDED, same version is already published
kjohnson3macOS 13.7.7 Ventura / arm64  OK    OK    OK    OK  UNNEEDED, same version is already published
Package 8/79HostnameOS / ArchINSTALLBUILDCHECKBUILD BIN
BiocCheck 1.46.0  (landing page)
Marcel Ramos
git_last_commit: 79a3619
git_last_commit_date: 2025-10-29 19:20:08 -0500
nebbiolo2Linux (Ubuntu 24.04.3 LTS) / x86_64  OK    OK    ERROR  
kjohnson3macOS 13.7.7 Ventura / arm64  OK    OK    ERROR    OK  
Package 9/79HostnameOS / ArchINSTALLBUILDCHECKBUILD BIN
BiocHail 1.10.0  (landing page)
Vincent Carey
git_last_commit: dc7f0b8
git_last_commit_date: 2025-10-29 11:23:05 -0500
nebbiolo2Linux (Ubuntu 24.04.3 LTS) / x86_64  OK    OK    OK  UNNEEDED, same version is already published
kjohnson3macOS 13.7.7 Ventura / arm64... NOT SUPPORTED ...
Package 10/79HostnameOS / ArchINSTALLBUILDCHECKBUILD BIN
BiocPkgTools 1.28.0  (landing page)
Sean Davis
git_last_commit: c37ad25
git_last_commit_date: 2025-10-29 10:47:30 -0500
nebbiolo2Linux (Ubuntu 24.04.3 LTS) / x86_64  OK    ERROR  skipped
kjohnson3macOS 13.7.7 Ventura / arm64  OK    ERROR  skippedskipped
Package 11/79HostnameOS / ArchINSTALLBUILDCHECKBUILD BIN
biomaRt 2.66.0  (landing page)
Hugo Gruson
git_last_commit: 6757ed1
git_last_commit_date: 2025-10-29 09:56:01 -0500
nebbiolo2Linux (Ubuntu 24.04.3 LTS) / x86_64  OK    OK    ERROR  
kjohnson3macOS 13.7.7 Ventura / arm64  OK    OK    OK    OK  UNNEEDED, same version is already published
Package 12/79HostnameOS / ArchINSTALLBUILDCHECKBUILD BIN
brendaDb 1.24.0  (landing page)
Yi Zhou
git_last_commit: 2520fae
git_last_commit_date: 2025-10-29 10:53:47 -0500
nebbiolo2Linux (Ubuntu 24.04.3 LTS) / x86_64  OK    OK    OK  UNNEEDED, same version is already published
kjohnson3macOS 13.7.7 Ventura / arm64  OK    OK    OK    OK  UNNEEDED, same version is already published
Package 13/79HostnameOS / ArchINSTALLBUILDCHECKBUILD BIN
bugsigdbr 1.16.0  (landing page)
Ludwig Geistlinger
git_last_commit: fb143e0
git_last_commit_date: 2025-10-29 11:11:42 -0500
nebbiolo2Linux (Ubuntu 24.04.3 LTS) / x86_64  OK    OK    OK  UNNEEDED, same version is already published
kjohnson3macOS 13.7.7 Ventura / arm64  OK    OK    ERROR    OK  
Package 14/79HostnameOS / ArchINSTALLBUILDCHECKBUILD BIN
BulkSignalR 1.2.0  (landing page)
Jean-Philippe Villemin
git_last_commit: 4e95251
git_last_commit_date: 2025-10-29 11:33:26 -0500
nebbiolo2Linux (Ubuntu 24.04.3 LTS) / x86_64  OK    OK    OK  UNNEEDED, same version is already published
kjohnson3macOS 13.7.7 Ventura / arm64  OK    OK    OK    OK  UNNEEDED, same version is already published
Package 15/79HostnameOS / ArchINSTALLBUILDCHECKBUILD BIN
cbaf 1.32.0  (landing page)
Arman Shahrisa
git_last_commit: b77921d
git_last_commit_date: 2025-10-29 10:41:05 -0500
nebbiolo2Linux (Ubuntu 24.04.3 LTS) / x86_64  OK    OK    OK  UNNEEDED, same version is already published
kjohnson3macOS 13.7.7 Ventura / arm64  OK    OK    OK    OK  UNNEEDED, same version is already published
Package 16/79HostnameOS / ArchINSTALLBUILDCHECKBUILD BIN
cBioPortalData 2.22.0  (landing page)
Marcel Ramos
git_last_commit: 64fff17
git_last_commit_date: 2025-10-29 10:59:37 -0500
nebbiolo2Linux (Ubuntu 24.04.3 LTS) / x86_64  OK    ERROR  skipped
kjohnson3macOS 13.7.7 Ventura / arm64  OK    ERROR  skippedskipped
Package 17/79HostnameOS / ArchINSTALLBUILDCHECKBUILD BIN
CBNplot 1.10.0  (landing page)
Noriaki Sato
git_last_commit: 89ee1b1
git_last_commit_date: 2025-10-29 11:22:40 -0500
nebbiolo2Linux (Ubuntu 24.04.3 LTS) / x86_64  OK    OK    OK  UNNEEDED, same version is already published
kjohnson3macOS 13.7.7 Ventura / arm64  OK    OK    OK    OK  UNNEEDED, same version is already published
Package 18/79HostnameOS / ArchINSTALLBUILDCHECKBUILD BIN
CellBench 1.26.0  (landing page)
Shian Su
git_last_commit: 452edea
git_last_commit_date: 2025-10-29 10:50:23 -0500
nebbiolo2Linux (Ubuntu 24.04.3 LTS) / x86_64  OK    OK    OK  UNNEEDED, same version is already published
kjohnson3macOS 13.7.7 Ventura / arm64  OK    OK    OK    OK  UNNEEDED, same version is already published
Package 19/79HostnameOS / ArchINSTALLBUILDCHECKBUILD BIN
CTDquerier 2.18.0  (landing page)
Xavier Escribà-Montagut
git_last_commit: 096f3dd
git_last_commit_date: 2025-10-29 11:06:54 -0500
nebbiolo2Linux (Ubuntu 24.04.3 LTS) / x86_64  OK    OK    WARNINGS  UNNEEDED, same version is already published
kjohnson3macOS 13.7.7 Ventura / arm64  OK    OK    WARNINGS    OK  UNNEEDED, same version is already published
Package 20/79HostnameOS / ArchINSTALLBUILDCHECKBUILD BIN
customCMPdb 1.20.0  (landing page)
Yuzhu Duan
git_last_commit: b3dd69a
git_last_commit_date: 2025-10-29 11:03:08 -0500
nebbiolo2Linux (Ubuntu 24.04.3 LTS) / x86_64  OK    OK    OK  UNNEEDED, same version is already published
kjohnson3macOS 13.7.7 Ventura / arm64  OK    OK    OK    OK  UNNEEDED, same version is already published
Package 21/79HostnameOS / ArchINSTALLBUILDCHECKBUILD BIN
CytoPipeline 1.10.0  (landing page)
Philippe Hauchamps
git_last_commit: 4cb0101
git_last_commit_date: 2025-10-29 11:20:49 -0500
nebbiolo2Linux (Ubuntu 24.04.3 LTS) / x86_64  OK    OK    OK  UNNEEDED, same version is already published
kjohnson3macOS 13.7.7 Ventura / arm64  OK    OK    OK    OK  UNNEEDED, same version is already published
Package 22/79HostnameOS / ArchINSTALLBUILDCHECKBUILD BIN
DeconvoBuddies 1.2.0  (landing page)
Louise Huuki-Myers
git_last_commit: 1c038d1
git_last_commit_date: 2025-10-29 11:35:32 -0500
nebbiolo2Linux (Ubuntu 24.04.3 LTS) / x86_64  OK    OK    OK  UNNEEDED, same version is already published
kjohnson3macOS 13.7.7 Ventura / arm64  OK    OK    OK    OK  UNNEEDED, same version is already published
Package 23/79HostnameOS / ArchINSTALLBUILDCHECKBUILD BIN
drugTargetInteractions 1.18.0  (landing page)
Thomas Girke
git_last_commit: 06ba39c
git_last_commit_date: 2025-10-29 11:07:31 -0500
nebbiolo2Linux (Ubuntu 24.04.3 LTS) / x86_64  OK    OK    OK  UNNEEDED, same version is already published
kjohnson3macOS 13.7.7 Ventura / arm64  OK    OK    OK    OK  UNNEEDED, same version is already published
Package 24/79HostnameOS / ArchINSTALLBUILDCHECKBUILD BIN
easylift 1.8.0  (landing page)
Abdullah Al Nahid
git_last_commit: 9d97c21
git_last_commit_date: 2025-10-29 11:25:08 -0500
nebbiolo2Linux (Ubuntu 24.04.3 LTS) / x86_64  OK    OK    OK  UNNEEDED, same version is already published
kjohnson3macOS 13.7.7 Ventura / arm64  OK    OK    OK    OK  UNNEEDED, same version is already published
Package 25/79HostnameOS / ArchINSTALLBUILDCHECKBUILD BIN
easyRNASeq 2.46.0  (landing page)
Nicolas Delhomme
git_last_commit: e268573
git_last_commit_date: 2025-10-29 10:10:00 -0500
nebbiolo2Linux (Ubuntu 24.04.3 LTS) / x86_64  OK    OK    WARNINGS  UNNEEDED, same version is already published
kjohnson3macOS 13.7.7 Ventura / arm64  OK    OK    WARNINGS    OK  UNNEEDED, same version is already published
Package 26/79HostnameOS / ArchINSTALLBUILDCHECKBUILD BIN
enhancerHomologSearch 1.16.0  (landing page)
Jianhong Ou
git_last_commit: a7e3e8d
git_last_commit_date: 2025-10-29 11:11:19 -0500
nebbiolo2Linux (Ubuntu 24.04.3 LTS) / x86_64  OK    OK    OK  UNNEEDED, same version is already published
kjohnson3macOS 13.7.7 Ventura / arm64  OK    OK    OK    OK  UNNEEDED, same version is already published
Package 27/79HostnameOS / ArchINSTALLBUILDCHECKBUILD BIN
EnMCB 1.22.0  (landing page)
Xin Yu
git_last_commit: d87a235
git_last_commit_date: 2025-10-29 10:56:09 -0500
nebbiolo2Linux (Ubuntu 24.04.3 LTS) / x86_64  OK    OK    OK  UNNEEDED, same version is already published
kjohnson3macOS 13.7.7 Ventura / arm64  OK    OK    OK    OK  UNNEEDED, same version is already published
Package 28/79HostnameOS / ArchINSTALLBUILDCHECKBUILD BIN
EnrichmentBrowser 2.40.0  (landing page)
Ludwig Geistlinger
git_last_commit: 2118f0c
git_last_commit_date: 2025-10-29 10:21:30 -0500
nebbiolo2Linux (Ubuntu 24.04.3 LTS) / x86_64  OK    OK    OK  UNNEEDED, same version is already published
kjohnson3macOS 13.7.7 Ventura / arm64  OK    OK    OK    OK  UNNEEDED, same version is already published
Package 29/79HostnameOS / ArchINSTALLBUILDCHECKBUILD BIN
EpiTxDb 1.22.0  (landing page)
Felix G.M. Ernst
git_last_commit: 54a3d69
git_last_commit_date: 2025-10-29 10:57:35 -0500
nebbiolo2Linux (Ubuntu 24.04.3 LTS) / x86_64  OK    OK    OK  UNNEEDED, same version is already published
kjohnson3macOS 13.7.7 Ventura / arm64  OK    OK    OK    OK  UNNEEDED, same version is already published
Package 30/79HostnameOS / ArchINSTALLBUILDCHECKBUILD BIN
ExperimentHub 3.0.0  (landing page)
Bioconductor Package Maintainer
git_last_commit: b1013ec
git_last_commit_date: 2025-10-29 10:30:19 -0500
nebbiolo2Linux (Ubuntu 24.04.3 LTS) / x86_64  OK    OK    WARNINGS  UNNEEDED, same version is already published
kjohnson3macOS 13.7.7 Ventura / arm64  OK    OK    WARNINGS    OK  UNNEEDED, same version is already published
Package 31/79HostnameOS / ArchINSTALLBUILDCHECKBUILD BIN
fenr 1.8.0  (landing page)
Marek Gierlinski
git_last_commit: b9086bc
git_last_commit_date: 2025-10-29 11:25:52 -0500
nebbiolo2Linux (Ubuntu 24.04.3 LTS) / x86_64  OK    OK    OK  UNNEEDED, same version is already published
kjohnson3macOS 13.7.7 Ventura / arm64  OK    OK    OK    OK  UNNEEDED, same version is already published
Package 32/79HostnameOS / ArchINSTALLBUILDCHECKBUILD BIN
fgga 1.18.0  (landing page)
Flavio Spetale
git_last_commit: 2621333
git_last_commit_date: 2025-10-29 11:09:03 -0500
nebbiolo2Linux (Ubuntu 24.04.3 LTS) / x86_64  OK    OK    OK  UNNEEDED, same version is already published
kjohnson3macOS 13.7.7 Ventura / arm64  OK    OK    OK    OK  UNNEEDED, same version is already published
Package 33/79HostnameOS / ArchINSTALLBUILDCHECKBUILD BIN
GeDi 1.6.0  (landing page)
Annekathrin Nedwed
git_last_commit: 308bc6a
git_last_commit_date: 2025-10-29 11:29:41 -0500
nebbiolo2Linux (Ubuntu 24.04.3 LTS) / x86_64  OK    OK    ERROR  
kjohnson3macOS 13.7.7 Ventura / arm64  OK    OK    ERROR    OK  
Package 34/79HostnameOS / ArchINSTALLBUILDCHECKBUILD BIN
GenomicScores 2.22.0  (landing page)
Robert Castelo
git_last_commit: 8f6570c
git_last_commit_date: 2025-10-29 10:38:07 -0500
nebbiolo2Linux (Ubuntu 24.04.3 LTS) / x86_64  OK    OK    OK  UNNEEDED, same version is already published
kjohnson3macOS 13.7.7 Ventura / arm64  OK    OK    OK    OK  UNNEEDED, same version is already published
Package 35/79HostnameOS / ArchINSTALLBUILDCHECKBUILD BIN
GenomicSuperSignature 1.18.0  (landing page)
Sehyun Oh
git_last_commit: e2b134e
git_last_commit_date: 2025-10-29 11:09:57 -0500
nebbiolo2Linux (Ubuntu 24.04.3 LTS) / x86_64  OK    OK    WARNINGS  UNNEEDED, same version is already published
kjohnson3macOS 13.7.7 Ventura / arm64  OK    OK    WARNINGS    OK  UNNEEDED, same version is already published
Package 36/79HostnameOS / ArchINSTALLBUILDCHECKBUILD BIN
ggkegg 1.8.0  (landing page)
Noriaki Sato
git_last_commit: c13dd11
git_last_commit_date: 2025-10-29 11:24:48 -0500
nebbiolo2Linux (Ubuntu 24.04.3 LTS) / x86_64  OK    OK    OK  UNNEEDED, same version is already published
kjohnson3macOS 13.7.7 Ventura / arm64  OK    OK    OK    OK  UNNEEDED, same version is already published
Package 37/79HostnameOS / ArchINSTALLBUILDCHECKBUILD BIN
GSEABenchmarkeR 1.30.0  (landing page)
Ludwig Geistlinger
git_last_commit: 7ab14b8
git_last_commit_date: 2025-10-29 10:44:06 -0500
nebbiolo2Linux (Ubuntu 24.04.3 LTS) / x86_64  OK    OK    OK  UNNEEDED, same version is already published
kjohnson3macOS 13.7.7 Ventura / arm64  OK    OK    OK    OK  UNNEEDED, same version is already published
Package 38/79HostnameOS / ArchINSTALLBUILDCHECKBUILD BIN
gwascat 2.42.0  (landing page)
VJ Carey
git_last_commit: 5ae3745
git_last_commit_date: 2025-10-29 10:10:23 -0500
nebbiolo2Linux (Ubuntu 24.04.3 LTS) / x86_64  OK    OK    OK  UNNEEDED, same version is already published
kjohnson3macOS 13.7.7 Ventura / arm64  OK    OK    OK    OK  UNNEEDED, same version is already published
Package 39/79HostnameOS / ArchINSTALLBUILDCHECKBUILD BIN
hca 1.18.0  (landing page)
Martin Morgan
git_last_commit: 6816d5d
git_last_commit_date: 2025-10-29 11:06:33 -0500
nebbiolo2Linux (Ubuntu 24.04.3 LTS) / x86_64  OK    ERROR  skipped
kjohnson3macOS 13.7.7 Ventura / arm64  OK    ERROR  skippedskipped
Package 40/79HostnameOS / ArchINSTALLBUILDCHECKBUILD BIN
iSEEindex 1.8.0  (landing page)
Kevin Rue-Albrecht
git_last_commit: 2160c20
git_last_commit_date: 2025-10-29 11:23:59 -0500
nebbiolo2Linux (Ubuntu 24.04.3 LTS) / x86_64  OK    OK    OK  UNNEEDED, same version is already published
kjohnson3macOS 13.7.7 Ventura / arm64  OK    OK    OK    OK  UNNEEDED, same version is already published
Package 41/79HostnameOS / ArchINSTALLBUILDCHECKBUILD BIN
MBQN 2.22.0  (landing page)
Eva Brombacher
git_last_commit: a7445d7
git_last_commit_date: 2025-10-29 10:55:13 -0500
nebbiolo2Linux (Ubuntu 24.04.3 LTS) / x86_64  OK    OK    OK  UNNEEDED, same version is already published
kjohnson3macOS 13.7.7 Ventura / arm64  OK    OK    OK    OK  UNNEEDED, same version is already published
Package 42/79HostnameOS / ArchINSTALLBUILDCHECKBUILD BIN
MIRit 1.6.0  (landing page)
Jacopo Ronchi
git_last_commit: 2274523
git_last_commit_date: 2025-10-29 11:27:39 -0500
nebbiolo2Linux (Ubuntu 24.04.3 LTS) / x86_64  OK    OK    OK  UNNEEDED, same version is already published
kjohnson3macOS 13.7.7 Ventura / arm64  OK    OK    OK    OK  UNNEEDED, same version is already published
Package 43/79HostnameOS / ArchINSTALLBUILDCHECKBUILD BIN
motifbreakR 2.24.0  (landing page)
Simon Gert Coetzee
git_last_commit: 79ca231
git_last_commit_date: 2025-10-29 10:27:43 -0500
nebbiolo2Linux (Ubuntu 24.04.3 LTS) / x86_64  OK    OK    WARNINGS  UNNEEDED, same version is already published
kjohnson3macOS 13.7.7 Ventura / arm64  OK    OK    WARNINGS    OK  UNNEEDED, same version is already published
Package 44/79HostnameOS / ArchINSTALLBUILDCHECKBUILD BIN
MotifPeeker 1.2.0  (landing page)
Hiranyamaya Dash
git_last_commit: aee3e06
git_last_commit_date: 2025-10-29 11:33:15 -0500
nebbiolo2Linux (Ubuntu 24.04.3 LTS) / x86_64  OK    OK    OK  UNNEEDED, same version is already published
kjohnson3macOS 13.7.7 Ventura / arm64  OK    OK    OK    OK  UNNEEDED, same version is already published
Package 45/79HostnameOS / ArchINSTALLBUILDCHECKBUILD BIN
MsBackendMetaboLights 1.4.2  (landing page)
Johannes Rainer
git_last_commit: a44eba8
git_last_commit_date: 2025-11-04 02:51:05 -0500
nebbiolo2Linux (Ubuntu 24.04.3 LTS) / x86_64  OK    OK    OK  UNNEEDED, same version is already published
kjohnson3macOS 13.7.7 Ventura / arm64  OK    OK    OK    OK  UNNEEDED, same version is already published
Package 46/79HostnameOS / ArchINSTALLBUILDCHECKBUILD BIN
OmicsMLRepoR 1.4.0  (landing page)
Sehyun Oh
git_last_commit: c5f091e
git_last_commit_date: 2025-10-29 11:32:50 -0500
nebbiolo2Linux (Ubuntu 24.04.3 LTS) / x86_64  OK    ERROR  skipped
kjohnson3macOS 13.7.7 Ventura / arm64  OK    ERROR  skippedskipped
Package 47/79HostnameOS / ArchINSTALLBUILDCHECKBUILD BIN
ontoProc 2.4.0  (landing page)
Vincent Carey
git_last_commit: f2c1b3f
git_last_commit_date: 2025-10-29 19:20:08 -0500
nebbiolo2Linux (Ubuntu 24.04.3 LTS) / x86_64  OK    OK    OK  UNNEEDED, same version is already published
kjohnson3macOS 13.7.7 Ventura / arm64  OK    OK    OK    OK  UNNEEDED, same version is already published
Package 48/79HostnameOS / ArchINSTALLBUILDCHECKBUILD BIN
ORFik 1.30.0  (landing page)
Haakon Tjeldnes
git_last_commit: b860267
git_last_commit_date: 2025-10-29 10:45:22 -0500
nebbiolo2Linux (Ubuntu 24.04.3 LTS) / x86_64  OK    OK    OK  UNNEEDED, same version is already published
kjohnson3macOS 13.7.7 Ventura / arm64  OK    OK    OK    OK  UNNEEDED, same version is already published
Package 49/79HostnameOS / ArchINSTALLBUILDCHECKBUILD BIN
Organism.dplyr 1.38.0  (landing page)
Martin Morgan
git_last_commit: d022acf
git_last_commit_date: 2025-10-29 10:37:10 -0500
nebbiolo2Linux (Ubuntu 24.04.3 LTS) / x86_64  OK    OK    ERROR  
kjohnson3macOS 13.7.7 Ventura / arm64  OK    OK    ERROR    OK  
Package 50/79HostnameOS / ArchINSTALLBUILDCHECKBUILD BIN
OSTA.data 1.2.0  (landing page)
Yixing E. Dong
git_last_commit: 56e57ab
git_last_commit_date: 2025-10-29 11:34:45 -0500
nebbiolo2Linux (Ubuntu 24.04.3 LTS) / x86_64  OK    ERROR  skipped
kjohnson3macOS 13.7.7 Ventura / arm64  OK    ERROR  skippedskipped
Package 51/79HostnameOS / ArchINSTALLBUILDCHECKBUILD BIN
PhIPData 1.18.0  (landing page)
Athena Chen
git_last_commit: 2d43e86
git_last_commit_date: 2025-10-29 11:06:46 -0500
nebbiolo2Linux (Ubuntu 24.04.3 LTS) / x86_64  OK    OK    OK  UNNEEDED, same version is already published
kjohnson3macOS 13.7.7 Ventura / arm64  OK    OK    OK    OK  UNNEEDED, same version is already published
Package 52/79HostnameOS / ArchINSTALLBUILDCHECKBUILD BIN
PMScanR 1.0.0  (landing page)
Jan Pawel Jastrzebski
git_last_commit: b9f2642
git_last_commit_date: 2025-10-29 11:38:20 -0500
nebbiolo2Linux (Ubuntu 24.04.3 LTS) / x86_64  OK    OK    OK  UNNEEDED, same version is already published
kjohnson3macOS 13.7.7 Ventura / arm64  OK    OK    OK    OK  UNNEEDED, same version is already published
Package 53/79HostnameOS / ArchINSTALLBUILDCHECKBUILD BIN
psichomics 1.36.0  (landing page)
Nuno Saraiva-Agostinho
git_last_commit: 7123c18
git_last_commit_date: 2025-10-29 10:35:05 -0500
nebbiolo2Linux (Ubuntu 24.04.3 LTS) / x86_64  OK    OK    OK  UNNEEDED, same version is already published
kjohnson3macOS 13.7.7 Ventura / arm64  OK    OK    OK    OK  UNNEEDED, same version is already published
Package 54/79HostnameOS / ArchINSTALLBUILDCHECKBUILD BIN
rBLAST 1.6.0  (landing page)
Michael Hahsler
git_last_commit: 392b3db
git_last_commit_date: 2025-10-29 11:29:56 -0500
nebbiolo2Linux (Ubuntu 24.04.3 LTS) / x86_64  OK    OK    OK  UNNEEDED, same version is already published
kjohnson3macOS 13.7.7 Ventura / arm64  OK    OK    OK    OK  UNNEEDED, same version is already published
Package 55/79HostnameOS / ArchINSTALLBUILDCHECKBUILD BIN
RcwlPipelines 1.26.0  (landing page)
Qiang Hu
git_last_commit: f76b183
git_last_commit_date: 2025-10-29 10:50:42 -0500
nebbiolo2Linux (Ubuntu 24.04.3 LTS) / x86_64  OK    OK    OK  UNNEEDED, same version is already published
kjohnson3macOS 13.7.7 Ventura / arm64  OK    OK    OK    OK  UNNEEDED, same version is already published
Package 56/79HostnameOS / ArchINSTALLBUILDCHECKBUILD BIN
recount3 1.20.0  (landing page)
Leonardo Collado-Torres
git_last_commit: 33bfdcd
git_last_commit_date: 2025-10-29 11:03:22 -0500
nebbiolo2Linux (Ubuntu 24.04.3 LTS) / x86_64  OK    OK    OK  UNNEEDED, same version is already published
kjohnson3macOS 13.7.7 Ventura / arm64  OK    OK    OK    OK  UNNEEDED, same version is already published
Package 57/79HostnameOS / ArchINSTALLBUILDCHECKBUILD BIN
recountmethylation 1.20.0  (landing page)
Sean K Maden
git_last_commit: 3d96dab
git_last_commit_date: 2025-10-29 11:01:55 -0500
nebbiolo2Linux (Ubuntu 24.04.3 LTS) / x86_64  OK    OK    OK  UNNEEDED, same version is already published
kjohnson3macOS 13.7.7 Ventura / arm64  OK    OK    OK    OK  UNNEEDED, same version is already published
Package 58/79HostnameOS / ArchINSTALLBUILDCHECKBUILD BIN
regutools 1.22.0  (landing page)
Joselyn Chavez
git_last_commit: f94aecc
git_last_commit_date: 2025-10-29 10:59:10 -0500
nebbiolo2Linux (Ubuntu 24.04.3 LTS) / x86_64  OK    OK    OK  UNNEEDED, same version is already published
kjohnson3macOS 13.7.7 Ventura / arm64  OK    OK    OK    OK  UNNEEDED, same version is already published
Package 59/79HostnameOS / ArchINSTALLBUILDCHECKBUILD BIN
ReUseData 1.10.0  (landing page)
Qian Liu
git_last_commit: 2d4066b
git_last_commit_date: 2025-10-29 11:20:44 -0500
nebbiolo2Linux (Ubuntu 24.04.3 LTS) / x86_64  OK    OK    OK  UNNEEDED, same version is already published
kjohnson3macOS 13.7.7 Ventura / arm64  OK    ERROR  skippedskipped
Package 60/79HostnameOS / ArchINSTALLBUILDCHECKBUILD BIN
RiboDiPA 1.18.0  (landing page)
Ji-Ping Wang
git_last_commit: 44db22f
git_last_commit_date: 2025-10-29 11:05:49 -0500
nebbiolo2Linux (Ubuntu 24.04.3 LTS) / x86_64  OK    OK    OK  UNNEEDED, same version is already published
kjohnson3macOS 13.7.7 Ventura / arm64  OK    OK    OK    OK  UNNEEDED, same version is already published
Package 61/79HostnameOS / ArchINSTALLBUILDCHECKBUILD BIN
rpx 2.18.0  (landing page)
Laurent Gatto
git_last_commit: 274a0b2
git_last_commit_date: 2025-10-29 10:18:32 -0500
nebbiolo2Linux (Ubuntu 24.04.3 LTS) / x86_64  OK    OK    OK  UNNEEDED, same version is already published
kjohnson3macOS 13.7.7 Ventura / arm64  OK    OK    OK    OK  UNNEEDED, same version is already published
Package 62/79HostnameOS / ArchINSTALLBUILDCHECKBUILD BIN
scviR 1.10.0  (landing page)
Vincent Carey
git_last_commit: 76c9278
git_last_commit_date: 2025-10-29 11:21:42 -0500
nebbiolo2Linux (Ubuntu 24.04.3 LTS) / x86_64  OK    OK    OK  UNNEEDED, same version is already published
kjohnson3macOS 13.7.7 Ventura / arm64  OK    TIMEOUT  skippedskipped
Package 63/79HostnameOS / ArchINSTALLBUILDCHECKBUILD BIN
sesame 1.28.0  (landing page)
Wanding Zhou
git_last_commit: f0f05cb
git_last_commit_date: 2025-10-29 10:46:05 -0500
nebbiolo2Linux (Ubuntu 24.04.3 LTS) / x86_64  OK    OK    OK  UNNEEDED, same version is already published
kjohnson3macOS 13.7.7 Ventura / arm64  OK    OK    OK    OK  UNNEEDED, same version is already published
Package 64/79HostnameOS / ArchINSTALLBUILDCHECKBUILD BIN
signeR 2.12.0  (landing page)
Renan Valieris
git_last_commit: 7b4a6ab
git_last_commit_date: 2025-10-29 10:34:16 -0500
nebbiolo2Linux (Ubuntu 24.04.3 LTS) / x86_64  OK    OK    OK  UNNEEDED, same version is already published
kjohnson3macOS 13.7.7 Ventura / arm64  OK    OK    OK    OK  UNNEEDED, same version is already published
Package 65/79HostnameOS / ArchINSTALLBUILDCHECKBUILD BIN
spacexr 1.2.0  (landing page)
Gabriel Grajeda
git_last_commit: b6d81f6
git_last_commit_date: 2025-10-29 11:35:40 -0500
nebbiolo2Linux (Ubuntu 24.04.3 LTS) / x86_64  OK    OK    OK  UNNEEDED, same version is already published
kjohnson3macOS 13.7.7 Ventura / arm64  OK    OK    OK    OK  UNNEEDED, same version is already published
Package 66/79HostnameOS / ArchINSTALLBUILDCHECKBUILD BIN
SpatialExperiment 1.20.0  (landing page)
Dario Righelli
git_last_commit: dfdda19
git_last_commit_date: 2025-10-29 11:00:55 -0500
nebbiolo2Linux (Ubuntu 24.04.3 LTS) / x86_64  OK    OK    OK  UNNEEDED, same version is already published
kjohnson3macOS 13.7.7 Ventura / arm64  OK    OK    OK    OK  UNNEEDED, same version is already published
Package 67/79HostnameOS / ArchINSTALLBUILDCHECKBUILD BIN
SpatialOmicsOverlay 1.10.0  (landing page)
Maddy Griswold
git_last_commit: edcd7be
git_last_commit_date: 2025-10-29 11:22:27 -0500
nebbiolo2Linux (Ubuntu 24.04.3 LTS) / x86_64  OK    OK    OK  UNNEEDED, same version is already published
kjohnson3macOS 13.7.7 Ventura / arm64  OK    OK    OK    OK  UNNEEDED, same version is already published
Package 68/79HostnameOS / ArchINSTALLBUILDCHECKBUILD BIN
SpliceWiz 1.12.0  (landing page)
Alex Chit Hei Wong
git_last_commit: 1767347
git_last_commit_date: 2025-10-29 11:17:35 -0500
nebbiolo2Linux (Ubuntu 24.04.3 LTS) / x86_64  OK    OK    WARNINGS  UNNEEDED, same version is already published
kjohnson3macOS 13.7.7 Ventura / arm64  OK    OK    WARNINGS    OK  UNNEEDED, same version is already published
Package 69/79HostnameOS / ArchINSTALLBUILDCHECKBUILD BIN
SurfR 1.6.0  (landing page)
Aurora Maurizio
git_last_commit: 6bb52a0
git_last_commit_date: 2025-10-29 11:27:44 -0500
nebbiolo2Linux (Ubuntu 24.04.3 LTS) / x86_64  OK    OK    OK  UNNEEDED, same version is already published
kjohnson3macOS 13.7.7 Ventura / arm64  OK    OK    OK    OK  UNNEEDED, same version is already published
Package 70/79HostnameOS / ArchINSTALLBUILDCHECKBUILD BIN
tenXplore 1.32.0  (landing page)
VJ Carey
git_last_commit: e8cff89
git_last_commit_date: 2025-10-29 10:42:05 -0500
nebbiolo2Linux (Ubuntu 24.04.3 LTS) / x86_64  OK    OK    OK  UNNEEDED, same version is already published
kjohnson3macOS 13.7.7 Ventura / arm64  OK    OK    OK    OK  UNNEEDED, same version is already published
Package 71/79HostnameOS / ArchINSTALLBUILDCHECKBUILD BIN
terraTCGAdata 1.14.0  (landing page)
Marcel Ramos
git_last_commit: eba5301
git_last_commit_date: 2025-10-29 11:16:25 -0500
nebbiolo2Linux (Ubuntu 24.04.3 LTS) / x86_64  OK    OK    OK  UNNEEDED, same version is already published
kjohnson3macOS 13.7.7 Ventura / arm64  OK    OK    OK    OK  UNNEEDED, same version is already published
Package 72/79HostnameOS / ArchINSTALLBUILDCHECKBUILD BIN
TFutils 1.30.0  (landing page)
Vincent Carey
git_last_commit: fc98f4d
git_last_commit_date: 2025-10-29 10:44:40 -0500
nebbiolo2Linux (Ubuntu 24.04.3 LTS) / x86_64  OK    OK    OK  UNNEEDED, same version is already published
kjohnson3macOS 13.7.7 Ventura / arm64  OK    OK    OK    OK  UNNEEDED, same version is already published
Package 73/79HostnameOS / ArchINSTALLBUILDCHECKBUILD BIN
tomoseqr 1.14.0  (landing page)
Ryosuke Matsuzawa
git_last_commit: be3bd9b
git_last_commit_date: 2025-10-29 11:16:02 -0500
nebbiolo2Linux (Ubuntu 24.04.3 LTS) / x86_64  OK    OK    OK  UNNEEDED, same version is already published
kjohnson3macOS 13.7.7 Ventura / arm64  OK    OK    OK    OK  UNNEEDED, same version is already published
Package 74/79HostnameOS / ArchINSTALLBUILDCHECKBUILD BIN
tximeta 1.28.0  (landing page)
Michael Love
git_last_commit: 4479514
git_last_commit_date: 2025-10-29 10:47:16 -0500
nebbiolo2Linux (Ubuntu 24.04.3 LTS) / x86_64  OK    OK    OK  UNNEEDED, same version is already published
kjohnson3macOS 13.7.7 Ventura / arm64  OK    OK    OK    OK  UNNEEDED, same version is already published
Package 75/79HostnameOS / ArchINSTALLBUILDCHECKBUILD BIN
UMI4Cats 1.20.0  (landing page)
Mireia Ramos-Rodriguez
git_last_commit: ddc6b2d
git_last_commit_date: 2025-10-29 11:01:19 -0500
nebbiolo2Linux (Ubuntu 24.04.3 LTS) / x86_64  OK    OK    OK  UNNEEDED, same version is already published
kjohnson3macOS 13.7.7 Ventura / arm64  OK    OK    OK    OK  UNNEEDED, same version is already published
Package 76/79HostnameOS / ArchINSTALLBUILDCHECKBUILD BIN
uncoverappLib 1.20.0  (landing page)
Emanuela Iovino
git_last_commit: e5e7acf
git_last_commit_date: 2025-10-29 11:01:16 -0500
nebbiolo2Linux (Ubuntu 24.04.3 LTS) / x86_64  OK    OK    OK  UNNEEDED, same version is already published
kjohnson3macOS 13.7.7 Ventura / arm64  OK    OK    OK    OK  UNNEEDED, same version is already published
Package 77/79HostnameOS / ArchINSTALLBUILDCHECKBUILD BIN
UniProt.ws 2.50.0  (landing page)
Marcel Ramos
git_last_commit: d7b37e1
git_last_commit_date: 2025-10-29 10:12:47 -0500
nebbiolo2Linux (Ubuntu 24.04.3 LTS) / x86_64  OK    OK    OK  UNNEEDED, same version is already published
kjohnson3macOS 13.7.7 Ventura / arm64  OK    OK    OK    OK  UNNEEDED, same version is already published
Package 78/79HostnameOS / ArchINSTALLBUILDCHECKBUILD BIN
waddR 1.24.0  (landing page)
Julian Flesch
git_last_commit: 6d40862
git_last_commit_date: 2025-10-29 10:55:06 -0500
nebbiolo2Linux (Ubuntu 24.04.3 LTS) / x86_64  OK    OK    OK  UNNEEDED, same version is already published
kjohnson3macOS 13.7.7 Ventura / arm64  OK    ERROR  skippedskipped
Package 79/79HostnameOS / ArchINSTALLBUILDCHECKBUILD BIN
xenLite 1.4.0  (landing page)
Vincent Carey
git_last_commit: cc38f6b
git_last_commit_date: 2025-10-29 11:31:51 -0500
nebbiolo2Linux (Ubuntu 24.04.3 LTS) / x86_64  OK    OK    OK  UNNEEDED, same version is already published
kjohnson3macOS 13.7.7 Ventura / arm64  OK    OK    OK    OK  UNNEEDED, same version is already published