| Back to Multiple platform build/check report for BioC 3.22: simplified long |
|
This page was generated on 2025-11-07 12:00 -0500 (Fri, 07 Nov 2025).
| Hostname | OS | Arch (*) | R version | Installed pkgs |
|---|---|---|---|---|
| nebbiolo2 | Linux (Ubuntu 24.04.3 LTS) | x86_64 | 4.5.1 Patched (2025-08-23 r88802) -- "Great Square Root" | 4902 |
| kjohnson3 | macOS 13.7.7 Ventura | arm64 | 4.5.1 Patched (2025-09-10 r88807) -- "Great Square Root" | 4638 |
| Click on any hostname to see more info about the system (e.g. compilers) (*) as reported by 'uname -p', except on Windows and Mac OS X | ||||
| Package 1513/2361 | Hostname | OS / Arch | INSTALL | BUILD | CHECK | BUILD BIN | ||||||||
| ontoProc 2.4.0 (landing page) Vincent Carey
| nebbiolo2 | Linux (Ubuntu 24.04.3 LTS) / x86_64 | OK | OK | OK | |||||||||
| kjohnson3 | macOS 13.7.7 Ventura / arm64 | OK | OK | OK | OK | |||||||||
|
To the developers/maintainers of the ontoProc package: - Allow up to 24 hours (and sometimes 48 hours) for your latest push to git@git.bioconductor.org:packages/ontoProc.git to reflect on this report. See Troubleshooting Build Report for more information. - Use the following Renviron settings to reproduce errors and warnings. - If 'R CMD check' started to fail recently on the Linux builder(s) over a missing dependency, add the missing dependency to 'Suggests:' in your DESCRIPTION file. See Renviron.bioc for more information. |
| Package: ontoProc |
| Version: 2.4.0 |
| Command: /home/biocbuild/bbs-3.22-bioc/R/bin/R CMD check --install=check:ontoProc.install-out.txt --library=/home/biocbuild/bbs-3.22-bioc/R/site-library --timings ontoProc_2.4.0.tar.gz |
| StartedAt: 2025-11-07 02:15:57 -0500 (Fri, 07 Nov 2025) |
| EndedAt: 2025-11-07 02:53:50 -0500 (Fri, 07 Nov 2025) |
| EllapsedTime: 2272.9 seconds |
| RetCode: 0 |
| Status: OK |
| CheckDir: ontoProc.Rcheck |
| Warnings: 0 |
##############################################################################
##############################################################################
###
### Running command:
###
### /home/biocbuild/bbs-3.22-bioc/R/bin/R CMD check --install=check:ontoProc.install-out.txt --library=/home/biocbuild/bbs-3.22-bioc/R/site-library --timings ontoProc_2.4.0.tar.gz
###
##############################################################################
##############################################################################
* using log directory ‘/home/biocbuild/bbs-3.22-bioc/meat/ontoProc.Rcheck’
* using R version 4.5.1 Patched (2025-08-23 r88802)
* using platform: x86_64-pc-linux-gnu
* R was compiled by
gcc (Ubuntu 13.3.0-6ubuntu2~24.04) 13.3.0
GNU Fortran (Ubuntu 13.3.0-6ubuntu2~24.04) 13.3.0
* running under: Ubuntu 24.04.3 LTS
* using session charset: UTF-8
* checking for file ‘ontoProc/DESCRIPTION’ ... OK
* this is package ‘ontoProc’ version ‘2.4.0’
* package encoding: UTF-8
* checking package namespace information ... OK
* checking package dependencies ... OK
* checking if this is a source package ... OK
* checking if there is a namespace ... OK
* checking for hidden files and directories ... OK
* checking for portable file names ... OK
* checking for sufficient/correct file permissions ... OK
* checking whether package ‘ontoProc’ can be installed ... OK
* checking installed package size ... INFO
installed size is 11.5Mb
sub-directories of 1Mb or more:
app 1.9Mb
data 1.8Mb
ontoRda 2.8Mb
owl 3.8Mb
* checking package directory ... OK
* checking ‘build’ directory ... OK
* checking DESCRIPTION meta-information ... OK
* checking top-level files ... OK
* checking for left-over files ... OK
* checking index information ... OK
* checking package subdirectories ... OK
* checking code files for non-ASCII characters ... OK
* checking R files for syntax errors ... OK
* checking whether the package can be loaded ... OK
* checking whether the package can be loaded with stated dependencies ... OK
* checking whether the package can be unloaded cleanly ... OK
* checking whether the namespace can be loaded with stated dependencies ... OK
* checking whether the namespace can be unloaded cleanly ... OK
* checking loading without being on the library search path ... OK
* checking dependencies in R code ... NOTE
':::' call which should be '::': ‘ontologyPlot:::remove_uninformative_terms’
See the note in ?`:::` about the use of this operator.
* checking S3 generic/method consistency ... OK
* checking replacement functions ... OK
* checking foreign function calls ... OK
* checking R code for possible problems ... NOTE
CLfeat : prupdate: no visible binding for global variable ‘PROSYM’
CLfeat : prupdate: no visible binding for global variable ‘PRID’
CLfeat : prupdate: no visible binding for global variable ‘SYMBOL’
ctmarks : server: no visible binding for global variable ‘text’
ctmarks : server: no visible binding for global variable ‘packDesc2022’
ctmarks : server: no visible binding for global variable ‘packDesc2021’
ctmarks: no visible binding for global variable ‘cumu’
dropStop: no visible binding for global variable ‘stopWords’
getOnto: no visible binding for global variable ‘rdatadateadded’
getOnto: no visible binding for global variable ‘title’
getOnto: no visible binding for global variable ‘description’
ldfToTerm: no visible binding for global variable ‘PROSYM’
sym2CellOnto: no visible binding for global variable ‘PROSYM’
sym2CellOnto: no visible binding for global variable ‘SYMBOL’
Undefined global functions or variables:
PRID PROSYM SYMBOL cumu description packDesc2021 packDesc2022
rdatadateadded stopWords text title
Consider adding
importFrom("graphics", "text", "title")
to your NAMESPACE file.
* checking Rd files ... OK
* checking Rd metadata ... OK
* checking Rd cross-references ... NOTE
Found the following Rd file(s) with Rd \link{} targets missing package
anchors:
findCommonAncestors.Rd: graph, DataFrame-class, List-class
Please provide package anchors for all Rd \link{} targets not in the
package itself and the base packages.
* checking for missing documentation entries ... OK
* checking for code/documentation mismatches ... OK
* checking Rd \usage sections ... NOTE
S3 methods shown with full name in Rd file 'plot.owlents.Rd':
‘plot.owlents’
The \usage entries for S3 methods should use the \method markup and not
their full name.
See chapter ‘Writing R documentation files’ in the ‘Writing R
Extensions’ manual.
* checking Rd contents ... OK
* checking for unstated dependencies in examples ... OK
* checking contents of ‘data’ directory ... OK
* checking data for non-ASCII characters ... OK
* checking data for ASCII and uncompressed saves ... OK
* checking files in ‘vignettes’ ... OK
* checking examples ... OK
Examples with CPU (user + system) or elapsed time > 5s
user system elapsed
sym2CellOnto 200.004 2.694 203.307
cleanCLOnames 116.694 2.878 137.293
siblings_TAG 116.144 1.387 118.558
fastGrep 91.403 3.130 101.473
nomenCheckup 86.099 0.830 87.213
findCommonAncestors 72.448 1.821 99.536
common_classes 68.073 3.041 78.935
CLfeats 68.445 1.989 71.536
getLeavesFromTerm 60.303 0.844 65.375
liberalMap 55.677 0.995 61.920
getOnto 54.693 1.133 61.822
make_graphNEL_from_ontology_plot 42.207 0.528 43.071
selectFromMap 41.899 0.650 42.838
onto_plot2 39.647 1.691 41.604
mapOneNaive 40.969 0.366 41.803
secLevGen 39.806 0.574 40.794
TermSet-class 39.501 0.608 40.432
graph2paths 11.427 0.454 12.268
ontoDiff 11.391 0.349 12.269
ldfToTerms 5.173 0.074 5.659
plot.owlents 4.771 0.176 73.079
search_labels 0.439 0.016 14.330
bioregistry_ols_resources 0.077 0.030 11.946
* checking for unstated dependencies in ‘tests’ ... OK
* checking tests ...
Running ‘test.R’
OK
* checking for unstated dependencies in vignettes ... OK
* checking package vignettes ... OK
* checking re-building of vignette outputs ... OK
* checking PDF version of manual ... OK
* DONE
Status: 4 NOTEs
See
‘/home/biocbuild/bbs-3.22-bioc/meat/ontoProc.Rcheck/00check.log’
for details.
ontoProc.Rcheck/00install.out
############################################################################## ############################################################################## ### ### Running command: ### ### /home/biocbuild/bbs-3.22-bioc/R/bin/R CMD INSTALL ontoProc ### ############################################################################## ############################################################################## * installing to library ‘/home/biocbuild/bbs-3.22-bioc/R/site-library’ * installing *source* package ‘ontoProc’ ... ** this is package ‘ontoProc’ version ‘2.4.0’ ** using staged installation ** R ** data ** inst ** byte-compile and prepare package for lazy loading ** help *** installing help indices ** building package indices ** installing vignettes ** testing if installed package can be loaded from temporary location ** testing if installed package can be loaded from final location ** testing if installed package keeps a record of temporary installation path * DONE (ontoProc)
ontoProc.Rcheck/tests/test.Rout
R version 4.5.1 Patched (2025-08-23 r88802) -- "Great Square Root"
Copyright (C) 2025 The R Foundation for Statistical Computing
Platform: x86_64-pc-linux-gnu
R is free software and comes with ABSOLUTELY NO WARRANTY.
You are welcome to redistribute it under certain conditions.
Type 'license()' or 'licence()' for distribution details.
R is a collaborative project with many contributors.
Type 'contributors()' for more information and
'citation()' on how to cite R or R packages in publications.
Type 'demo()' for some demos, 'help()' for on-line help, or
'help.start()' for an HTML browser interface to help.
Type 'q()' to quit R.
>
> library(ontoProc)
Loading required package: ontologyIndex
> library(testthat)
>
> test_check("ontoProc")
[ FAIL 0 | WARN 0 | SKIP 0 | PASS 12 ]
>
>
> proc.time()
user system elapsed
254.393 3.995 260.304
ontoProc.Rcheck/ontoProc-Ex.timings
| name | user | system | elapsed | |
| CLfeats | 68.445 | 1.989 | 71.536 | |
| PROSYM | 0.221 | 0.002 | 0.223 | |
| TermSet-class | 39.501 | 0.608 | 40.432 | |
| allGOterms | 0.092 | 0.003 | 0.095 | |
| ancestors | 0.586 | 0.137 | 0.708 | |
| ancestors_names | 0.012 | 0.002 | 0.007 | |
| bioregistry_ols_resources | 0.077 | 0.030 | 11.946 | |
| cellTypeToGO | 1.734 | 0.111 | 1.846 | |
| children_names | 0.005 | 0.002 | 0.007 | |
| cleanCLOnames | 116.694 | 2.878 | 137.293 | |
| common_classes | 68.073 | 3.041 | 78.935 | |
| ctmarks | 0.001 | 0.000 | 0.001 | |
| cyclicSigset | 0.014 | 0.000 | 0.032 | |
| demoApp | 0 | 0 | 0 | |
| dropStop | 0.009 | 0.000 | 0.017 | |
| fastGrep | 91.403 | 3.130 | 101.473 | |
| findCommonAncestors | 72.448 | 1.821 | 99.536 | |
| formalize | 0.001 | 0.000 | 0.001 | |
| getLeavesFromTerm | 60.303 | 0.844 | 65.375 | |
| getOnto | 54.693 | 1.133 | 61.822 | |
| graph2paths | 11.427 | 0.454 | 12.268 | |
| humrna | 0.006 | 0.002 | 0.008 | |
| jowl2classgraph | 0.408 | 0.017 | 0.424 | |
| jowl2classgraph_nio | 1.539 | 0.057 | 1.596 | |
| labels.owlents | 0.000 | 0.000 | 0.001 | |
| ldfToTerms | 5.173 | 0.074 | 5.659 | |
| liberalMap | 55.677 | 0.995 | 61.920 | |
| makeSelectInput | 0.000 | 0.001 | 0.001 | |
| make_graphNEL_from_ontology_plot | 42.207 | 0.528 | 43.071 | |
| mapOneNaive | 40.969 | 0.366 | 41.803 | |
| minicorpus | 0.001 | 0.001 | 0.001 | |
| nomenCheckup | 86.099 | 0.830 | 87.213 | |
| ontoDiff | 11.391 | 0.349 | 12.269 | |
| onto_plot2 | 39.647 | 1.691 | 41.604 | |
| onto_roots | 0.001 | 0.000 | 0.001 | |
| owl2cache | 0.023 | 0.002 | 0.025 | |
| packDesc2019 | 0.003 | 0.000 | 0.003 | |
| packDesc2021 | 0.002 | 0.000 | 0.002 | |
| packDesc2022 | 0.002 | 0.000 | 0.003 | |
| packDesc2023 | 0.002 | 0.000 | 0.002 | |
| parents | 0.004 | 0.000 | 0.005 | |
| plot.owlents | 4.771 | 0.176 | 73.079 | |
| quickOnto | 0.334 | 0.003 | 0.336 | |
| recognizedPredicates | 0 | 0 | 0 | |
| search_labels | 0.439 | 0.016 | 14.330 | |
| secLevGen | 39.806 | 0.574 | 40.794 | |
| selectFromMap | 41.899 | 0.650 | 42.838 | |
| setup_entities | 0.005 | 0.000 | 0.005 | |
| setup_entities2 | 0.350 | 0.003 | 0.353 | |
| seur3kTab | 0.003 | 0.000 | 0.003 | |
| siblings_TAG | 116.144 | 1.387 | 118.558 | |
| stopWords | 0.002 | 0.000 | 0.002 | |
| subclasses | 0.005 | 0.000 | 0.005 | |
| sym2CellOnto | 200.004 | 2.694 | 203.307 | |
| valid_ontonames | 0 | 0 | 0 | |