| Back to Multiple platform build/check report for BioC 3.9 |
|
This page was generated on 2019-10-16 12:41:39 -0400 (Wed, 16 Oct 2019).
| Package 1540/1741 | Hostname | OS / Arch | INSTALL | BUILD | CHECK | BUILD BIN | ||||||
| slingshot 1.2.0 Kelly Street
| malbec2 | Linux (Ubuntu 18.04.2 LTS) / x86_64 | OK | OK | OK | |||||||
| tokay2 | Windows Server 2012 R2 Standard / x64 | OK | OK | WARNINGS | [ OK ] | |||||||
| celaya2 | OS X 10.11.6 El Capitan / x86_64 | OK | OK | WARNINGS | OK |
| Package: slingshot |
| Version: 1.2.0 |
| Command: rm -rf slingshot.buildbin-libdir && mkdir slingshot.buildbin-libdir && C:\Users\biocbuild\bbs-3.9-bioc\R\bin\R.exe CMD INSTALL --merge-multiarch --build --library=slingshot.buildbin-libdir slingshot_1.2.0.tar.gz |
| StartedAt: 2019-10-16 10:14:58 -0400 (Wed, 16 Oct 2019) |
| EndedAt: 2019-10-16 10:16:24 -0400 (Wed, 16 Oct 2019) |
| EllapsedTime: 85.8 seconds |
| RetCode: 0 |
| Status: OK |
| PackageFile: slingshot_1.2.0.zip |
| PackageFileSize: 1005 KiB |
##############################################################################
##############################################################################
###
### Running command:
###
### rm -rf slingshot.buildbin-libdir && mkdir slingshot.buildbin-libdir && C:\Users\biocbuild\bbs-3.9-bioc\R\bin\R.exe CMD INSTALL --merge-multiarch --build --library=slingshot.buildbin-libdir slingshot_1.2.0.tar.gz
###
##############################################################################
##############################################################################
install for i386
* installing *source* package 'slingshot' ...
** using staged installation
** R
** data
** inst
** byte-compile and prepare package for lazy loading
** help
*** installing help indices
converting help for package 'slingshot'
finding HTML links ... done
SlingshotDataSet-class html
SlingshotDataSet html
getCurves html
getLineages html
finding level-2 HTML links ... done
newSlingshotDataSet html
Rd warning: C:/Users/biocbuild/bbs-3.9-bioc/tmpdir/RtmpExHcKk/R.INSTALL26a4b902a74/slingshot/man/newSlingshotDataSet.Rd:51: file link 'principal.curve' in package 'princurve' does not exist and so has been treated as a topic
Rd warning: C:/Users/biocbuild/bbs-3.9-bioc/tmpdir/RtmpExHcKk/R.INSTALL26a4b902a74/slingshot/man/newSlingshotDataSet.Rd:94: file link 'principal.curve' in package 'princurve' does not exist and so has been treated as a topic
pairs-SlingshotDataSet html
plot-SlingshotDataSet html
plot3d-SlingshotDataSet html
plotGenePseudotime html
predict.SlingshotDataSet html
slingAdjacency html
slingCurves html
Rd warning: C:/Users/biocbuild/bbs-3.9-bioc/tmpdir/RtmpExHcKk/R.INSTALL26a4b902a74/slingshot/man/slingCurves.Rd:21: file link 'principal.curve' in package 'princurve' does not exist and so has been treated as a topic
slingLineages html
slingParams html
slingPseudotime html
slingshot html
slingshotExample html
** building package indices
** installing vignettes
** testing if installed package can be loaded from temporary location
** testing if installed package can be loaded from final location
** testing if installed package keeps a record of temporary installation path
install for x64
* installing *source* package 'slingshot' ...
** testing if installed package can be loaded
* MD5 sums
packaged installation of 'slingshot' as slingshot_1.2.0.zip
* DONE (slingshot)