| Back to Multiple platform build/check report for BioC 3.9 | 
  | 
This page was generated on 2019-04-09 12:03:33 -0400 (Tue, 09 Apr 2019).
| Package 1187/1703 | Hostname | OS / Arch | INSTALL | BUILD | CHECK | BUILD BIN | ||||||
| piano 1.23.0 Leif Varemo 
  | malbec2 | Linux (Ubuntu 18.04.2 LTS) / x86_64 | OK | OK | OK | |||||||
| tokay2 | Windows Server 2012 R2 Standard / x64 | [ OK ] | OK | WARNINGS | OK | |||||||
| celaya2 | OS X 10.11.6 El Capitan / x86_64 | OK | OK | OK | OK | |||||||
| merida2 | OS X 10.11.6 El Capitan / x86_64 | OK | OK | OK | OK | 
| Package: piano | 
| Version: 1.23.0 | 
| Command: C:\cygwin\bin\curl.exe -O https://malbec2.bioconductor.org/BBS/3.9/bioc/src/contrib/piano_1.23.0.tar.gz && rm -rf piano.buildbin-libdir && mkdir piano.buildbin-libdir && C:\Users\biocbuild\bbs-3.9-bioc\R\bin\R.exe CMD INSTALL --merge-multiarch --build --library=piano.buildbin-libdir piano_1.23.0.tar.gz && C:\Users\biocbuild\bbs-3.9-bioc\R\bin\R.exe CMD INSTALL piano_1.23.0.zip && rm piano_1.23.0.tar.gz piano_1.23.0.zip | 
| StartedAt: 2019-04-08 19:19:57 -0400 (Mon, 08 Apr 2019) | 
| EndedAt: 2019-04-08 19:21:18 -0400 (Mon, 08 Apr 2019) | 
| EllapsedTime: 81.5 seconds | 
| RetCode: 0 | 
| Status: OK | 
##############################################################################
##############################################################################
###
### Running command:
###
###   C:\cygwin\bin\curl.exe -O https://malbec2.bioconductor.org/BBS/3.9/bioc/src/contrib/piano_1.23.0.tar.gz && rm -rf piano.buildbin-libdir && mkdir piano.buildbin-libdir && C:\Users\biocbuild\bbs-3.9-bioc\R\bin\R.exe CMD INSTALL --merge-multiarch --build --library=piano.buildbin-libdir piano_1.23.0.tar.gz && C:\Users\biocbuild\bbs-3.9-bioc\R\bin\R.exe CMD INSTALL piano_1.23.0.zip && rm piano_1.23.0.tar.gz piano_1.23.0.zip
###
##############################################################################
##############################################################################
  % Total    % Received % Xferd  Average Speed   Time    Time     Time  Current
                                 Dload  Upload   Total   Spent    Left  Speed
  0     0    0     0    0     0      0      0 --:--:-- --:--:-- --:--:--     0
100  908k  100  908k    0     0  6141k      0 --:--:-- --:--:-- --:--:-- 6398k
install for i386
* installing *source* package 'piano' ...
** R
** data
** inst
** byte-compile and prepare package for lazy loading
** help
*** installing help indices
  converting help for package 'piano'
    finding HTML links ... done
    GSAheatmap                              html  
    GSAsummaryTable                         html  
    consensusHeatmap                        html  
    consensusScores                         html  
    diffExp                                 html  
    finding level-2 HTML links ... done
Rd warning: C:/Users/biocbuild/bbs-3.9-bioc/tmpdir/Rtmp2zGK7l/R.INSTALL4f42ed36fa3/piano/man/diffExp.Rd:75: file link 'limma' in package 'limma' does not exist and so has been treated as a topic
Rd warning: C:/Users/biocbuild/bbs-3.9-bioc/tmpdir/Rtmp2zGK7l/R.INSTALL4f42ed36fa3/piano/man/diffExp.Rd:143: file link 'limma' in package 'limma' does not exist and so has been treated as a topic
    extractFactors                          html  
    geneSetSummary                          html  
    gsa_input                               html  
    gsa_results                             html  
    loadGSC                                 html  
    loadMAdata                              html  
Rd warning: C:/Users/biocbuild/bbs-3.9-bioc/tmpdir/Rtmp2zGK7l/R.INSTALL4f42ed36fa3/piano/man/loadMAdata.Rd:129: file link 'yeast2.db' in package 'yeast2.db' does not exist and so has been treated as a topic
    networkPlot                             html  
    piano-package                           html  
Rd warning: C:/Users/biocbuild/bbs-3.9-bioc/tmpdir/Rtmp2zGK7l/R.INSTALL4f42ed36fa3/piano/man/piano-package.Rd:25: file link 'limma-package' in package 'limma' does not exist and so has been treated as a topic
    polarPlot                               html  
    runGSA                                  html  
Rd warning: C:/Users/biocbuild/bbs-3.9-bioc/tmpdir/Rtmp2zGK7l/R.INSTALL4f42ed36fa3/piano/man/runGSA.Rd:250: file link 'HTSanalyzeR-package' in package 'HTSanalyzeR' does not exist and so has been treated as a topic
Rd warning: C:/Users/biocbuild/bbs-3.9-bioc/tmpdir/Rtmp2zGK7l/R.INSTALL4f42ed36fa3/piano/man/runGSA.Rd:252: file link 'limma' in package 'limma' does not exist and so has been treated as a topic
    runGSAhyper                             html  
    runQC                                   html  
    writeFilesForKiwi                       html  
** building package indices
** installing vignettes
** testing if installed package can be loaded from temporary location
** testing if installed package can be loaded from final location
** testing if installed package keeps a record of temporary installation path
install for x64
* installing *source* package 'piano' ...
** testing if installed package can be loaded
* MD5 sums
packaged installation of 'piano' as piano_1.23.0.zip
* DONE (piano)
* installing to library 'C:/Users/biocbuild/bbs-3.9-bioc/R/library'
package 'piano' successfully unpacked and MD5 sums checked