| Back to Multiple platform build/check report for BioC 3.9 | 
  | 
This page was generated on 2019-04-09 13:07:22 -0400 (Tue, 09 Apr 2019).
| Package 1187/1703 | Hostname | OS / Arch | INSTALL | BUILD | CHECK | BUILD BIN | ||||||
| piano 1.23.0 Leif Varemo 
  | malbec2 | Linux (Ubuntu 18.04.2 LTS) / x86_64 | OK | OK | OK | |||||||
| tokay2 | Windows Server 2012 R2 Standard / x64 | OK | OK | WARNINGS | OK | |||||||
| celaya2 | OS X 10.11.6 El Capitan / x86_64 | OK | OK | [ OK ] | OK | |||||||
| merida2 | OS X 10.11.6 El Capitan / x86_64 | OK | OK | OK | OK | 
| Package: piano | 
| Version: 1.23.0 | 
| Command: /Library/Frameworks/R.framework/Versions/Current/Resources/bin/R CMD check --install=check:piano.install-out.txt --library=/Library/Frameworks/R.framework/Versions/Current/Resources/library --no-vignettes --timings piano_1.23.0.tar.gz | 
| StartedAt: 2019-04-09 04:23:29 -0400 (Tue, 09 Apr 2019) | 
| EndedAt: 2019-04-09 04:26:10 -0400 (Tue, 09 Apr 2019) | 
| EllapsedTime: 161.3 seconds | 
| RetCode: 0 | 
| Status: OK | 
| CheckDir: piano.Rcheck | 
| Warnings: 0 | 
##############################################################################
##############################################################################
###
### Running command:
###
###   /Library/Frameworks/R.framework/Versions/Current/Resources/bin/R CMD check --install=check:piano.install-out.txt --library=/Library/Frameworks/R.framework/Versions/Current/Resources/library --no-vignettes --timings piano_1.23.0.tar.gz
###
##############################################################################
##############################################################################
* using log directory ‘/Users/biocbuild/bbs-3.9-bioc/meat/piano.Rcheck’
* using R Under development (unstable) (2019-03-18 r76245)
* using platform: x86_64-apple-darwin15.6.0 (64-bit)
* using session charset: UTF-8
* using option ‘--no-vignettes’
* checking for file ‘piano/DESCRIPTION’ ... OK
* checking extension type ... Package
* this is package ‘piano’ version ‘1.23.0’
* checking package namespace information ... OK
* checking package dependencies ... OK
* checking if this is a source package ... OK
* checking if there is a namespace ... OK
* checking for hidden files and directories ... OK
* checking for portable file names ... OK
* checking for sufficient/correct file permissions ... OK
* checking whether package ‘piano’ can be installed ... OK
* checking installed package size ... OK
* checking package directory ... OK
* checking ‘build’ directory ... OK
* checking DESCRIPTION meta-information ... OK
* checking top-level files ... OK
* checking for left-over files ... OK
* checking index information ... OK
* checking package subdirectories ... OK
* checking R files for non-ASCII characters ... OK
* checking R files for syntax errors ... OK
* checking whether the package can be loaded ... OK
* checking whether the package can be loaded with stated dependencies ... OK
* checking whether the package can be unloaded cleanly ... OK
* checking whether the namespace can be loaded with stated dependencies ... OK
* checking whether the namespace can be unloaded cleanly ... OK
* checking dependencies in R code ... NOTE
Missing or unexported object: ‘rsbml::species’
* checking S3 generic/method consistency ... OK
* checking replacement functions ... OK
* checking foreign function calls ... OK
* checking R code for possible problems ... NOTE
loadMAdata: no visible global function definition for ‘exprs<-’
Undefined global functions or variables:
  exprs<-
* checking Rd files ... OK
* checking Rd metadata ... OK
* checking Rd cross-references ... OK
* checking for missing documentation entries ... OK
* checking for code/documentation mismatches ... OK
* checking Rd \usage sections ... OK
* checking Rd contents ... OK
* checking for unstated dependencies in examples ... OK
* checking contents of ‘data’ directory ... OK
* checking data for non-ASCII characters ... OK
* checking data for ASCII and uncompressed saves ... OK
* checking sizes of PDF files under ‘inst/doc’ ... OK
* checking files in ‘vignettes’ ... OK
* checking examples ... OK
Examples with CPU or elapsed time > 5s
                 user system elapsed
GSAheatmap      5.593  0.636   6.231
networkPlot     5.077  0.411   5.493
GSAsummaryTable 4.736  0.453   5.188
* checking for unstated dependencies in vignettes ... OK
* checking package vignettes in ‘inst/doc’ ... OK
* checking running R code from vignettes ... SKIPPED
* checking re-building of vignette outputs ... SKIPPED
* checking PDF version of manual ... OK
* DONE
Status: 2 NOTEs
See
  ‘/Users/biocbuild/bbs-3.9-bioc/meat/piano.Rcheck/00check.log’
for details.
piano.Rcheck/00install.out
############################################################################## ############################################################################## ### ### Running command: ### ### /Library/Frameworks/R.framework/Versions/Current/Resources/bin/R CMD INSTALL piano ### ############################################################################## ############################################################################## * installing to library ‘/Library/Frameworks/R.framework/Versions/3.6/Resources/library’ * installing *source* package ‘piano’ ... ** using staged installation ** R ** data ** inst ** byte-compile and prepare package for lazy loading ** help *** installing help indices ** building package indices ** installing vignettes ** testing if installed package can be loaded from temporary location ** testing if installed package can be loaded from final location ** testing if installed package keeps a record of temporary installation path * DONE (piano)
piano.Rcheck/piano-Ex.timings
| name | user | system | elapsed | |
| GSAheatmap | 5.593 | 0.636 | 6.231 | |
| GSAsummaryTable | 4.736 | 0.453 | 5.188 | |
| consensusHeatmap | 0.957 | 0.160 | 1.120 | |
| consensusScores | 0.159 | 0.017 | 0.179 | |
| diffExp | 4.319 | 0.383 | 4.842 | |
| extractFactors | 0.293 | 0.023 | 0.316 | |
| geneSetSummary | 4.275 | 0.365 | 4.639 | |
| loadGSC | 0.018 | 0.001 | 0.019 | |
| loadMAdata | 0.247 | 0.009 | 0.255 | |
| networkPlot | 5.077 | 0.411 | 5.493 | |
| polarPlot | 0.682 | 0.084 | 0.766 | |
| runGSA | 4.455 | 0.371 | 4.827 | |
| runGSAhyper | 0.253 | 0.040 | 0.294 | |
| runQC | 1.353 | 0.125 | 1.479 | |
| writeFilesForKiwi | 0.331 | 0.015 | 0.346 | |