| Back to Multiple platform build/check report for BioC 3.9 |
|
This page was generated on 2019-04-09 12:03:35 -0400 (Tue, 09 Apr 2019).
| Package 1187/1703 | Hostname | OS / Arch | INSTALL | BUILD | CHECK | BUILD BIN | ||||||
| piano 1.23.0 Leif Varemo
| malbec2 | Linux (Ubuntu 18.04.2 LTS) / x86_64 | OK | OK | OK | |||||||
| tokay2 | Windows Server 2012 R2 Standard / x64 | OK | OK | WARNINGS | [ OK ] | |||||||
| celaya2 | OS X 10.11.6 El Capitan / x86_64 | OK | OK | OK | OK | |||||||
| merida2 | OS X 10.11.6 El Capitan / x86_64 | OK | OK | OK | OK |
| Package: piano |
| Version: 1.23.0 |
| Command: rm -rf piano.buildbin-libdir && mkdir piano.buildbin-libdir && C:\Users\biocbuild\bbs-3.9-bioc\R\bin\R.exe CMD INSTALL --merge-multiarch --build --library=piano.buildbin-libdir piano_1.23.0.tar.gz |
| StartedAt: 2019-04-09 08:40:36 -0400 (Tue, 09 Apr 2019) |
| EndedAt: 2019-04-09 08:41:19 -0400 (Tue, 09 Apr 2019) |
| EllapsedTime: 43.3 seconds |
| RetCode: 0 |
| Status: OK |
| PackageFile: piano_1.23.0.zip |
| PackageFileSize: 1.337 MiB |
##############################################################################
##############################################################################
###
### Running command:
###
### rm -rf piano.buildbin-libdir && mkdir piano.buildbin-libdir && C:\Users\biocbuild\bbs-3.9-bioc\R\bin\R.exe CMD INSTALL --merge-multiarch --build --library=piano.buildbin-libdir piano_1.23.0.tar.gz
###
##############################################################################
##############################################################################
install for i386
* installing *source* package 'piano' ...
** R
** data
** inst
** byte-compile and prepare package for lazy loading
** help
*** installing help indices
converting help for package 'piano'
finding HTML links ... done
GSAheatmap html
GSAsummaryTable html
consensusHeatmap html
consensusScores html
diffExp html
finding level-2 HTML links ... done
Rd warning: C:/Users/biocbuild/bbs-3.9-bioc/tmpdir/RtmpMXJik5/R.INSTALL2b5016b05f4/piano/man/diffExp.Rd:75: file link 'limma' in package 'limma' does not exist and so has been treated as a topic
Rd warning: C:/Users/biocbuild/bbs-3.9-bioc/tmpdir/RtmpMXJik5/R.INSTALL2b5016b05f4/piano/man/diffExp.Rd:143: file link 'limma' in package 'limma' does not exist and so has been treated as a topic
extractFactors html
geneSetSummary html
gsa_input html
gsa_results html
loadGSC html
loadMAdata html
Rd warning: C:/Users/biocbuild/bbs-3.9-bioc/tmpdir/RtmpMXJik5/R.INSTALL2b5016b05f4/piano/man/loadMAdata.Rd:129: file link 'yeast2.db' in package 'yeast2.db' does not exist and so has been treated as a topic
networkPlot html
piano-package html
Rd warning: C:/Users/biocbuild/bbs-3.9-bioc/tmpdir/RtmpMXJik5/R.INSTALL2b5016b05f4/piano/man/piano-package.Rd:25: file link 'limma-package' in package 'limma' does not exist and so has been treated as a topic
polarPlot html
runGSA html
Rd warning: C:/Users/biocbuild/bbs-3.9-bioc/tmpdir/RtmpMXJik5/R.INSTALL2b5016b05f4/piano/man/runGSA.Rd:250: file link 'HTSanalyzeR-package' in package 'HTSanalyzeR' does not exist and so has been treated as a topic
Rd warning: C:/Users/biocbuild/bbs-3.9-bioc/tmpdir/RtmpMXJik5/R.INSTALL2b5016b05f4/piano/man/runGSA.Rd:252: file link 'limma' in package 'limma' does not exist and so has been treated as a topic
runGSAhyper html
runQC html
writeFilesForKiwi html
** building package indices
** installing vignettes
** testing if installed package can be loaded from temporary location
** testing if installed package can be loaded from final location
** testing if installed package keeps a record of temporary installation path
install for x64
* installing *source* package 'piano' ...
** testing if installed package can be loaded
* MD5 sums
packaged installation of 'piano' as piano_1.23.0.zip
* DONE (piano)