| Back to Multiple platform build/check report for BioC 3.9 |
|
This page was generated on 2019-04-09 12:00:59 -0400 (Tue, 09 Apr 2019).
| Package 1023/1703 | Hostname | OS / Arch | INSTALL | BUILD | CHECK | BUILD BIN | ||||||
| MotifDb 1.25.0 Paul Shannon
| malbec2 | Linux (Ubuntu 18.04.2 LTS) / x86_64 | OK | OK | OK | |||||||
| tokay2 | Windows Server 2012 R2 Standard / x64 | [ OK ] | OK | OK | OK | |||||||
| celaya2 | OS X 10.11.6 El Capitan / x86_64 | OK | OK | OK | OK | |||||||
| merida2 | OS X 10.11.6 El Capitan / x86_64 | OK | OK | OK | OK |
| Package: MotifDb |
| Version: 1.25.0 |
| Command: C:\cygwin\bin\curl.exe -O https://malbec2.bioconductor.org/BBS/3.9/bioc/src/contrib/MotifDb_1.25.0.tar.gz && rm -rf MotifDb.buildbin-libdir && mkdir MotifDb.buildbin-libdir && C:\Users\biocbuild\bbs-3.9-bioc\R\bin\R.exe CMD INSTALL --merge-multiarch --build --library=MotifDb.buildbin-libdir MotifDb_1.25.0.tar.gz && C:\Users\biocbuild\bbs-3.9-bioc\R\bin\R.exe CMD INSTALL MotifDb_1.25.0.zip && rm MotifDb_1.25.0.tar.gz MotifDb_1.25.0.zip |
| StartedAt: 2019-04-08 20:02:44 -0400 (Mon, 08 Apr 2019) |
| EndedAt: 2019-04-08 20:04:26 -0400 (Mon, 08 Apr 2019) |
| EllapsedTime: 102.0 seconds |
| RetCode: 0 |
| Status: OK |
##############################################################################
##############################################################################
###
### Running command:
###
### C:\cygwin\bin\curl.exe -O https://malbec2.bioconductor.org/BBS/3.9/bioc/src/contrib/MotifDb_1.25.0.tar.gz && rm -rf MotifDb.buildbin-libdir && mkdir MotifDb.buildbin-libdir && C:\Users\biocbuild\bbs-3.9-bioc\R\bin\R.exe CMD INSTALL --merge-multiarch --build --library=MotifDb.buildbin-libdir MotifDb_1.25.0.tar.gz && C:\Users\biocbuild\bbs-3.9-bioc\R\bin\R.exe CMD INSTALL MotifDb_1.25.0.zip && rm MotifDb_1.25.0.tar.gz MotifDb_1.25.0.zip
###
##############################################################################
##############################################################################
% Total % Received % Xferd Average Speed Time Time Time Current
Dload Upload Total Spent Left Speed
0 0 0 0 0 0 0 0 --:--:-- --:--:-- --:--:-- 0
100 3199k 100 3199k 0 0 18.5M 0 --:--:-- --:--:-- --:--:-- 19.4M
install for i386
* installing *source* package 'MotifDb' ...
** R
** inst
** byte-compile and prepare package for lazy loading
** help
*** installing help indices
converting help for package 'MotifDb'
finding HTML links ... done
MotifDb html
MotifList-class html
associateTranscriptionFactors html
export html
geneToMotif html
motifToGene html
query html
subset html
** building package indices
** installing vignettes
** testing if installed package can be loaded from temporary location
See system.file("LICENSE", package="MotifDb") for use restrictions.
** testing if installed package can be loaded from final location
See system.file("LICENSE", package="MotifDb") for use restrictions.
** testing if installed package keeps a record of temporary installation path
install for x64
* installing *source* package 'MotifDb' ...
** testing if installed package can be loaded
See system.file("LICENSE", package="MotifDb") for use restrictions.
* MD5 sums
packaged installation of 'MotifDb' as MotifDb_1.25.0.zip
* DONE (MotifDb)
* installing to library 'C:/Users/biocbuild/bbs-3.9-bioc/R/library'
package 'MotifDb' successfully unpacked and MD5 sums checked