| Back to Multiple platform build/check report for BioC 3.9 |
|
This page was generated on 2019-04-09 13:05:41 -0400 (Tue, 09 Apr 2019).
| Package 1023/1703 | Hostname | OS / Arch | INSTALL | BUILD | CHECK | BUILD BIN | ||||||
| MotifDb 1.25.0 Paul Shannon
| malbec2 | Linux (Ubuntu 18.04.2 LTS) / x86_64 | OK | OK | OK | |||||||
| tokay2 | Windows Server 2012 R2 Standard / x64 | OK | OK | OK | OK | |||||||
| celaya2 | OS X 10.11.6 El Capitan / x86_64 | OK | OK | OK | [ OK ] | |||||||
| merida2 | OS X 10.11.6 El Capitan / x86_64 | OK | OK | OK | OK |
| Package: MotifDb |
| Version: 1.25.0 |
| Command: rm -rf MotifDb.buildbin-libdir && mkdir MotifDb.buildbin-libdir && /Users/biocbuild/BBS/utils/build-universal.sh MotifDb_1.25.0.tar.gz /Library/Frameworks/R.framework/Versions/Current/Resources/bin/R MotifDb.buildbin-libdir |
| StartedAt: 2019-04-09 07:24:09 -0400 (Tue, 09 Apr 2019) |
| EndedAt: 2019-04-09 07:25:07 -0400 (Tue, 09 Apr 2019) |
| EllapsedTime: 57.7 seconds |
| RetCode: 0 |
| Status: OK |
| PackageFile: MotifDb_1.25.0.tgz |
| PackageFileSize: 3.502 MiB |
##############################################################################
##############################################################################
###
### Running command:
###
### rm -rf MotifDb.buildbin-libdir && mkdir MotifDb.buildbin-libdir && /Users/biocbuild/BBS/utils/build-universal.sh MotifDb_1.25.0.tar.gz /Library/Frameworks/R.framework/Versions/Current/Resources/bin/R MotifDb.buildbin-libdir
###
##############################################################################
##############################################################################
>>>>>>>
>>>>>>> INSTALLATION WITH 'R CMD INSTALL --preclean --no-multiarch --library=MotifDb.buildbin-libdir MotifDb_1.25.0.tar.gz'
>>>>>>>
* installing *source* package ‘MotifDb’ ...
** using staged installation
** R
** inst
** byte-compile and prepare package for lazy loading
** help
*** installing help indices
** building package indices
** installing vignettes
** testing if installed package can be loaded from temporary location
See system.file("LICENSE", package="MotifDb") for use restrictions.
** testing if installed package can be loaded from final location
See system.file("LICENSE", package="MotifDb") for use restrictions.
** testing if installed package keeps a record of temporary installation path
* DONE (MotifDb)