| Back to Multiple platform build/check report for BioC 3.9 |
|
This page was generated on 2019-04-09 13:27:23 -0400 (Tue, 09 Apr 2019).
| Package 1023/1703 | Hostname | OS / Arch | INSTALL | BUILD | CHECK | BUILD BIN | ||||||
| MotifDb 1.25.0 Paul Shannon
| malbec2 | Linux (Ubuntu 18.04.2 LTS) / x86_64 | OK | OK | OK | |||||||
| tokay2 | Windows Server 2012 R2 Standard / x64 | OK | OK | OK | OK | |||||||
| celaya2 | OS X 10.11.6 El Capitan / x86_64 | OK | OK | OK | OK | |||||||
| merida2 | OS X 10.11.6 El Capitan / x86_64 | [ OK ] | OK | OK | OK |
| Package: MotifDb |
| Version: 1.25.0 |
| Command: /Library/Frameworks/R.framework/Versions/Current/Resources/bin/R CMD INSTALL MotifDb |
| StartedAt: 2019-04-08 19:05:26 -0400 (Mon, 08 Apr 2019) |
| EndedAt: 2019-04-08 19:06:13 -0400 (Mon, 08 Apr 2019) |
| EllapsedTime: 46.7 seconds |
| RetCode: 0 |
| Status: OK |
##############################################################################
##############################################################################
###
### Running command:
###
### /Library/Frameworks/R.framework/Versions/Current/Resources/bin/R CMD INSTALL MotifDb
###
##############################################################################
##############################################################################
* installing to library ‘/Library/Frameworks/R.framework/Versions/3.6/Resources/library’
* installing *source* package ‘MotifDb’ ...
** R
** inst
** byte-compile and prepare package for lazy loading
** help
*** installing help indices
** building package indices
** installing vignettes
** testing if installed package can be loaded
See system.file("LICENSE", package="MotifDb") for use restrictions.
* DONE (MotifDb)