| Back to Multiple platform build/check report for BioC 3.9 |
|
This page was generated on 2019-04-09 11:54:38 -0400 (Tue, 09 Apr 2019).
| Package 676/1703 | Hostname | OS / Arch | INSTALL | BUILD | CHECK | BUILD BIN | ||||||
| GlobalAncova 4.1.0 Manuela Hummel
| malbec2 | Linux (Ubuntu 18.04.2 LTS) / x86_64 | OK | OK | OK | |||||||
| tokay2 | Windows Server 2012 R2 Standard / x64 | OK | OK | OK | [ OK ] | |||||||
| celaya2 | OS X 10.11.6 El Capitan / x86_64 | OK | OK | OK | OK | |||||||
| merida2 | OS X 10.11.6 El Capitan / x86_64 | OK | OK | OK | OK |
| Package: GlobalAncova |
| Version: 4.1.0 |
| Command: rm -rf GlobalAncova.buildbin-libdir && mkdir GlobalAncova.buildbin-libdir && C:\Users\biocbuild\bbs-3.9-bioc\R\bin\R.exe CMD INSTALL --merge-multiarch --build --library=GlobalAncova.buildbin-libdir GlobalAncova_4.1.0.tar.gz |
| StartedAt: 2019-04-09 08:03:57 -0400 (Tue, 09 Apr 2019) |
| EndedAt: 2019-04-09 08:06:51 -0400 (Tue, 09 Apr 2019) |
| EllapsedTime: 174.1 seconds |
| RetCode: 0 |
| Status: OK |
| PackageFile: GlobalAncova_4.1.0.zip |
| PackageFileSize: 1.433 MiB |
##############################################################################
##############################################################################
###
### Running command:
###
### rm -rf GlobalAncova.buildbin-libdir && mkdir GlobalAncova.buildbin-libdir && C:\Users\biocbuild\bbs-3.9-bioc\R\bin\R.exe CMD INSTALL --merge-multiarch --build --library=GlobalAncova.buildbin-libdir GlobalAncova_4.1.0.tar.gz
###
##############################################################################
##############################################################################
install for i386
* installing *source* package 'GlobalAncova' ...
** libs
C:/Rtools/mingw_32/bin/gcc -I"C:/Users/BIOCBU˜1/BBS-3˜1.9-B/R/include" -DNDEBUG -I"C:/extsoft/include" -O3 -Wall -std=gnu99 -mtune=generic -c GlobalAncova.c -o GlobalAncova.o
GlobalAncova.c: In function 'permut_withFperm':
GlobalAncova.c:166:8: warning: 'ord_perm' may be used uninitialized in this function [-Wmaybe-uninitialized]
int *ord_perm ;
^
GlobalAncova.c: In function 'permut':
GlobalAncova.c:268:8: warning: 'ord_perm' may be used uninitialized in this function [-Wmaybe-uninitialized]
int *ord_perm ;
^
C:/Rtools/mingw_32/bin/gcc -I"C:/Users/BIOCBU˜1/BBS-3˜1.9-B/R/include" -DNDEBUG -I"C:/extsoft/include" -O3 -Wall -std=gnu99 -mtune=generic -c ludcmp.c -o ludcmp.o
C:/Rtools/mingw_32/bin/gcc -I"C:/Users/BIOCBU˜1/BBS-3˜1.9-B/R/include" -DNDEBUG -I"C:/extsoft/include" -O3 -Wall -std=gnu99 -mtune=generic -c matrix.c -o matrix.o
C:/Rtools/mingw_32/bin/gcc -shared -s -static-libgcc -o GlobalAncova.dll tmp.def GlobalAncova.o ludcmp.o matrix.o -LC:/extsoft/lib/i386 -LC:/extsoft/lib -LC:/Users/BIOCBU˜1/BBS-3˜1.9-B/R/bin/i386 -lR
installing to C:/Users/biocbuild/bbs-3.9-bioc/meat/GlobalAncova.buildbin-libdir/00LOCK-GlobalAncova/00new/GlobalAncova/libs/i386
** R
** data
** inst
** byte-compile and prepare package for lazy loading
** help
*** installing help indices
converting help for package 'GlobalAncova'
finding HTML links ... done
GAhier-class html
GlobalAncova-methods html
GlobalAncova html
GlobalAncova.closed-methods html
GlobalAncova.closed html
GlobalAncova.decomp html
Plot.all html
Plot.features html
Plot.genes-methods html
Plot.genes html
Plot.sequential html
Plot.subjects-methods html
Plot.subjects html
bindata html
colon.normal html
colon.pheno html
colon.tumour html
gGlobalAncova html
gGlobalAncova.hierarchical html
genesettesting html
pair.compare html
pathways html
phenodata html
vantVeer html
** building package indices
** installing vignettes
** testing if installed package can be loaded from temporary location
** testing if installed package can be loaded from final location
** testing if installed package keeps a record of temporary installation path
install for x64
* installing *source* package 'GlobalAncova' ...
** libs
C:/Rtools/mingw_64/bin/gcc -I"C:/Users/BIOCBU˜1/BBS-3˜1.9-B/R/include" -DNDEBUG -I"C:/extsoft/include" -O2 -Wall -std=gnu99 -mtune=generic -c GlobalAncova.c -o GlobalAncova.o
GlobalAncova.c: In function 'permut_withFperm':
GlobalAncova.c:186:16: warning: 'ord_perm' may be used uninitialized in this function [-Wmaybe-uninitialized]
n1 = ord_perm[j] ;
^
GlobalAncova.c: In function 'permut':
GlobalAncova.c:289:16: warning: 'ord_perm' may be used uninitialized in this function [-Wmaybe-uninitialized]
n1 = ord_perm[j] ;
^
C:/Rtools/mingw_64/bin/gcc -I"C:/Users/BIOCBU˜1/BBS-3˜1.9-B/R/include" -DNDEBUG -I"C:/extsoft/include" -O2 -Wall -std=gnu99 -mtune=generic -c ludcmp.c -o ludcmp.o
C:/Rtools/mingw_64/bin/gcc -I"C:/Users/BIOCBU˜1/BBS-3˜1.9-B/R/include" -DNDEBUG -I"C:/extsoft/include" -O2 -Wall -std=gnu99 -mtune=generic -c matrix.c -o matrix.o
C:/Rtools/mingw_64/bin/gcc -shared -s -static-libgcc -o GlobalAncova.dll tmp.def GlobalAncova.o ludcmp.o matrix.o -LC:/extsoft/lib/x64 -LC:/extsoft/lib -LC:/Users/BIOCBU˜1/BBS-3˜1.9-B/R/bin/x64 -lR
installing to C:/Users/biocbuild/bbs-3.9-bioc/meat/GlobalAncova.buildbin-libdir/GlobalAncova/libs/x64
** testing if installed package can be loaded
* MD5 sums
packaged installation of 'GlobalAncova' as GlobalAncova_4.1.0.zip
* DONE (GlobalAncova)