| Back to Multiple platform build/check report for BioC 3.9 |
|
This page was generated on 2019-04-09 12:50:56 -0400 (Tue, 09 Apr 2019).
| Package 676/1703 | Hostname | OS / Arch | INSTALL | BUILD | CHECK | BUILD BIN | ||||||
| GlobalAncova 4.1.0 Manuela Hummel
| malbec2 | Linux (Ubuntu 18.04.2 LTS) / x86_64 | OK | OK | OK | |||||||
| tokay2 | Windows Server 2012 R2 Standard / x64 | OK | OK | OK | OK | |||||||
| celaya2 | OS X 10.11.6 El Capitan / x86_64 | OK | [ OK ] | OK | OK | |||||||
| merida2 | OS X 10.11.6 El Capitan / x86_64 | OK | OK | OK | OK |
| Package: GlobalAncova |
| Version: 4.1.0 |
| Command: /Library/Frameworks/R.framework/Versions/Current/Resources/bin/R CMD build --keep-empty-dirs --no-resave-data GlobalAncova |
| StartedAt: 2019-04-08 19:31:18 -0400 (Mon, 08 Apr 2019) |
| EndedAt: 2019-04-08 19:57:24 -0400 (Mon, 08 Apr 2019) |
| EllapsedTime: 1565.1 seconds |
| RetCode: 0 |
| Status: OK |
| PackageFile: GlobalAncova_4.1.0.tar.gz |
| PackageFileSize: 1.059 MiB |
##############################################################################
##############################################################################
###
### Running command:
###
### /Library/Frameworks/R.framework/Versions/Current/Resources/bin/R CMD build --keep-empty-dirs --no-resave-data GlobalAncova
###
##############################################################################
##############################################################################
* checking for file ‘GlobalAncova/DESCRIPTION’ ... OK
* preparing ‘GlobalAncova’:
* checking DESCRIPTION meta-information ... OK
* cleaning src
* installing the package to build vignettes
* creating vignettes ... OK
Warning: ‘inst/doc’ file
‘GlobalAncovaDecomp.R’
ignored as vignettes have been rebuilt.
Run R CMD build with --no-build-vignettes to prevent rebuilding.
* cleaning src
* checking for LF line-endings in source and make files and shell scripts
* checking for empty or unneeded directories
* looking to see if a ‘data/datalist’ file should be added
* building ‘GlobalAncova_4.1.0.tar.gz’