| Back to Multiple platform build/check report for BioC 3.9 |
|
This page was generated on 2019-04-09 11:24:15 -0400 (Tue, 09 Apr 2019).
| Package 676/1703 | Hostname | OS / Arch | INSTALL | BUILD | CHECK | BUILD BIN | ||||||
| GlobalAncova 4.1.0 Manuela Hummel
| malbec2 | Linux (Ubuntu 18.04.2 LTS) / x86_64 | [ OK ] | OK | OK | |||||||
| tokay2 | Windows Server 2012 R2 Standard / x64 | OK | OK | OK | OK | |||||||
| celaya2 | OS X 10.11.6 El Capitan / x86_64 | OK | OK | OK | OK | |||||||
| merida2 | OS X 10.11.6 El Capitan / x86_64 | OK | OK | OK | OK |
| Package: GlobalAncova |
| Version: 4.1.0 |
| Command: /home/biocbuild/bbs-3.9-bioc/R/bin/R CMD INSTALL GlobalAncova |
| StartedAt: 2019-04-08 18:57:07 -0400 (Mon, 08 Apr 2019) |
| EndedAt: 2019-04-08 18:57:39 -0400 (Mon, 08 Apr 2019) |
| EllapsedTime: 31.5 seconds |
| RetCode: 0 |
| Status: OK |
##############################################################################
##############################################################################
###
### Running command:
###
### /home/biocbuild/bbs-3.9-bioc/R/bin/R CMD INSTALL GlobalAncova
###
##############################################################################
##############################################################################
* installing to library ‘/home/biocbuild/bbs-3.9-bioc/R/library’
* installing *source* package ‘GlobalAncova’ ...
** using staged installation
** libs
gcc -I"/home/biocbuild/bbs-3.9-bioc/R/include" -DNDEBUG -I/usr/local/include -fpic -g -O2 -Wall -c GlobalAncova.c -o GlobalAncova.o
GlobalAncova.c: In function ‘permut_withFperm’:
GlobalAncova.c:186:16: warning: ‘ord_perm’ may be used uninitialized in this function [-Wmaybe-uninitialized]
n1 = ord_perm[j] ;
˜˜˜^˜˜˜˜˜˜˜˜˜˜˜˜˜
GlobalAncova.c: In function ‘permut’:
GlobalAncova.c:289:16: warning: ‘ord_perm’ may be used uninitialized in this function [-Wmaybe-uninitialized]
n1 = ord_perm[j] ;
˜˜˜^˜˜˜˜˜˜˜˜˜˜˜˜˜
gcc -I"/home/biocbuild/bbs-3.9-bioc/R/include" -DNDEBUG -I/usr/local/include -fpic -g -O2 -Wall -c ludcmp.c -o ludcmp.o
gcc -I"/home/biocbuild/bbs-3.9-bioc/R/include" -DNDEBUG -I/usr/local/include -fpic -g -O2 -Wall -c matrix.c -o matrix.o
gcc -shared -L/home/biocbuild/bbs-3.9-bioc/R/lib -L/usr/local/lib -o GlobalAncova.so GlobalAncova.o ludcmp.o matrix.o -L/home/biocbuild/bbs-3.9-bioc/R/lib -lR
installing to /home/biocbuild/bbs-3.9-bioc/R/library/00LOCK-GlobalAncova/00new/GlobalAncova/libs
** R
** data
** inst
** byte-compile and prepare package for lazy loading
** help
*** installing help indices
** building package indices
** installing vignettes
** testing if installed package can be loaded from temporary location
** checking absolute paths in shared objects and dynamic libraries
** testing if installed package can be loaded from final location
** testing if installed package keeps a record of temporary installation path
* DONE (GlobalAncova)