| Back to Multiple platform build/check report for BioC 3.7 | 
 | 
This page was generated on 2018-10-17 08:59:06 -0400 (Wed, 17 Oct 2018).
| Package 1353/1561 | Hostname | OS / Arch | INSTALL | BUILD | CHECK | BUILD BIN | ||||||
| SeqSQC 1.2.0 Qian Liu 
 | malbec2 | Linux (Ubuntu 16.04.1 LTS) / x86_64 | OK | OK | OK |  | ||||||
| tokay2 | Windows Server 2012 R2 Standard / x64 | OK | OK | OK | OK |  | ||||||
| merida2 | OS X 10.11.6 El Capitan / x86_64 | OK | [ OK ] | OK | OK |  | 
| Package: SeqSQC | 
| Version: 1.2.0 | 
| Command: /Library/Frameworks/R.framework/Versions/Current/Resources/bin/R CMD build --keep-empty-dirs --no-resave-data SeqSQC | 
| StartedAt: 2018-10-16 19:00:23 -0400 (Tue, 16 Oct 2018) | 
| EndedAt: 2018-10-16 19:01:21 -0400 (Tue, 16 Oct 2018) | 
| EllapsedTime: 58.1 seconds | 
| RetCode: 0 | 
| Status: OK | 
| PackageFile: SeqSQC_1.2.0.tar.gz | 
| PackageFileSize: 3.74 MiB | 
############################################################################## ############################################################################## ### ### Running command: ### ### /Library/Frameworks/R.framework/Versions/Current/Resources/bin/R CMD build --keep-empty-dirs --no-resave-data SeqSQC ### ############################################################################## ############################################################################## * checking for file ‘SeqSQC/DESCRIPTION’ ... OK * preparing ‘SeqSQC’: * checking DESCRIPTION meta-information ... OK * installing the package to build vignettes * creating vignettes ... OK * checking for LF line-endings in source and make files and shell scripts * checking for empty or unneeded directories * building ‘SeqSQC_1.2.0.tar.gz’