| Back to Multiple platform build/check report for BioC 3.7 | 
 | 
This page was generated on 2018-10-17 08:30:55 -0400 (Wed, 17 Oct 2018).
| Package 1353/1561 | Hostname | OS / Arch | INSTALL | BUILD | CHECK | BUILD BIN | ||||||
| SeqSQC 1.2.0 Qian Liu 
 | malbec2 | Linux (Ubuntu 16.04.1 LTS) / x86_64 | OK | [ OK ] | OK |  | ||||||
| tokay2 | Windows Server 2012 R2 Standard / x64 | OK | OK | OK | OK |  | ||||||
| merida2 | OS X 10.11.6 El Capitan / x86_64 | OK | OK | OK | OK |  | 
| Package: SeqSQC | 
| Version: 1.2.0 | 
| Command: /home/biocbuild/bbs-3.7-bioc/R/bin/R CMD build --keep-empty-dirs --no-resave-data SeqSQC | 
| StartedAt: 2018-10-15 21:50:05 -0400 (Mon, 15 Oct 2018) | 
| EndedAt: 2018-10-15 21:50:49 -0400 (Mon, 15 Oct 2018) | 
| EllapsedTime: 43.9 seconds | 
| RetCode: 0 | 
| Status: OK | 
| PackageFile: SeqSQC_1.2.0.tar.gz | 
| PackageFileSize: 3.631 MiB | 
############################################################################## ############################################################################## ### ### Running command: ### ### /home/biocbuild/bbs-3.7-bioc/R/bin/R CMD build --keep-empty-dirs --no-resave-data SeqSQC ### ############################################################################## ############################################################################## * checking for file ‘SeqSQC/DESCRIPTION’ ... OK * preparing ‘SeqSQC’: * checking DESCRIPTION meta-information ... OK * installing the package to build vignettes * creating vignettes ... OK * checking for LF line-endings in source and make files and shell scripts * checking for empty or unneeded directories * building ‘SeqSQC_1.2.0.tar.gz’