| Back to Multiple platform build/check report for BioC 3.7 | 
 | 
This page was generated on 2018-10-17 08:30:56 -0400 (Wed, 17 Oct 2018).
| Package 1353/1561 | Hostname | OS / Arch | INSTALL | BUILD | CHECK | BUILD BIN | ||||||
| SeqSQC 1.2.0 Qian Liu 
 | malbec2 | Linux (Ubuntu 16.04.1 LTS) / x86_64 | OK | OK | [ OK ] |  | ||||||
| tokay2 | Windows Server 2012 R2 Standard / x64 | OK | OK | OK | OK |  | ||||||
| merida2 | OS X 10.11.6 El Capitan / x86_64 | OK | OK | OK | OK |  | 
| Package: SeqSQC | 
| Version: 1.2.0 | 
| Command: /home/biocbuild/bbs-3.7-bioc/R/bin/R CMD check --install=check:SeqSQC.install-out.txt --library=/home/biocbuild/bbs-3.7-bioc/R/library --no-vignettes --timings SeqSQC_1.2.0.tar.gz | 
| StartedAt: 2018-10-16 03:42:38 -0400 (Tue, 16 Oct 2018) | 
| EndedAt: 2018-10-16 03:45:03 -0400 (Tue, 16 Oct 2018) | 
| EllapsedTime: 144.6 seconds | 
| RetCode: 0 | 
| Status: OK | 
| CheckDir: SeqSQC.Rcheck | 
| Warnings: 0 | 
##############################################################################
##############################################################################
###
### Running command:
###
###   /home/biocbuild/bbs-3.7-bioc/R/bin/R CMD check --install=check:SeqSQC.install-out.txt --library=/home/biocbuild/bbs-3.7-bioc/R/library --no-vignettes --timings SeqSQC_1.2.0.tar.gz
###
##############################################################################
##############################################################################
* using log directory ‘/home/biocbuild/bbs-3.7-bioc/meat/SeqSQC.Rcheck’
* using R version 3.5.1 Patched (2018-07-12 r74967)
* using platform: x86_64-pc-linux-gnu (64-bit)
* using session charset: UTF-8
* using option ‘--no-vignettes’
* checking for file ‘SeqSQC/DESCRIPTION’ ... OK
* this is package ‘SeqSQC’ version ‘1.2.0’
* package encoding: UTF-8
* checking package namespace information ... OK
* checking package dependencies ... OK
* checking if this is a source package ... OK
* checking if there is a namespace ... OK
* checking for hidden files and directories ... OK
* checking for portable file names ... OK
* checking for sufficient/correct file permissions ... OK
* checking whether package ‘SeqSQC’ can be installed ... OK
* checking installed package size ... OK
* checking package directory ... OK
* checking ‘build’ directory ... OK
* checking DESCRIPTION meta-information ... OK
* checking top-level files ... OK
* checking for left-over files ... OK
* checking index information ... OK
* checking package subdirectories ... OK
* checking R files for non-ASCII characters ... OK
* checking R files for syntax errors ... OK
* checking whether the package can be loaded ... OK
* checking whether the package can be loaded with stated dependencies ... OK
* checking whether the package can be unloaded cleanly ... OK
* checking whether the namespace can be loaded with stated dependencies ... OK
* checking whether the namespace can be unloaded cleanly ... OK
* checking dependencies in R code ... OK
* checking S3 generic/method consistency ... OK
* checking replacement functions ... OK
* checking foreign function calls ... OK
* checking R code for possible problems ... OK
* checking Rd files ... OK
* checking Rd metadata ... OK
* checking Rd cross-references ... OK
* checking for missing documentation entries ... OK
* checking for code/documentation mismatches ... OK
* checking Rd \usage sections ... OK
* checking Rd contents ... OK
* checking for unstated dependencies in examples ... OK
* checking files in ‘vignettes’ ... OK
* checking examples ... OK
Examples with CPU or elapsed time > 5s
            user system elapsed
LoadVfile 14.944   1.64  23.202
* checking for unstated dependencies in ‘tests’ ... OK
* checking tests ...
  Running ‘testthat.R’
 OK
* checking for unstated dependencies in vignettes ... OK
* checking package vignettes in ‘inst/doc’ ... OK
* checking running R code from vignettes ... SKIPPED
* checking re-building of vignette outputs ... SKIPPED
* checking PDF version of manual ... OK
* DONE
Status: OK
SeqSQC.Rcheck/00install.out
############################################################################## ############################################################################## ### ### Running command: ### ### /home/biocbuild/bbs-3.7-bioc/R/bin/R CMD INSTALL SeqSQC ### ############################################################################## ############################################################################## * installing to library ‘/home/biocbuild/bbs-3.7-bioc/R/library’ * installing *source* package ‘SeqSQC’ ... ** R ** inst ** byte-compile and prepare package for lazy loading ** help *** installing help indices ** building package indices ** installing vignettes ** testing if installed package can be loaded * DONE (SeqSQC)
SeqSQC.Rcheck/tests/testthat.Rout
R version 3.5.1 Patched (2018-07-12 r74967) -- "Feather Spray"
Copyright (C) 2018 The R Foundation for Statistical Computing
Platform: x86_64-pc-linux-gnu (64-bit)
R is free software and comes with ABSOLUTELY NO WARRANTY.
You are welcome to redistribute it under certain conditions.
Type 'license()' or 'licence()' for distribution details.
R is a collaborative project with many contributors.
Type 'contributors()' for more information and
'citation()' on how to cite R or R packages in publications.
Type 'demo()' for some demos, 'help()' for on-line help, or
'help.start()' for an HTML browser interface to help.
Type 'q()' to quit R.
> library(testthat)
> library(SeqSQC)
Loading required package: ExperimentHub
Loading required package: BiocGenerics
Loading required package: parallel
Attaching package: 'BiocGenerics'
The following objects are masked from 'package:parallel':
    clusterApply, clusterApplyLB, clusterCall, clusterEvalQ,
    clusterExport, clusterMap, parApply, parCapply, parLapply,
    parLapplyLB, parRapply, parSapply, parSapplyLB
The following objects are masked from 'package:stats':
    IQR, mad, sd, var, xtabs
The following objects are masked from 'package:base':
    Filter, Find, Map, Position, Reduce, anyDuplicated, append,
    as.data.frame, basename, cbind, colMeans, colSums, colnames,
    dirname, do.call, duplicated, eval, evalq, get, grep, grepl,
    intersect, is.unsorted, lapply, lengths, mapply, match, mget,
    order, paste, pmax, pmax.int, pmin, pmin.int, rank, rbind,
    rowMeans, rowSums, rownames, sapply, setdiff, sort, table, tapply,
    union, unique, unsplit, which, which.max, which.min
Loading required package: AnnotationHub
Loading required package: SNPRelate
Loading required package: gdsfmt
SNPRelate -- supported by Streaming SIMD Extensions 2 (SSE2)
> 
> test_check("SeqSQC")
══ testthat results  ═══════════════════════════════════════════════════════════
OK: 1 SKIPPED: 0 FAILED: 0
> 
> proc.time()
   user  system elapsed 
  4.256   0.136   5.070 
SeqSQC.Rcheck/SeqSQC-Ex.timings
| name | user | system | elapsed | |
| IBDCheck | 0.636 | 0.016 | 0.705 | |
| IBDRemove | 0.456 | 0.004 | 0.460 | |
| Inbreeding | 0.172 | 0.004 | 0.175 | |
| LoadVfile | 14.944 | 1.640 | 23.202 | |
| MissingRate | 0.124 | 0.060 | 0.181 | |
| PCACheck | 0.624 | 0.032 | 0.658 | |
| RenderReport | 3.376 | 0.236 | 3.646 | |
| SeqOpen | 0.024 | 0.004 | 0.027 | |
| SeqSQC-class | 0.012 | 0.000 | 0.012 | |
| SexCheck | 0.164 | 0.000 | 0.176 | |
| plotQC | 0.388 | 0.012 | 0.403 | |
| problemList | 0.016 | 0.004 | 0.020 | |
| sampleQC | 0 | 0 | 0 | |