Back to Multiple platform build/check report for BioC 3.22: simplified long |
|
This page was generated on 2025-10-18 12:06 -0400 (Sat, 18 Oct 2025).
Hostname | OS | Arch (*) | R version | Installed pkgs |
---|---|---|---|---|
nebbiolo2 | Linux (Ubuntu 24.04.3 LTS) | x86_64 | 4.5.1 Patched (2025-08-23 r88802) -- "Great Square Root" | 4887 |
lconway | macOS 12.7.6 Monterey | x86_64 | 4.5.1 Patched (2025-09-10 r88807) -- "Great Square Root" | 4677 |
kjohnson3 | macOS 13.7.7 Ventura | arm64 | 4.5.1 Patched (2025-09-10 r88807) -- "Great Square Root" | 4622 |
taishan | Linux (openEuler 24.03 LTS) | aarch64 | 4.5.0 (2025-04-11) -- "How About a Twenty-Six" | 4632 |
Click on any hostname to see more info about the system (e.g. compilers) (*) as reported by 'uname -p', except on Windows and Mac OS X |
Package 916/2353 | Hostname | OS / Arch | INSTALL | BUILD | CHECK | BUILD BIN | ||||||||
GRaNIE 1.13.0 (landing page) Christian Arnold
| nebbiolo2 | Linux (Ubuntu 24.04.3 LTS) / x86_64 | OK | OK | OK | ![]() | ||||||||
lconway | macOS 12.7.6 Monterey / x86_64 | OK | OK | OK | OK | ![]() | ||||||||
kjohnson3 | macOS 13.7.7 Ventura / arm64 | OK | OK | OK | OK | ![]() | ||||||||
taishan | Linux (openEuler 24.03 LTS) / aarch64 | OK | OK | ERROR | ||||||||||
To the developers/maintainers of the GRaNIE package: - Allow up to 24 hours (and sometimes 48 hours) for your latest push to git@git.bioconductor.org:packages/GRaNIE.git to reflect on this report. See Troubleshooting Build Report for more information. - Use the following Renviron settings to reproduce errors and warnings. - If 'R CMD check' started to fail recently on the Linux builder(s) over a missing dependency, add the missing dependency to 'Suggests:' in your DESCRIPTION file. See Renviron.bioc for more information. |
Package: GRaNIE |
Version: 1.13.0 |
Command: /Library/Frameworks/R.framework/Resources/bin/R CMD check --install=check:GRaNIE.install-out.txt --library=/Library/Frameworks/R.framework/Resources/library --no-vignettes --timings GRaNIE_1.13.0.tar.gz |
StartedAt: 2025-10-17 20:09:41 -0400 (Fri, 17 Oct 2025) |
EndedAt: 2025-10-17 20:12:54 -0400 (Fri, 17 Oct 2025) |
EllapsedTime: 193.3 seconds |
RetCode: 0 |
Status: OK |
CheckDir: GRaNIE.Rcheck |
Warnings: 0 |
############################################################################## ############################################################################## ### ### Running command: ### ### /Library/Frameworks/R.framework/Resources/bin/R CMD check --install=check:GRaNIE.install-out.txt --library=/Library/Frameworks/R.framework/Resources/library --no-vignettes --timings GRaNIE_1.13.0.tar.gz ### ############################################################################## ############################################################################## * using log directory ‘/Users/biocbuild/bbs-3.22-bioc/meat/GRaNIE.Rcheck’ * using R version 4.5.1 Patched (2025-09-10 r88807) * using platform: aarch64-apple-darwin20 * R was compiled by Apple clang version 16.0.0 (clang-1600.0.26.6) GNU Fortran (GCC) 14.2.0 * running under: macOS Ventura 13.7.7 * using session charset: UTF-8 * using option ‘--no-vignettes’ * checking for file ‘GRaNIE/DESCRIPTION’ ... OK * this is package ‘GRaNIE’ version ‘1.13.0’ * package encoding: UTF-8 * checking package namespace information ... OK * checking package dependencies ... INFO Imports includes 37 non-default packages. Importing from so many packages makes the package vulnerable to any of them becoming unavailable. Move as many as possible to Suggests and use conditionally. * checking if this is a source package ... OK * checking if there is a namespace ... OK * checking for hidden files and directories ... OK * checking for portable file names ... OK * checking for sufficient/correct file permissions ... OK * checking whether package ‘GRaNIE’ can be installed ... OK * checking installed package size ... OK * checking package directory ... OK * checking ‘build’ directory ... OK * checking DESCRIPTION meta-information ... OK * checking top-level files ... OK * checking for left-over files ... OK * checking index information ... OK * checking package subdirectories ... OK * checking code files for non-ASCII characters ... OK * checking R files for syntax errors ... OK * checking whether the package can be loaded ... OK * checking whether the package can be loaded with stated dependencies ... OK * checking whether the package can be unloaded cleanly ... OK * checking whether the namespace can be loaded with stated dependencies ... OK * checking whether the namespace can be unloaded cleanly ... OK * checking whether startup messages can be suppressed ... OK * checking dependencies in R code ... OK * checking S3 generic/method consistency ... OK * checking replacement functions ... OK * checking foreign function calls ... OK * checking R code for possible problems ... NOTE .performIHW: no visible binding for global variable 'adj_pvalue' Undefined global functions or variables: adj_pvalue * checking Rd files ... OK * checking Rd metadata ... OK * checking Rd cross-references ... OK * checking for missing documentation entries ... OK * checking for code/documentation mismatches ... OK * checking Rd \usage sections ... OK * checking Rd contents ... OK * checking for unstated dependencies in examples ... OK * checking files in ‘vignettes’ ... OK * checking examples ... OK * checking for unstated dependencies in vignettes ... OK * checking package vignettes ... OK * checking running R code from vignettes ... SKIPPED * checking re-building of vignette outputs ... SKIPPED * checking PDF version of manual ... OK * DONE Status: 1 NOTE See ‘/Users/biocbuild/bbs-3.22-bioc/meat/GRaNIE.Rcheck/00check.log’ for details.
GRaNIE.Rcheck/00install.out
############################################################################## ############################################################################## ### ### Running command: ### ### /Library/Frameworks/R.framework/Resources/bin/R CMD INSTALL GRaNIE ### ############################################################################## ############################################################################## * installing to library ‘/Library/Frameworks/R.framework/Versions/4.5-arm64/Resources/library’ * installing *source* package ‘GRaNIE’ ... ** this is package ‘GRaNIE’ version ‘1.13.0’ ** using staged installation ** R ** byte-compile and prepare package for lazy loading ** help *** installing help indices *** copying figures ** building package indices ** installing vignettes ** testing if installed package can be loaded from temporary location ** testing if installed package can be loaded from final location ** testing if installed package keeps a record of temporary installation path * DONE (GRaNIE)
GRaNIE.Rcheck/GRaNIE-Ex.timings
name | user | system | elapsed | |
AR_classification_wrapper | 0 | 0 | 0 | |
addConnections_TF_peak | 2.131 | 0.249 | 4.773 | |
addConnections_peak_gene | 1.230 | 0.021 | 2.122 | |
addData | 0 | 0 | 0 | |
addSNPData | 2.376 | 0.138 | 4.897 | |
addTFBS | 0 | 0 | 0 | |
add_TF_gene_correlation | 0.835 | 0.018 | 1.658 | |
add_featureVariation | 0 | 0 | 0 | |
build_eGRN_graph | 0.812 | 0.029 | 1.386 | |
calculateCommunitiesEnrichment | 1.232 | 0.048 | 2.014 | |
calculateCommunitiesStats | 0.947 | 0.030 | 1.480 | |
calculateGeneralEnrichment | 0.932 | 0.022 | 1.377 | |
calculateTFEnrichment | 0.922 | 0.020 | 1.359 | |
changeOutputDirectory | 1.328 | 0.021 | 1.759 | |
deleteIntermediateData | 0.781 | 0.016 | 1.257 | |
filterConnectionsForPlotting | 0.792 | 0.017 | 1.275 | |
filterData | 1.036 | 0.027 | 1.465 | |
filterGRNAndConnectGenes | 0.839 | 0.021 | 1.249 | |
generateStatsSummary | 2.604 | 0.087 | 3.158 | |
getCounts | 1.390 | 0.040 | 1.849 | |
getGRNConnections | 0.770 | 0.014 | 1.192 | |
getGRNSummary | 0.963 | 0.027 | 1.408 | |
getParameters | 0.908 | 0.023 | 1.771 | |
getTopNodes | 1.050 | 0.032 | 1.992 | |
initializeGRN | 0.005 | 0.001 | 0.006 | |
loadExampleObject | 1.001 | 0.047 | 1.979 | |
nGenes | 1.396 | 0.033 | 2.293 | |
nPeaks | 0.934 | 0.030 | 1.698 | |
nTFs | 0.951 | 0.023 | 1.902 | |
overlapPeaksAndTFBS | 1.331 | 0.029 | 2.234 | |
performAllNetworkAnalyses | 0 | 0 | 0 | |
plotCommunitiesEnrichment | 1.459 | 0.057 | 2.371 | |
plotCommunitiesStats | 1.557 | 0.027 | 2.603 | |
plotCorrelations | 1.024 | 0.038 | 1.609 | |
plotDiagnosticPlots_TFPeaks | 1.461 | 0.042 | 2.397 | |
plotDiagnosticPlots_peakGene | 2.164 | 0.062 | 3.202 | |
plotGeneralEnrichment | 0.880 | 0.018 | 1.310 | |
plotGeneralGraphStats | 1.165 | 0.023 | 1.646 | |
plotPCA_all | 1.096 | 0.052 | 1.571 | |
plotTFEnrichment | 1.064 | 0.022 | 1.500 | |
plot_stats_connectionSummary | 1.026 | 0.034 | 1.483 | |
visualizeGRN | 1.862 | 0.063 | 2.384 | |