Back to Multiple platform build/check report for BioC 3.22:   simplified   long
ABCDEF[G]HIJKLMNOPQRSTUVWXYZ

This page was generated on 2025-10-18 12:04 -0400 (Sat, 18 Oct 2025).

HostnameOSArch (*)R versionInstalled pkgs
nebbiolo2Linux (Ubuntu 24.04.3 LTS)x86_644.5.1 Patched (2025-08-23 r88802) -- "Great Square Root" 4887
lconwaymacOS 12.7.6 Montereyx86_644.5.1 Patched (2025-09-10 r88807) -- "Great Square Root" 4677
kjohnson3macOS 13.7.7 Venturaarm644.5.1 Patched (2025-09-10 r88807) -- "Great Square Root" 4622
taishanLinux (openEuler 24.03 LTS)aarch644.5.0 (2025-04-11) -- "How About a Twenty-Six" 4632
Click on any hostname to see more info about the system (e.g. compilers)      (*) as reported by 'uname -p', except on Windows and Mac OS X

Package 916/2353HostnameOS / ArchINSTALLBUILDCHECKBUILD BIN
GRaNIE 1.13.0  (landing page)
Christian Arnold
Snapshot Date: 2025-10-17 13:45 -0400 (Fri, 17 Oct 2025)
git_url: https://git.bioconductor.org/packages/GRaNIE
git_branch: devel
git_last_commit: a6d5f09
git_last_commit_date: 2025-04-15 12:51:24 -0400 (Tue, 15 Apr 2025)
nebbiolo2Linux (Ubuntu 24.04.3 LTS) / x86_64  OK    OK    OK  UNNEEDED, same version is already published
lconwaymacOS 12.7.6 Monterey / x86_64  OK    OK    OK    OK  UNNEEDED, same version is already published
kjohnson3macOS 13.7.7 Ventura / arm64  OK    OK    OK    OK  UNNEEDED, same version is already published
taishanLinux (openEuler 24.03 LTS) / aarch64  OK    OK    ERROR  


CHECK results for GRaNIE on lconway

To the developers/maintainers of the GRaNIE package:
- Allow up to 24 hours (and sometimes 48 hours) for your latest push to git@git.bioconductor.org:packages/GRaNIE.git to reflect on this report. See Troubleshooting Build Report for more information.
- Use the following Renviron settings to reproduce errors and warnings.
- If 'R CMD check' started to fail recently on the Linux builder(s) over a missing dependency, add the missing dependency to 'Suggests:' in your DESCRIPTION file. See Renviron.bioc for more information.

raw results


Summary

Package: GRaNIE
Version: 1.13.0
Command: /Library/Frameworks/R.framework/Resources/bin/R CMD check --install=check:GRaNIE.install-out.txt --library=/Library/Frameworks/R.framework/Resources/library --no-vignettes --timings GRaNIE_1.13.0.tar.gz
StartedAt: 2025-10-17 22:42:13 -0400 (Fri, 17 Oct 2025)
EndedAt: 2025-10-17 22:51:54 -0400 (Fri, 17 Oct 2025)
EllapsedTime: 581.6 seconds
RetCode: 0
Status:   OK  
CheckDir: GRaNIE.Rcheck
Warnings: 0

Command output

##############################################################################
##############################################################################
###
### Running command:
###
###   /Library/Frameworks/R.framework/Resources/bin/R CMD check --install=check:GRaNIE.install-out.txt --library=/Library/Frameworks/R.framework/Resources/library --no-vignettes --timings GRaNIE_1.13.0.tar.gz
###
##############################################################################
##############################################################################


* using log directory ‘/Users/biocbuild/bbs-3.22-bioc/meat/GRaNIE.Rcheck’
* using R version 4.5.1 Patched (2025-09-10 r88807)
* using platform: x86_64-apple-darwin20
* R was compiled by
    Apple clang version 14.0.0 (clang-1400.0.29.202)
    GNU Fortran (GCC) 14.2.0
* running under: macOS Monterey 12.7.6
* using session charset: UTF-8
* using option ‘--no-vignettes’
* checking for file ‘GRaNIE/DESCRIPTION’ ... OK
* this is package ‘GRaNIE’ version ‘1.13.0’
* package encoding: UTF-8
* checking package namespace information ... OK
* checking package dependencies ... INFO
Imports includes 37 non-default packages.
Importing from so many packages makes the package vulnerable to any of
them becoming unavailable.  Move as many as possible to Suggests and
use conditionally.
* checking if this is a source package ... OK
* checking if there is a namespace ... OK
* checking for hidden files and directories ... OK
* checking for portable file names ... OK
* checking for sufficient/correct file permissions ... OK
* checking whether package ‘GRaNIE’ can be installed ... OK
* checking installed package size ... OK
* checking package directory ... OK
* checking ‘build’ directory ... OK
* checking DESCRIPTION meta-information ... OK
* checking top-level files ... OK
* checking for left-over files ... OK
* checking index information ... OK
* checking package subdirectories ... OK
* checking code files for non-ASCII characters ... OK
* checking R files for syntax errors ... OK
* checking whether the package can be loaded ... OK
* checking whether the package can be loaded with stated dependencies ... OK
* checking whether the package can be unloaded cleanly ... OK
* checking whether the namespace can be loaded with stated dependencies ... OK
* checking whether the namespace can be unloaded cleanly ... OK
* checking whether startup messages can be suppressed ... OK
* checking dependencies in R code ... OK
* checking S3 generic/method consistency ... OK
* checking replacement functions ... OK
* checking foreign function calls ... OK
* checking R code for possible problems ... NOTE
.performIHW: no visible binding for global variable 'adj_pvalue'
Undefined global functions or variables:
  adj_pvalue
* checking Rd files ... OK
* checking Rd metadata ... OK
* checking Rd cross-references ... OK
* checking for missing documentation entries ... OK
* checking for code/documentation mismatches ... OK
* checking Rd \usage sections ... OK
* checking Rd contents ... OK
* checking for unstated dependencies in examples ... OK
* checking files in ‘vignettes’ ... OK
* checking examples ... OK
Examples with CPU (user + system) or elapsed time > 5s
                              user system elapsed
generateStatsSummary         8.293  0.276   9.161
addConnections_TF_peak       5.837  1.438  10.869
plotDiagnosticPlots_peakGene 5.803  0.141   6.382
addSNPData                   4.837  0.426   6.514
plotCommunitiesEnrichment    4.923  0.171   5.531
plotCommunitiesStats         4.692  0.121   5.246
* checking for unstated dependencies in vignettes ... OK
* checking package vignettes ... OK
* checking running R code from vignettes ... SKIPPED
* checking re-building of vignette outputs ... SKIPPED
* checking PDF version of manual ... OK
* DONE

Status: 1 NOTE
See
  ‘/Users/biocbuild/bbs-3.22-bioc/meat/GRaNIE.Rcheck/00check.log’
for details.


Installation output

GRaNIE.Rcheck/00install.out

##############################################################################
##############################################################################
###
### Running command:
###
###   /Library/Frameworks/R.framework/Resources/bin/R CMD INSTALL GRaNIE
###
##############################################################################
##############################################################################


* installing to library ‘/Library/Frameworks/R.framework/Versions/4.5-x86_64/Resources/library’
* installing *source* package ‘GRaNIE’ ...
** this is package ‘GRaNIE’ version ‘1.13.0’
** using staged installation
** R
** byte-compile and prepare package for lazy loading
** help
*** installing help indices
*** copying figures
** building package indices
** installing vignettes
** testing if installed package can be loaded from temporary location
** testing if installed package can be loaded from final location
** testing if installed package keeps a record of temporary installation path
* DONE (GRaNIE)

Tests output


Example timings

GRaNIE.Rcheck/GRaNIE-Ex.timings

nameusersystemelapsed
AR_classification_wrapper0.0000.0000.001
addConnections_TF_peak 5.837 1.43810.869
addConnections_peak_gene2.8500.0793.363
addData0.0000.0010.000
addSNPData4.8370.4266.514
addTFBS000
add_TF_gene_correlation2.8490.0893.352
add_featureVariation0.0000.0000.001
build_eGRN_graph1.8760.0672.387
calculateCommunitiesEnrichment4.0160.2194.689
calculateCommunitiesStats1.9550.0592.420
calculateGeneralEnrichment2.2240.0772.744
calculateTFEnrichment2.3080.1032.852
changeOutputDirectory1.9950.0792.559
deleteIntermediateData2.0110.0782.532
filterConnectionsForPlotting2.1630.0902.734
filterData2.4650.0832.969
filterGRNAndConnectGenes2.1520.0782.682
generateStatsSummary8.2930.2769.161
getCounts1.9880.0642.512
getGRNConnections2.0080.1032.577
getGRNSummary2.5590.0853.076
getParameters3.0220.1183.599
getTopNodes2.1350.0712.638
initializeGRN0.0180.0020.020
loadExampleObject1.9370.0572.407
nGenes2.0980.0772.629
nPeaks2.1200.0742.618
nTFs2.0010.0652.486
overlapPeaksAndTFBS2.0520.0642.550
performAllNetworkAnalyses0.0000.0010.000
plotCommunitiesEnrichment4.9230.1715.531
plotCommunitiesStats4.6920.1215.246
plotCorrelations3.7910.1164.354
plotDiagnosticPlots_TFPeaks3.9730.1154.526
plotDiagnosticPlots_peakGene5.8030.1416.382
plotGeneralEnrichment2.3760.0762.865
plotGeneralGraphStats3.6320.0684.142
plotPCA_all4.1870.1624.820
plotTFEnrichment2.9900.0893.522
plot_stats_connectionSummary2.7930.1003.340
visualizeGRN3.5140.1504.105