| Back to Multiple platform build/check report for BioC 3.22: simplified long |
|
This page was generated on 2025-11-20 12:06 -0500 (Thu, 20 Nov 2025).
| Hostname | OS | Arch (*) | R version | Installed pkgs |
|---|---|---|---|---|
| nebbiolo2 | Linux (Ubuntu 24.04.3 LTS) | x86_64 | 4.5.2 (2025-10-31) -- "[Not] Part in a Rumble" | 4615 |
| merida1 | macOS 12.7.6 Monterey | x86_64 | 4.5.2 Patched (2025-11-05 r88990) -- "[Not] Part in a Rumble" | 4610 |
| kjohnson1 | macOS 13.7.5 Ventura | arm64 | 4.5.2 Patched (2025-11-04 r88984) -- "[Not] Part in a Rumble" | 4598 |
| taishan | Linux (openEuler 24.03 LTS) | aarch64 | 4.5.0 (2025-04-11) -- "How About a Twenty-Six" | 4668 |
| Click on any hostname to see more info about the system (e.g. compilers) (*) as reported by 'uname -p', except on Windows and Mac OS X | ||||
| Package 920/2361 | Hostname | OS / Arch | INSTALL | BUILD | CHECK | BUILD BIN | ||||||||
| GRaNIE 1.14.0 (landing page) Christian Arnold
| nebbiolo2 | Linux (Ubuntu 24.04.3 LTS) / x86_64 | OK | OK | OK | |||||||||
| merida1 | macOS 12.7.6 Monterey / x86_64 | OK | OK | OK | OK | |||||||||
| kjohnson1 | macOS 13.7.5 Ventura / arm64 | OK | OK | OK | OK | |||||||||
| taishan | Linux (openEuler 24.03 LTS) / aarch64 | OK | OK | OK | ||||||||||
|
To the developers/maintainers of the GRaNIE package: - Allow up to 24 hours (and sometimes 48 hours) for your latest push to git@git.bioconductor.org:packages/GRaNIE.git to reflect on this report. See Troubleshooting Build Report for more information. - Use the following Renviron settings to reproduce errors and warnings. - If 'R CMD check' started to fail recently on the Linux builder(s) over a missing dependency, add the missing dependency to 'Suggests:' in your DESCRIPTION file. See Renviron.bioc for more information. |
| Package: GRaNIE |
| Version: 1.14.0 |
| Command: /Library/Frameworks/R.framework/Resources/bin/R CMD check --install=check:GRaNIE.install-out.txt --library=/Library/Frameworks/R.framework/Resources/library --no-vignettes --timings GRaNIE_1.14.0.tar.gz |
| StartedAt: 2025-11-18 07:22:26 -0500 (Tue, 18 Nov 2025) |
| EndedAt: 2025-11-18 07:26:08 -0500 (Tue, 18 Nov 2025) |
| EllapsedTime: 222.2 seconds |
| RetCode: 0 |
| Status: OK |
| CheckDir: GRaNIE.Rcheck |
| Warnings: 0 |
##############################################################################
##############################################################################
###
### Running command:
###
### /Library/Frameworks/R.framework/Resources/bin/R CMD check --install=check:GRaNIE.install-out.txt --library=/Library/Frameworks/R.framework/Resources/library --no-vignettes --timings GRaNIE_1.14.0.tar.gz
###
##############################################################################
##############################################################################
* using log directory ‘/Users/biocbuild/bbs-3.22-bioc/meat/GRaNIE.Rcheck’
* using R version 4.5.2 Patched (2025-11-04 r88984)
* using platform: aarch64-apple-darwin20
* R was compiled by
Apple clang version 16.0.0 (clang-1600.0.26.6)
GNU Fortran (GCC) 14.2.0
* running under: macOS Ventura 13.7.8
* using session charset: UTF-8
* using option ‘--no-vignettes’
* checking for file ‘GRaNIE/DESCRIPTION’ ... OK
* this is package ‘GRaNIE’ version ‘1.14.0’
* package encoding: UTF-8
* checking package namespace information ... OK
* checking package dependencies ... INFO
Imports includes 37 non-default packages.
Importing from so many packages makes the package vulnerable to any of
them becoming unavailable. Move as many as possible to Suggests and
use conditionally.
* checking if this is a source package ... OK
* checking if there is a namespace ... OK
* checking for hidden files and directories ... OK
* checking for portable file names ... OK
* checking for sufficient/correct file permissions ... OK
* checking whether package ‘GRaNIE’ can be installed ... OK
* checking installed package size ... OK
* checking package directory ... OK
* checking ‘build’ directory ... OK
* checking DESCRIPTION meta-information ... OK
* checking top-level files ... OK
* checking for left-over files ... OK
* checking index information ... OK
* checking package subdirectories ... OK
* checking code files for non-ASCII characters ... OK
* checking R files for syntax errors ... OK
* checking whether the package can be loaded ... OK
* checking whether the package can be loaded with stated dependencies ... OK
* checking whether the package can be unloaded cleanly ... OK
* checking whether the namespace can be loaded with stated dependencies ... OK
* checking whether the namespace can be unloaded cleanly ... OK
* checking whether startup messages can be suppressed ... OK
* checking dependencies in R code ... OK
* checking S3 generic/method consistency ... OK
* checking replacement functions ... OK
* checking foreign function calls ... OK
* checking R code for possible problems ... NOTE
.performIHW: no visible binding for global variable 'adj_pvalue'
Undefined global functions or variables:
adj_pvalue
* checking Rd files ... OK
* checking Rd metadata ... OK
* checking Rd cross-references ... OK
* checking for missing documentation entries ... OK
* checking for code/documentation mismatches ... OK
* checking Rd \usage sections ... OK
* checking Rd contents ... OK
* checking for unstated dependencies in examples ... OK
* checking files in ‘vignettes’ ... OK
* checking examples ... OK
* checking for unstated dependencies in vignettes ... OK
* checking package vignettes ... OK
* checking running R code from vignettes ... SKIPPED
* checking re-building of vignette outputs ... SKIPPED
* checking PDF version of manual ... OK
* DONE
Status: 1 NOTE
See
‘/Users/biocbuild/bbs-3.22-bioc/meat/GRaNIE.Rcheck/00check.log’
for details.
GRaNIE.Rcheck/00install.out
############################################################################## ############################################################################## ### ### Running command: ### ### /Library/Frameworks/R.framework/Resources/bin/R CMD INSTALL GRaNIE ### ############################################################################## ############################################################################## * installing to library ‘/Library/Frameworks/R.framework/Versions/4.5-arm64/Resources/library’ * installing *source* package ‘GRaNIE’ ... ** this is package ‘GRaNIE’ version ‘1.14.0’ ** using staged installation ** R ** byte-compile and prepare package for lazy loading ** help *** installing help indices *** copying figures ** building package indices ** installing vignettes ** testing if installed package can be loaded from temporary location ** testing if installed package can be loaded from final location ** testing if installed package keeps a record of temporary installation path * DONE (GRaNIE)
GRaNIE.Rcheck/GRaNIE-Ex.timings
| name | user | system | elapsed | |
| AR_classification_wrapper | 0 | 0 | 0 | |
| addConnections_TF_peak | 2.446 | 0.244 | 3.494 | |
| addConnections_peak_gene | 1.388 | 0.022 | 1.933 | |
| addData | 0 | 0 | 0 | |
| addSNPData | 1.975 | 0.101 | 2.866 | |
| addTFBS | 0.000 | 0.001 | 0.000 | |
| add_TF_gene_correlation | 1.364 | 0.026 | 1.951 | |
| add_featureVariation | 0 | 0 | 0 | |
| build_eGRN_graph | 1.008 | 0.024 | 1.520 | |
| calculateCommunitiesEnrichment | 1.351 | 0.050 | 1.942 | |
| calculateCommunitiesStats | 1.040 | 0.021 | 1.831 | |
| calculateGeneralEnrichment | 1.678 | 0.023 | 2.420 | |
| calculateTFEnrichment | 1.153 | 0.022 | 1.667 | |
| changeOutputDirectory | 0.985 | 0.022 | 1.472 | |
| deleteIntermediateData | 1.048 | 0.024 | 1.466 | |
| filterConnectionsForPlotting | 0.955 | 0.020 | 1.363 | |
| filterData | 1.212 | 0.028 | 1.736 | |
| filterGRNAndConnectGenes | 1.456 | 0.022 | 1.847 | |
| generateStatsSummary | 2.848 | 0.062 | 3.532 | |
| getCounts | 1.452 | 0.027 | 1.948 | |
| getGRNConnections | 0.919 | 0.016 | 1.285 | |
| getGRNSummary | 1.225 | 0.028 | 1.726 | |
| getParameters | 0.964 | 0.023 | 1.577 | |
| getTopNodes | 1.072 | 0.021 | 1.471 | |
| initializeGRN | 0.006 | 0.000 | 0.008 | |
| loadExampleObject | 1.407 | 0.019 | 1.905 | |
| nGenes | 0.906 | 0.016 | 1.291 | |
| nPeaks | 1.002 | 0.023 | 1.378 | |
| nTFs | 1.033 | 0.025 | 1.524 | |
| overlapPeaksAndTFBS | 0.975 | 0.019 | 1.438 | |
| performAllNetworkAnalyses | 0 | 0 | 0 | |
| plotCommunitiesEnrichment | 2.098 | 0.049 | 2.858 | |
| plotCommunitiesStats | 1.682 | 0.023 | 2.111 | |
| plotCorrelations | 1.058 | 0.024 | 1.468 | |
| plotDiagnosticPlots_TFPeaks | 1.715 | 0.036 | 2.342 | |
| plotDiagnosticPlots_peakGene | 1.996 | 0.038 | 2.542 | |
| plotGeneralEnrichment | 1.647 | 0.031 | 2.135 | |
| plotGeneralGraphStats | 1.572 | 0.048 | 2.172 | |
| plotPCA_all | 1.909 | 0.053 | 2.470 | |
| plotTFEnrichment | 1.288 | 0.031 | 1.742 | |
| plot_stats_connectionSummary | 1.368 | 0.038 | 1.940 | |
| visualizeGRN | 1.562 | 0.047 | 2.134 | |