Back to Multiple platform build/check report for BioC 3.21:   simplified   long
ABC[D]EFGHIJKLMNOPQRSTUVWXYZ

This page was generated on 2025-10-09 11:41 -0400 (Thu, 09 Oct 2025).

HostnameOSArch (*)R versionInstalled pkgs
nebbiolo1Linux (Ubuntu 24.04.3 LTS)x86_644.5.1 (2025-06-13) -- "Great Square Root" 4832
merida1macOS 12.7.5 Montereyx86_644.5.1 RC (2025-06-05 r88288) -- "Great Square Root" 4613
kjohnson1macOS 13.6.6 Venturaarm644.5.1 Patched (2025-06-14 r88325) -- "Great Square Root" 4554
kunpeng2Linux (openEuler 24.03 LTS)aarch64R Under development (unstable) (2025-02-19 r87757) -- "Unsuffered Consequences" 4585
Click on any hostname to see more info about the system (e.g. compilers)      (*) as reported by 'uname -p', except on Windows and Mac OS X

Package 516/2341HostnameOS / ArchINSTALLBUILDCHECKBUILD BIN
dar 1.4.0  (landing page)
Francesc Catala-Moll
Snapshot Date: 2025-10-06 13:40 -0400 (Mon, 06 Oct 2025)
git_url: https://git.bioconductor.org/packages/dar
git_branch: RELEASE_3_21
git_last_commit: 3100bff
git_last_commit_date: 2025-04-15 13:27:21 -0400 (Tue, 15 Apr 2025)
nebbiolo1Linux (Ubuntu 24.04.3 LTS) / x86_64  OK    OK    OK  UNNEEDED, same version is already published
merida1macOS 12.7.5 Monterey / x86_64  OK    OK    OK    OK  UNNEEDED, same version is already published
kjohnson1macOS 13.6.6 Ventura / arm64  OK    OK    OK    OK  UNNEEDED, same version is already published
kunpeng2Linux (openEuler 24.03 LTS) / aarch64  OK    OK    OK  


CHECK results for dar on kunpeng2

To the developers/maintainers of the dar package:
- Allow up to 24 hours (and sometimes 48 hours) for your latest push to git@git.bioconductor.org:packages/dar.git to reflect on this report. See Troubleshooting Build Report for more information.
- Use the following Renviron settings to reproduce errors and warnings.
- If 'R CMD check' started to fail recently on the Linux builder(s) over a missing dependency, add the missing dependency to 'Suggests:' in your DESCRIPTION file. See Renviron.bioc for more information.
- See Martin Grigorov's blog post for how to debug Linux ARM64 related issues on a x86_64 host.

raw results


Summary

Package: dar
Version: 1.4.0
Command: /home/biocbuild/R/R/bin/R CMD check --install=check:dar.install-out.txt --library=/home/biocbuild/R/R/site-library --no-vignettes --timings dar_1.4.0.tar.gz
StartedAt: 2025-10-07 08:22:38 -0000 (Tue, 07 Oct 2025)
EndedAt: 2025-10-07 08:36:21 -0000 (Tue, 07 Oct 2025)
EllapsedTime: 823.4 seconds
RetCode: 0
Status:   OK  
CheckDir: dar.Rcheck
Warnings: 0

Command output

##############################################################################
##############################################################################
###
### Running command:
###
###   /home/biocbuild/R/R/bin/R CMD check --install=check:dar.install-out.txt --library=/home/biocbuild/R/R/site-library --no-vignettes --timings dar_1.4.0.tar.gz
###
##############################################################################
##############################################################################


* using log directory ‘/home/biocbuild/bbs-3.21-bioc/meat/dar.Rcheck’
* using R Under development (unstable) (2025-02-19 r87757)
* using platform: aarch64-unknown-linux-gnu
* R was compiled by
    aarch64-unknown-linux-gnu-gcc (GCC) 14.2.0
    GNU Fortran (GCC) 14.2.0
* running under: openEuler 24.03 (LTS-SP1)
* using session charset: UTF-8
* using option ‘--no-vignettes’
* checking for file ‘dar/DESCRIPTION’ ... OK
* this is package ‘dar’ version ‘1.4.0’
* package encoding: UTF-8
* checking package namespace information ... OK
* checking package dependencies ... INFO
Imports includes 21 non-default packages.
Importing from so many packages makes the package vulnerable to any of
them becoming unavailable.  Move as many as possible to Suggests and
use conditionally.
* checking if this is a source package ... OK
* checking if there is a namespace ... OK
* checking for hidden files and directories ... OK
* checking for portable file names ... OK
* checking for sufficient/correct file permissions ... OK
* checking whether package ‘dar’ can be installed ... OK
* checking installed package size ... OK
* checking package directory ... OK
* checking ‘build’ directory ... OK
* checking DESCRIPTION meta-information ... OK
* checking top-level files ... OK
* checking for left-over files ... OK
* checking index information ... OK
* checking package subdirectories ... OK
* checking code files for non-ASCII characters ... OK
* checking R files for syntax errors ... OK
* checking whether the package can be loaded ... OK
* checking whether the package can be loaded with stated dependencies ... OK
* checking whether the package can be unloaded cleanly ... OK
* checking whether the namespace can be loaded with stated dependencies ... OK
* checking whether the namespace can be unloaded cleanly ... OK
* checking loading without being on the library search path ... OK
* checking dependencies in R code ... OK
* checking S3 generic/method consistency ... OK
* checking replacement functions ... OK
* checking foreign function calls ... OK
* checking R code for possible problems ... OK
* checking Rd files ... OK
* checking Rd metadata ... OK
* checking Rd cross-references ... OK
* checking for missing documentation entries ... OK
* checking for code/documentation mismatches ... OK
* checking Rd \usage sections ... OK
* checking Rd contents ... OK
* checking for unstated dependencies in examples ... OK
* checking contents of ‘data’ directory ... OK
* checking data for non-ASCII characters ... OK
* checking data for ASCII and uncompressed saves ... OK
* checking R/sysdata.rda ... OK
* checking files in ‘vignettes’ ... OK
* checking examples ... OK
Examples with CPU (user + system) or elapsed time > 5s
                     user system elapsed
step_aldex         23.817  0.803  24.684
step_deseq          8.934  0.112   9.069
step_metagenomeseq  4.768  0.060  12.699
prep                3.641  0.258  47.636
import_steps        3.301  0.225  51.158
export_steps        2.157  0.191  16.472
recipe              1.253  0.088  22.211
* checking for unstated dependencies in ‘tests’ ... OK
* checking tests ...
  Running ‘testthat.R’
 OK
* checking for unstated dependencies in vignettes ... OK
* checking package vignettes ... OK
* checking running R code from vignettes ... SKIPPED
* checking re-building of vignette outputs ... SKIPPED
* checking PDF version of manual ... OK
* DONE

Status: OK


Installation output

dar.Rcheck/00install.out

##############################################################################
##############################################################################
###
### Running command:
###
###   /home/biocbuild/R/R/bin/R CMD INSTALL dar
###
##############################################################################
##############################################################################


* installing to library ‘/home/biocbuild/R/R-devel_2025-02-19/site-library’
* installing *source* package ‘dar’ ...
** this is package ‘dar’ version ‘1.4.0’
** using staged installation
** R
** data
** inst
** byte-compile and prepare package for lazy loading
** help
*** installing help indices
*** copying figures
** building package indices
** installing vignettes
** testing if installed package can be loaded from temporary location
** testing if installed package can be loaded from final location
** testing if installed package keeps a record of temporary installation path
* DONE (dar)

Tests output

dar.Rcheck/tests/testthat.Rout


R Under development (unstable) (2025-02-19 r87757) -- "Unsuffered Consequences"
Copyright (C) 2025 The R Foundation for Statistical Computing
Platform: aarch64-unknown-linux-gnu

R is free software and comes with ABSOLUTELY NO WARRANTY.
You are welcome to redistribute it under certain conditions.
Type 'license()' or 'licence()' for distribution details.

R is a collaborative project with many contributors.
Type 'contributors()' for more information and
'citation()' on how to cite R or R packages in publications.

Type 'demo()' for some demos, 'help()' for on-line help, or
'help.start()' for an HTML browser interface to help.
Type 'q()' to quit R.

> library(testthat)
> library(dar)
> 
> test_check("dar")
Starting 2 test processes
[ FAIL 0 | WARN 0 | SKIP 10 | PASS 81 ]

══ Skipped tests (10) ══════════════════════════════════════════════════════════
• On CRAN (9): 'test-roxytest-tests-bake.R:18:3',
  'test-roxytest-tests-lefse.R:15:3', 'test-roxytest-tests-misc.R:73:3',
  'test-roxytest-tests-misc.R:101:3', 'test-roxytest-tests-misc.R:108:3',
  'test-roxytest-tests-pkg_check.R:6:3', 'test-roxytest-tests-maaslin2.R:16:3',
  'test-roxytest-tests-read_data.R:24:3',
  'test-roxytest-tests-steps_and_checks.R:7:3'
• Temporary disabling due to problems with the ANCOM package (1):
  'test-roxytest-tests-ancom.R:6:3'

[ FAIL 0 | WARN 0 | SKIP 10 | PASS 81 ]
> 
> proc.time()
   user  system elapsed 
312.393   8.246 400.999 

Example timings

dar.Rcheck/dar-Ex.timings

nameusersystemelapsed
abundance_plt3.5910.2243.831
add_tax0.2230.0000.224
add_var0.2090.0040.214
bake0.6450.0040.651
contains_rarefaction0.3000.0160.319
cool0.3970.0080.407
corr_heatmap4.4930.0404.546
exclusion_plt1.2220.0001.226
export_steps 2.157 0.19116.472
find_intersections0.2490.0080.257
get_comparisons0.0320.0000.032
get_phy0.0250.0000.025
get_tax0.0340.0000.035
get_var0.0280.0040.031
import_steps 3.301 0.22551.158
intersection_df0.2690.0040.275
intersection_plt2.3210.0802.408
mutual_plt2.7430.1162.868
otu_table0.5780.0080.588
overlap_df0.3660.0000.367
phy_qc1.6370.0631.706
prep 3.641 0.25847.636
rand_id000
read_data1.8040.3612.179
recipe 1.253 0.08822.211
required_deps0.0670.0000.067
sample_data0.0390.0040.043
step_aldex23.817 0.80324.684
step_ancom000
step_corncob2.7940.0792.913
step_deseq8.9340.1129.069
step_filter_by_abundance0.0540.0000.055
step_filter_by_prevalence0.1990.0040.204
step_filter_by_rarity0.0570.0000.058
step_filter_by_variance0.0510.0000.051
step_filter_taxa0.0510.0000.051
step_lefse0.0860.0040.090
step_maaslin4.3870.0844.487
step_metagenomeseq 4.768 0.06012.699
step_rarefaction0.0610.0000.061
step_subset_taxa0.0490.0000.049
step_wilcox2.3900.1912.589
steps_ids0.0150.0040.018
tax_table0.0640.0000.063
tidyeval0.0230.0000.023
to_tibble0.6100.0320.643
use_rarefy0.0160.0000.017
zero_otu0.6790.0560.737