Back to Multiple platform build/check report for BioC 3.21:   simplified   long
ABC[D]EFGHIJKLMNOPQRSTUVWXYZ

This page was generated on 2025-10-16 11:38 -0400 (Thu, 16 Oct 2025).

HostnameOSArch (*)R versionInstalled pkgs
nebbiolo1Linux (Ubuntu 24.04.3 LTS)x86_644.5.1 (2025-06-13) -- "Great Square Root" 4833
merida1macOS 12.7.6 Montereyx86_644.5.1 RC (2025-06-05 r88288) -- "Great Square Root" 4614
kjohnson1macOS 13.7.5 Venturaarm644.5.1 Patched (2025-06-14 r88325) -- "Great Square Root" 4555
kunpeng2Linux (openEuler 24.03 LTS)aarch64R Under development (unstable) (2025-02-19 r87757) -- "Unsuffered Consequences" 4586
Click on any hostname to see more info about the system (e.g. compilers)      (*) as reported by 'uname -p', except on Windows and Mac OS X

Package 516/2341HostnameOS / ArchINSTALLBUILDCHECKBUILD BIN
dar 1.4.0  (landing page)
Francesc Catala-Moll
Snapshot Date: 2025-10-13 13:40 -0400 (Mon, 13 Oct 2025)
git_url: https://git.bioconductor.org/packages/dar
git_branch: RELEASE_3_21
git_last_commit: 3100bff
git_last_commit_date: 2025-04-15 13:27:21 -0400 (Tue, 15 Apr 2025)
nebbiolo1Linux (Ubuntu 24.04.3 LTS) / x86_64  OK    OK    OK  UNNEEDED, same version is already published
merida1macOS 12.7.6 Monterey / x86_64  OK    OK    OK    OK  UNNEEDED, same version is already published
kjohnson1macOS 13.7.5 Ventura / arm64  OK    OK    OK    OK  UNNEEDED, same version is already published
kunpeng2Linux (openEuler 24.03 LTS) / aarch64  OK    ERROR  skipped


CHECK results for dar on merida1

To the developers/maintainers of the dar package:
- Allow up to 24 hours (and sometimes 48 hours) for your latest push to git@git.bioconductor.org:packages/dar.git to reflect on this report. See Troubleshooting Build Report for more information.
- Use the following Renviron settings to reproduce errors and warnings.
- If 'R CMD check' started to fail recently on the Linux builder(s) over a missing dependency, add the missing dependency to 'Suggests:' in your DESCRIPTION file. See Renviron.bioc for more information.

raw results


Summary

Package: dar
Version: 1.4.0
Command: /Library/Frameworks/R.framework/Resources/bin/R CMD check --install=check:dar.install-out.txt --library=/Library/Frameworks/R.framework/Resources/library --no-vignettes --timings dar_1.4.0.tar.gz
StartedAt: 2025-10-14 02:26:13 -0400 (Tue, 14 Oct 2025)
EndedAt: 2025-10-14 02:47:46 -0400 (Tue, 14 Oct 2025)
EllapsedTime: 1293.0 seconds
RetCode: 0
Status:   OK  
CheckDir: dar.Rcheck
Warnings: 0

Command output

##############################################################################
##############################################################################
###
### Running command:
###
###   /Library/Frameworks/R.framework/Resources/bin/R CMD check --install=check:dar.install-out.txt --library=/Library/Frameworks/R.framework/Resources/library --no-vignettes --timings dar_1.4.0.tar.gz
###
##############################################################################
##############################################################################


* using log directory ‘/Users/biocbuild/bbs-3.21-bioc/meat/dar.Rcheck’
* using R version 4.5.1 RC (2025-06-05 r88288)
* using platform: x86_64-apple-darwin20
* R was compiled by
    Apple clang version 14.0.0 (clang-1400.0.29.202)
    GNU Fortran (GCC) 14.2.0
* running under: macOS Monterey 12.7.6
* using session charset: UTF-8
* using option ‘--no-vignettes’
* checking for file ‘dar/DESCRIPTION’ ... OK
* this is package ‘dar’ version ‘1.4.0’
* package encoding: UTF-8
* checking package namespace information ... OK
* checking package dependencies ... INFO
Imports includes 21 non-default packages.
Importing from so many packages makes the package vulnerable to any of
them becoming unavailable.  Move as many as possible to Suggests and
use conditionally.
* checking if this is a source package ... OK
* checking if there is a namespace ... OK
* checking for hidden files and directories ... OK
* checking for portable file names ... OK
* checking for sufficient/correct file permissions ... OK
* checking whether package ‘dar’ can be installed ... OK
* checking installed package size ... OK
* checking package directory ... OK
* checking ‘build’ directory ... OK
* checking DESCRIPTION meta-information ... OK
* checking top-level files ... OK
* checking for left-over files ... OK
* checking index information ... OK
* checking package subdirectories ... OK
* checking code files for non-ASCII characters ... OK
* checking R files for syntax errors ... OK
* checking whether the package can be loaded ... OK
* checking whether the package can be loaded with stated dependencies ... OK
* checking whether the package can be unloaded cleanly ... OK
* checking whether the namespace can be loaded with stated dependencies ... OK
* checking whether the namespace can be unloaded cleanly ... OK
* checking dependencies in R code ... OK
* checking S3 generic/method consistency ... OK
* checking replacement functions ... OK
* checking foreign function calls ... OK
* checking R code for possible problems ... OK
* checking Rd files ... OK
* checking Rd metadata ... OK
* checking Rd cross-references ... OK
* checking for missing documentation entries ... OK
* checking for code/documentation mismatches ... OK
* checking Rd \usage sections ... OK
* checking Rd contents ... OK
* checking for unstated dependencies in examples ... OK
* checking contents of ‘data’ directory ... OK
* checking data for non-ASCII characters ... OK
* checking data for ASCII and uncompressed saves ... OK
* checking R/sysdata.rda ... OK
* checking files in ‘vignettes’ ... OK
* checking examples ... OK
Examples with CPU (user + system) or elapsed time > 5s
                     user system elapsed
step_aldex         34.152  3.923  41.304
step_deseq         13.960  0.361  15.069
corr_heatmap        8.217  0.432   8.986
prep                8.227  0.197  87.193
step_metagenomeseq  7.697  0.310  23.461
step_maaslin        7.230  0.279   8.080
import_steps        6.632  0.258  78.816
abundance_plt       6.411  0.138   6.594
mutual_plt          5.770  0.041   6.165
intersection_plt    5.233  0.044   5.749
export_steps        4.222  0.347  29.169
recipe              4.086  0.094  38.792
* checking for unstated dependencies in ‘tests’ ... OK
* checking tests ...
  Running ‘testthat.R’
 OK
* checking for unstated dependencies in vignettes ... OK
* checking package vignettes ... OK
* checking running R code from vignettes ... SKIPPED
* checking re-building of vignette outputs ... SKIPPED
* checking PDF version of manual ... OK
* DONE

Status: OK


Installation output

dar.Rcheck/00install.out

##############################################################################
##############################################################################
###
### Running command:
###
###   /Library/Frameworks/R.framework/Resources/bin/R CMD INSTALL dar
###
##############################################################################
##############################################################################


* installing to library ‘/Library/Frameworks/R.framework/Versions/4.5-x86_64/Resources/library’
* installing *source* package ‘dar’ ...
** this is package ‘dar’ version ‘1.4.0’
** using staged installation
** R
** data
** inst
** byte-compile and prepare package for lazy loading
** help
*** installing help indices
*** copying figures
** building package indices
** installing vignettes
** testing if installed package can be loaded from temporary location
** testing if installed package can be loaded from final location
** testing if installed package keeps a record of temporary installation path
* DONE (dar)

Tests output

dar.Rcheck/tests/testthat.Rout


R version 4.5.1 RC (2025-06-05 r88288) -- "Great Square Root"
Copyright (C) 2025 The R Foundation for Statistical Computing
Platform: x86_64-apple-darwin20

R is free software and comes with ABSOLUTELY NO WARRANTY.
You are welcome to redistribute it under certain conditions.
Type 'license()' or 'licence()' for distribution details.

R is a collaborative project with many contributors.
Type 'contributors()' for more information and
'citation()' on how to cite R or R packages in publications.

Type 'demo()' for some demos, 'help()' for on-line help, or
'help.start()' for an HTML browser interface to help.
Type 'q()' to quit R.

> library(testthat)
> library(dar)
> 
> test_check("dar")
Starting 2 test processes
[ FAIL 0 | WARN 3 | SKIP 10 | PASS 81 ]

══ Skipped tests (10) ══════════════════════════════════════════════════════════
• On CRAN (9): 'test-roxytest-tests-bake.R:18:3',
  'test-roxytest-tests-lefse.R:15:3', 'test-roxytest-tests-misc.R:73:3',
  'test-roxytest-tests-misc.R:101:3', 'test-roxytest-tests-misc.R:108:3',
  'test-roxytest-tests-pkg_check.R:6:3', 'test-roxytest-tests-maaslin2.R:16:3',
  'test-roxytest-tests-read_data.R:24:3',
  'test-roxytest-tests-steps_and_checks.R:7:3'
• Temporary disabling due to problems with the ANCOM package (1):
  'test-roxytest-tests-ancom.R:6:3'

[ FAIL 0 | WARN 3 | SKIP 10 | PASS 81 ]
> 
> proc.time()
   user  system elapsed 
417.924  17.514 554.403 

Example timings

dar.Rcheck/dar-Ex.timings

nameusersystemelapsed
abundance_plt6.4110.1386.594
add_tax0.3830.0130.405
add_var0.3730.0120.400
bake1.0400.0181.078
contains_rarefaction1.0980.0301.170
cool0.6430.0110.685
corr_heatmap8.2170.4328.986
exclusion_plt2.6840.0502.843
export_steps 4.222 0.34729.169
find_intersections0.3830.0090.410
get_comparisons0.0470.0040.052
get_phy0.0380.0050.047
get_tax0.0470.0040.053
get_var0.0470.0030.051
import_steps 6.632 0.25878.816
intersection_df0.3780.0110.410
intersection_plt5.2330.0445.749
mutual_plt5.7700.0416.165
otu_table0.9490.0080.959
overlap_df0.5390.0110.554
phy_qc2.5500.0402.599
prep 8.227 0.19787.193
rand_id0.0010.0000.000
read_data3.3700.4133.723
recipe 4.086 0.09438.792
required_deps0.0910.0100.109
sample_data0.0620.0060.071
step_aldex34.152 3.92341.304
step_ancom0.0010.0010.002
step_corncob4.3210.1634.990
step_deseq13.960 0.36115.069
step_filter_by_abundance0.0770.0050.085
step_filter_by_prevalence0.0780.0070.085
step_filter_by_rarity0.0760.0040.083
step_filter_by_variance0.0770.0090.089
step_filter_taxa0.0750.0100.090
step_lefse0.1850.0150.302
step_maaslin7.2300.2798.080
step_metagenomeseq 7.697 0.31023.461
step_rarefaction0.0960.0080.108
step_subset_taxa0.0760.0070.083
step_wilcox3.8750.0714.268
steps_ids0.0290.0060.035
tax_table0.0940.0040.101
tidyeval0.0420.0040.045
to_tibble1.0270.0161.110
use_rarefy0.0290.0050.035
zero_otu0.9960.0121.058