Back to Multiple platform build/check report for BioC 3.21:   simplified   long
AB[C]DEFGHIJKLMNOPQRSTUVWXYZ

This page was generated on 2025-10-16 11:37 -0400 (Thu, 16 Oct 2025).

HostnameOSArch (*)R versionInstalled pkgs
nebbiolo1Linux (Ubuntu 24.04.3 LTS)x86_644.5.1 (2025-06-13) -- "Great Square Root" 4833
merida1macOS 12.7.6 Montereyx86_644.5.1 RC (2025-06-05 r88288) -- "Great Square Root" 4614
kjohnson1macOS 13.7.5 Venturaarm644.5.1 Patched (2025-06-14 r88325) -- "Great Square Root" 4555
kunpeng2Linux (openEuler 24.03 LTS)aarch64R Under development (unstable) (2025-02-19 r87757) -- "Unsuffered Consequences" 4586
Click on any hostname to see more info about the system (e.g. compilers)      (*) as reported by 'uname -p', except on Windows and Mac OS X

Package 268/2341HostnameOS / ArchINSTALLBUILDCHECKBUILD BIN
CAGEr 2.14.0  (landing page)
Charles Plessy
Snapshot Date: 2025-10-13 13:40 -0400 (Mon, 13 Oct 2025)
git_url: https://git.bioconductor.org/packages/CAGEr
git_branch: RELEASE_3_21
git_last_commit: 446e1ca
git_last_commit_date: 2025-04-15 10:18:00 -0400 (Tue, 15 Apr 2025)
nebbiolo1Linux (Ubuntu 24.04.3 LTS) / x86_64  OK    OK    OK  UNNEEDED, same version is already published
merida1macOS 12.7.6 Monterey / x86_64  OK    OK    OK    OK  UNNEEDED, same version is already published
kjohnson1macOS 13.7.5 Ventura / arm64  OK    OK    OK    OK  UNNEEDED, same version is already published
kunpeng2Linux (openEuler 24.03 LTS) / aarch64  OK    OK    OK  


CHECK results for CAGEr on nebbiolo1

To the developers/maintainers of the CAGEr package:
- Allow up to 24 hours (and sometimes 48 hours) for your latest push to git@git.bioconductor.org:packages/CAGEr.git to reflect on this report. See Troubleshooting Build Report for more information.
- Use the following Renviron settings to reproduce errors and warnings.
- If 'R CMD check' started to fail recently on the Linux builder(s) over a missing dependency, add the missing dependency to 'Suggests:' in your DESCRIPTION file. See Renviron.bioc for more information.

raw results


Summary

Package: CAGEr
Version: 2.14.0
Command: /home/biocbuild/bbs-3.21-bioc/R/bin/R CMD check --install=check:CAGEr.install-out.txt --library=/home/biocbuild/bbs-3.21-bioc/R/site-library --timings CAGEr_2.14.0.tar.gz
StartedAt: 2025-10-15 21:25:20 -0400 (Wed, 15 Oct 2025)
EndedAt: 2025-10-15 21:37:54 -0400 (Wed, 15 Oct 2025)
EllapsedTime: 753.9 seconds
RetCode: 0
Status:   OK  
CheckDir: CAGEr.Rcheck
Warnings: 0

Command output

##############################################################################
##############################################################################
###
### Running command:
###
###   /home/biocbuild/bbs-3.21-bioc/R/bin/R CMD check --install=check:CAGEr.install-out.txt --library=/home/biocbuild/bbs-3.21-bioc/R/site-library --timings CAGEr_2.14.0.tar.gz
###
##############################################################################
##############################################################################


* using log directory ‘/home/biocbuild/bbs-3.21-bioc/meat/CAGEr.Rcheck’
* using R version 4.5.1 (2025-06-13)
* using platform: x86_64-pc-linux-gnu
* R was compiled by
    gcc (Ubuntu 13.3.0-6ubuntu2~24.04) 13.3.0
    GNU Fortran (Ubuntu 13.3.0-6ubuntu2~24.04) 13.3.0
* running under: Ubuntu 24.04.3 LTS
* using session charset: UTF-8
* checking for file ‘CAGEr/DESCRIPTION’ ... OK
* this is package ‘CAGEr’ version ‘2.14.0’
* package encoding: UTF-8
* checking package namespace information ... OK
* checking package dependencies ... INFO
Imports includes 29 non-default packages.
Importing from so many packages makes the package vulnerable to any of
them becoming unavailable.  Move as many as possible to Suggests and
use conditionally.
* checking if this is a source package ... OK
* checking if there is a namespace ... OK
* checking for hidden files and directories ... OK
* checking for portable file names ... OK
* checking for sufficient/correct file permissions ... OK
* checking whether package ‘CAGEr’ can be installed ... OK
* checking installed package size ... OK
* checking package directory ... OK
* checking ‘build’ directory ... OK
* checking DESCRIPTION meta-information ... OK
* checking top-level files ... OK
* checking for left-over files ... OK
* checking index information ... OK
* checking package subdirectories ... OK
* checking code files for non-ASCII characters ... OK
* checking R files for syntax errors ... OK
* checking whether the package can be loaded ... OK
* checking whether the package can be loaded with stated dependencies ... OK
* checking whether the package can be unloaded cleanly ... OK
* checking whether the namespace can be loaded with stated dependencies ... OK
* checking whether the namespace can be unloaded cleanly ... OK
* checking loading without being on the library search path ... OK
* checking dependencies in R code ... OK
* checking S3 generic/method consistency ... OK
* checking replacement functions ... OK
* checking foreign function calls ... OK
* checking R code for possible problems ... OK
* checking Rd files ... OK
* checking Rd metadata ... OK
* checking Rd cross-references ... NOTE
Found the following Rd file(s) with Rd \link{} targets missing package
anchors:
  CAGEexp-class.Rd: MultiAssayExperiment, DataFrame, Rle
  CAGEr-class.Rd: MultiAssayExperiment
  CTSStagCount.Rd: DataFrame, Rle, RangedSummarizedExperiment
  CTSStoGenes.Rd: SummarizedExperiment
  CustomConsensusClusters.Rd: GRanges, RangedSummarizedExperiment
  TSSlogo.Rd: BSgenome
  aggregateTagClusters.Rd: RangedSummarizedExperiment
  annotateCTSS.Rd: GRanges, TxDb
  bam2CTSS.Rd: GRanges
  byCtss.Rd: data.table
  consensusClusters.Rd: GRanges, SummarizedExperiment
  distclu.Rd: GRangesList
  dot-ctss_summary_for_clusters.Rd: GRanges
  expressionClasses.Rd: Rle
  flagLowExpCTSS.Rd: Rle
  getCTSS.Rd: RangedSummarizedExperiment
  import.CAGEscanMolecule.Rd: GRanges
  import.CTSS.Rd: GPos
  loadFileIntoGPos.Rd: GPos
  moleculesGR2CTSS.Rd: GRanges
  paraclu.Rd: RangedSummarizedExperiment, GRangesList
  plotCorrelation.Rd: SummarizedExperiment, DataFrame
  quantilePositions.Rd: RangedSummarizedExperiment
  ranges2annot.Rd: rowRanges, Rle
  ranges2names.Rd: Rle
  strandInvaders.Rd: Rle
Please provide package anchors for all Rd \link{} targets not in the
package itself and the base packages.
* checking for missing documentation entries ... OK
* checking for code/documentation mismatches ... OK
* checking Rd \usage sections ... OK
* checking Rd contents ... OK
* checking for unstated dependencies in examples ... OK
* checking contents of ‘data’ directory ... OK
* checking data for non-ASCII characters ... OK
* checking LazyData ... OK
* checking data for ASCII and uncompressed saves ... OK
* checking files in ‘vignettes’ ... OK
* checking examples ... OK
Examples with CPU (user + system) or elapsed time > 5s
                         user system elapsed
paraclu                43.070  0.175  43.259
exportToTrack          36.254  0.173  36.431
aggregateTagClusters   20.549  0.135  20.686
scoreShift             18.213  0.278  18.492
quantilePositions      12.285  0.027  12.313
annotateCTSS           11.995  0.139  12.135
distclu                 9.040  0.037   9.077
plotExpressionProfiles  8.129  0.092   8.223
* checking for unstated dependencies in vignettes ... OK
* checking package vignettes ... OK
* checking re-building of vignette outputs ... OK
* checking PDF version of manual ... OK
* DONE

Status: 1 NOTE
See
  ‘/home/biocbuild/bbs-3.21-bioc/meat/CAGEr.Rcheck/00check.log’
for details.


Installation output

CAGEr.Rcheck/00install.out

##############################################################################
##############################################################################
###
### Running command:
###
###   /home/biocbuild/bbs-3.21-bioc/R/bin/R CMD INSTALL CAGEr
###
##############################################################################
##############################################################################


* installing to library ‘/home/biocbuild/bbs-3.21-bioc/R/site-library’
* installing *source* package ‘CAGEr’ ...
** this is package ‘CAGEr’ version ‘2.14.0’
** using staged installation
** R
** data
*** moving datasets to lazyload DB
** inst
** byte-compile and prepare package for lazy loading
** help
*** installing help indices
** building package indices
** installing vignettes
** testing if installed package can be loaded from temporary location
** testing if installed package can be loaded from final location
** testing if installed package keeps a record of temporary installation path
* DONE (CAGEr)

Tests output


Example timings

CAGEr.Rcheck/CAGEr-Ex.timings

nameusersystemelapsed
CAGEexp-class2.8600.1252.989
CAGEr_Multicore3.5900.1053.695
CTSS-class0.2640.0010.265
CTSScoordinates0.0820.0020.084
CTSSnormalizedTpm0.7010.0200.721
CTSStagCount0.6250.1060.731
CTSStoGenes0.3440.0640.408
CustomConsensusClusters4.6640.1084.772
GeneExpDESeq20.4810.0180.499
GeneExpSE0.0030.0010.004
QuantileWidthFunctions0.1290.0110.140
TSSlogo2.7480.0572.804
aggregateTagClusters20.549 0.13520.686
annotateCTSS11.995 0.13912.135
byCtss0.0140.0010.015
consensusClusters0.1440.0020.146
consensusClustersDESeq21.9780.0031.981
consensusClustersTpm0.0050.0000.006
cumulativeCTSSdistribution3.6170.0603.678
distclu9.0400.0379.077
dot-ctss_summary_for_clusters0.8140.0040.817
exampleCAGEexp0.0000.0000.001
exportToTrack36.254 0.17336.431
expressionClasses2.0510.0562.109
filteredCTSSidx0.010.000.01
flagLowExpCTSS0.0360.0000.035
genomeName0.0000.0010.001
getCTSS1.0040.0111.015
getExpressionProfiles4.9410.0164.956
getShiftingPromoters1.8730.0031.875
hanabi0.2280.0060.233
hanabiPlot0.2530.0340.286
import.CAGEscanMolecule000
import.CTSS0.0730.0020.075
import.bam000
import.bedCTSS000
import.bedScore000
import.bedmolecule000
importPublicData0.0010.0000.001
inputFiles0.0010.0000.002
inputFilesType0.0020.0000.001
librarySizes0.0010.0000.001
mapStats0.0490.0010.050
mergeCAGEsets1.9680.0071.975
mergeSamples0.4460.0010.447
moleculesGR2CTSS0.1180.0000.118
normalizeTagCount0.4720.0020.452
paraclu43.070 0.17543.259
parseCAGEscanBlocksToGrangeTSS0.0210.0000.022
plotAnnot3.1570.0163.174
plotCorrelation0.2290.0010.230
plotExpressionProfiles8.1290.0928.223
plotInterquantileWidth2.2720.0242.297
plotReverseCumulatives2.6730.0092.620
quantilePositions12.285 0.02712.313
quickEnhancers000
ranges2annot0.3950.0000.396
ranges2genes0.0590.0010.060
ranges2names0.0540.0010.054
resetCAGEexp0.2990.0000.299
rowSums.RleDataFrame0.0200.0000.021
rowsum.RleDataFrame0.0220.0000.023
sampleLabels0.0040.0000.004
scoreShift18.213 0.27818.492
seqNameTotalsSE0.0040.0000.004
setColors0.3000.0020.303
strandInvaders0.6120.0930.690
summariseChrExpr0.3920.0010.393
tagClusters0.3920.0020.394