Back to Multiple platform build/check report for BioC 3.21:   simplified   long
AB[C]DEFGHIJKLMNOPQRSTUVWXYZ

This page was generated on 2025-10-16 11:38 -0400 (Thu, 16 Oct 2025).

HostnameOSArch (*)R versionInstalled pkgs
nebbiolo1Linux (Ubuntu 24.04.3 LTS)x86_644.5.1 (2025-06-13) -- "Great Square Root" 4833
merida1macOS 12.7.6 Montereyx86_644.5.1 RC (2025-06-05 r88288) -- "Great Square Root" 4614
kjohnson1macOS 13.7.5 Venturaarm644.5.1 Patched (2025-06-14 r88325) -- "Great Square Root" 4555
kunpeng2Linux (openEuler 24.03 LTS)aarch64R Under development (unstable) (2025-02-19 r87757) -- "Unsuffered Consequences" 4586
Click on any hostname to see more info about the system (e.g. compilers)      (*) as reported by 'uname -p', except on Windows and Mac OS X

Package 268/2341HostnameOS / ArchINSTALLBUILDCHECKBUILD BIN
CAGEr 2.14.0  (landing page)
Charles Plessy
Snapshot Date: 2025-10-13 13:40 -0400 (Mon, 13 Oct 2025)
git_url: https://git.bioconductor.org/packages/CAGEr
git_branch: RELEASE_3_21
git_last_commit: 446e1ca
git_last_commit_date: 2025-04-15 10:18:00 -0400 (Tue, 15 Apr 2025)
nebbiolo1Linux (Ubuntu 24.04.3 LTS) / x86_64  OK    OK    OK  UNNEEDED, same version is already published
merida1macOS 12.7.6 Monterey / x86_64  OK    OK    OK    OK  UNNEEDED, same version is already published
kjohnson1macOS 13.7.5 Ventura / arm64  OK    OK    OK    OK  UNNEEDED, same version is already published
kunpeng2Linux (openEuler 24.03 LTS) / aarch64  OK    OK    OK  


CHECK results for CAGEr on merida1

To the developers/maintainers of the CAGEr package:
- Allow up to 24 hours (and sometimes 48 hours) for your latest push to git@git.bioconductor.org:packages/CAGEr.git to reflect on this report. See Troubleshooting Build Report for more information.
- Use the following Renviron settings to reproduce errors and warnings.
- If 'R CMD check' started to fail recently on the Linux builder(s) over a missing dependency, add the missing dependency to 'Suggests:' in your DESCRIPTION file. See Renviron.bioc for more information.

raw results


Summary

Package: CAGEr
Version: 2.14.0
Command: /Library/Frameworks/R.framework/Resources/bin/R CMD check --install=check:CAGEr.install-out.txt --library=/Library/Frameworks/R.framework/Resources/library --no-vignettes --timings CAGEr_2.14.0.tar.gz
StartedAt: 2025-10-14 01:00:52 -0400 (Tue, 14 Oct 2025)
EndedAt: 2025-10-14 01:22:48 -0400 (Tue, 14 Oct 2025)
EllapsedTime: 1315.4 seconds
RetCode: 0
Status:   OK  
CheckDir: CAGEr.Rcheck
Warnings: 0

Command output

##############################################################################
##############################################################################
###
### Running command:
###
###   /Library/Frameworks/R.framework/Resources/bin/R CMD check --install=check:CAGEr.install-out.txt --library=/Library/Frameworks/R.framework/Resources/library --no-vignettes --timings CAGEr_2.14.0.tar.gz
###
##############################################################################
##############################################################################


* using log directory ‘/Users/biocbuild/bbs-3.21-bioc/meat/CAGEr.Rcheck’
* using R version 4.5.1 RC (2025-06-05 r88288)
* using platform: x86_64-apple-darwin20
* R was compiled by
    Apple clang version 14.0.0 (clang-1400.0.29.202)
    GNU Fortran (GCC) 14.2.0
* running under: macOS Monterey 12.7.6
* using session charset: UTF-8
* using option ‘--no-vignettes’
* checking for file ‘CAGEr/DESCRIPTION’ ... OK
* this is package ‘CAGEr’ version ‘2.14.0’
* package encoding: UTF-8
* checking package namespace information ... OK
* checking package dependencies ... INFO
Imports includes 29 non-default packages.
Importing from so many packages makes the package vulnerable to any of
them becoming unavailable.  Move as many as possible to Suggests and
use conditionally.
* checking if this is a source package ... OK
* checking if there is a namespace ... OK
* checking for hidden files and directories ... OK
* checking for portable file names ... OK
* checking for sufficient/correct file permissions ... OK
* checking whether package ‘CAGEr’ can be installed ... OK
* checking installed package size ... OK
* checking package directory ... OK
* checking ‘build’ directory ... OK
* checking DESCRIPTION meta-information ... OK
* checking top-level files ... OK
* checking for left-over files ... OK
* checking index information ... OK
* checking package subdirectories ... OK
* checking code files for non-ASCII characters ... OK
* checking R files for syntax errors ... OK
* checking whether the package can be loaded ... OK
* checking whether the package can be loaded with stated dependencies ... OK
* checking whether the package can be unloaded cleanly ... OK
* checking whether the namespace can be loaded with stated dependencies ... OK
* checking whether the namespace can be unloaded cleanly ... OK
* checking dependencies in R code ... OK
* checking S3 generic/method consistency ... OK
* checking replacement functions ... OK
* checking foreign function calls ... OK
* checking R code for possible problems ... OK
* checking Rd files ... OK
* checking Rd metadata ... OK
* checking Rd cross-references ... NOTE
Found the following Rd file(s) with Rd \link{} targets missing package
anchors:
  CAGEexp-class.Rd: MultiAssayExperiment, DataFrame, Rle
  CAGEr-class.Rd: MultiAssayExperiment
  CTSStagCount.Rd: DataFrame, Rle, RangedSummarizedExperiment
  CTSStoGenes.Rd: SummarizedExperiment
  CustomConsensusClusters.Rd: GRanges, RangedSummarizedExperiment
  TSSlogo.Rd: BSgenome
  aggregateTagClusters.Rd: RangedSummarizedExperiment
  annotateCTSS.Rd: GRanges, TxDb
  bam2CTSS.Rd: GRanges
  byCtss.Rd: data.table
  consensusClusters.Rd: GRanges, SummarizedExperiment
  distclu.Rd: GRangesList
  dot-ctss_summary_for_clusters.Rd: GRanges
  expressionClasses.Rd: Rle
  flagLowExpCTSS.Rd: Rle
  getCTSS.Rd: RangedSummarizedExperiment
  import.CAGEscanMolecule.Rd: GRanges
  import.CTSS.Rd: GPos
  loadFileIntoGPos.Rd: GPos
  moleculesGR2CTSS.Rd: GRanges
  paraclu.Rd: RangedSummarizedExperiment, GRangesList
  plotCorrelation.Rd: SummarizedExperiment, DataFrame
  quantilePositions.Rd: RangedSummarizedExperiment
  ranges2annot.Rd: rowRanges, Rle
  ranges2names.Rd: Rle
  strandInvaders.Rd: Rle
Please provide package anchors for all Rd \link{} targets not in the
package itself and the base packages.
* checking for missing documentation entries ... OK
* checking for code/documentation mismatches ... OK
* checking Rd \usage sections ... OK
* checking Rd contents ... OK
* checking for unstated dependencies in examples ... OK
* checking contents of ‘data’ directory ... OK
* checking data for non-ASCII characters ... OK
* checking LazyData ... OK
* checking data for ASCII and uncompressed saves ... OK
* checking files in ‘vignettes’ ... OK
* checking examples ... OK
Examples with CPU (user + system) or elapsed time > 5s
                              user system elapsed
paraclu                    113.051  0.387 115.450
exportToTrack               96.054  0.357  97.502
aggregateTagClusters        52.088  0.328  53.944
scoreShift                  41.993  0.425  43.024
quantilePositions           32.619  0.100  32.887
annotateCTSS                32.106  0.150  33.092
distclu                     24.383  0.106  25.399
plotExpressionProfiles      20.571  0.280  21.090
getExpressionProfiles       13.897  0.072  14.449
CustomConsensusClusters     12.325  0.065  12.908
CAGEexp-class                8.607  1.457  10.498
cumulativeCTSSdistribution   8.992  0.088   9.316
plotAnnot                    8.017  0.029   8.082
TSSlogo                      6.879  0.078   7.289
plotReverseCumulatives       6.334  0.024   6.396
plotInterquantileWidth       5.685  0.026   6.003
mergeCAGEsets                5.369  0.050   5.473
consensusClustersDESeq2      5.306  0.023   5.381
getShiftingPromoters         4.986  0.026   5.207
expressionClasses            4.930  0.018   5.037
* checking for unstated dependencies in vignettes ... OK
* checking package vignettes ... OK
* checking running R code from vignettes ... SKIPPED
* checking re-building of vignette outputs ... SKIPPED
* checking PDF version of manual ... OK
* DONE

Status: 1 NOTE
See
  ‘/Users/biocbuild/bbs-3.21-bioc/meat/CAGEr.Rcheck/00check.log’
for details.


Installation output

CAGEr.Rcheck/00install.out

##############################################################################
##############################################################################
###
### Running command:
###
###   /Library/Frameworks/R.framework/Resources/bin/R CMD INSTALL CAGEr
###
##############################################################################
##############################################################################


* installing to library ‘/Library/Frameworks/R.framework/Versions/4.5-x86_64/Resources/library’
* installing *source* package ‘CAGEr’ ...
** this is package ‘CAGEr’ version ‘2.14.0’
** using staged installation
** R
** data
*** moving datasets to lazyload DB
** inst
** byte-compile and prepare package for lazy loading
** help
*** installing help indices
** building package indices
** installing vignettes
** testing if installed package can be loaded from temporary location
** testing if installed package can be loaded from final location
** testing if installed package keeps a record of temporary installation path
* DONE (CAGEr)

Tests output


Example timings

CAGEr.Rcheck/CAGEr-Ex.timings

nameusersystemelapsed
CAGEexp-class 8.607 1.45710.498
CAGEr_Multicore3.9070.0224.107
CTSS-class0.6610.0060.709
CTSScoordinates0.1950.0060.208
CTSSnormalizedTpm1.7400.0241.826
CTSStagCount1.7050.1502.027
CTSStoGenes1.0470.1181.226
CustomConsensusClusters12.325 0.06512.908
GeneExpDESeq21.1650.0211.241
GeneExpSE0.0090.0010.011
QuantileWidthFunctions0.3290.0020.352
TSSlogo6.8790.0787.289
aggregateTagClusters52.088 0.32853.944
annotateCTSS32.106 0.15033.092
byCtss0.0270.0010.029
consensusClusters0.3960.0070.405
consensusClustersDESeq25.3060.0235.381
consensusClustersTpm0.0120.0020.014
cumulativeCTSSdistribution8.9920.0889.316
distclu24.383 0.10625.399
dot-ctss_summary_for_clusters2.1320.0162.240
exampleCAGEexp0.0000.0020.002
exportToTrack96.054 0.35797.502
expressionClasses4.9300.0185.037
filteredCTSSidx0.0210.0010.022
flagLowExpCTSS0.1130.0020.114
genomeName0.0010.0000.002
getCTSS2.3760.0272.412
getExpressionProfiles13.897 0.07214.449
getShiftingPromoters4.9860.0265.207
hanabi0.5150.0120.544
hanabiPlot0.6410.0160.718
import.CAGEscanMolecule0.0000.0010.000
import.CTSS0.1900.0040.203
import.bam0.0010.0000.001
import.bedCTSS0.0000.0010.001
import.bedScore0.0000.0010.000
import.bedmolecule0.0000.0000.001
importPublicData0.0010.0020.003
inputFiles0.0030.0010.004
inputFilesType0.0020.0010.003
librarySizes0.0020.0000.003
mapStats0.1220.0090.134
mergeCAGEsets5.3690.0505.473
mergeSamples1.3140.0131.333
moleculesGR2CTSS0.3030.0020.311
normalizeTagCount1.2340.0071.247
paraclu113.051 0.387115.450
parseCAGEscanBlocksToGrangeTSS0.0510.0020.054
plotAnnot8.0170.0298.082
plotCorrelation0.5860.0060.601
plotExpressionProfiles20.571 0.28021.090
plotInterquantileWidth5.6850.0266.003
plotReverseCumulatives6.3340.0246.396
quantilePositions32.619 0.10032.887
quickEnhancers0.0000.0000.001
ranges2annot0.8330.0050.840
ranges2genes0.1370.0010.140
ranges2names0.1350.0010.137
resetCAGEexp0.7920.0040.798
rowSums.RleDataFrame0.0470.0010.049
rowsum.RleDataFrame0.0550.0030.058
sampleLabels0.0090.0010.011
scoreShift41.993 0.42543.024
seqNameTotalsSE0.0080.0010.010
setColors0.9080.0070.916
strandInvaders1.5530.1421.705
summariseChrExpr1.1210.0121.160
tagClusters0.9380.0200.971