Back to Multiple platform build/check report for BioC 3.21:   simplified   long
AB[C]DEFGHIJKLMNOPQRSTUVWXYZ

This page was generated on 2025-10-16 11:41 -0400 (Thu, 16 Oct 2025).

HostnameOSArch (*)R versionInstalled pkgs
nebbiolo1Linux (Ubuntu 24.04.3 LTS)x86_644.5.1 (2025-06-13) -- "Great Square Root" 4833
merida1macOS 12.7.6 Montereyx86_644.5.1 RC (2025-06-05 r88288) -- "Great Square Root" 4614
kjohnson1macOS 13.7.5 Venturaarm644.5.1 Patched (2025-06-14 r88325) -- "Great Square Root" 4555
kunpeng2Linux (openEuler 24.03 LTS)aarch64R Under development (unstable) (2025-02-19 r87757) -- "Unsuffered Consequences" 4586
Click on any hostname to see more info about the system (e.g. compilers)      (*) as reported by 'uname -p', except on Windows and Mac OS X

Package 268/2341HostnameOS / ArchINSTALLBUILDCHECKBUILD BIN
CAGEr 2.14.0  (landing page)
Charles Plessy
Snapshot Date: 2025-10-13 13:40 -0400 (Mon, 13 Oct 2025)
git_url: https://git.bioconductor.org/packages/CAGEr
git_branch: RELEASE_3_21
git_last_commit: 446e1ca
git_last_commit_date: 2025-04-15 10:18:00 -0400 (Tue, 15 Apr 2025)
nebbiolo1Linux (Ubuntu 24.04.3 LTS) / x86_64  OK    OK    OK  UNNEEDED, same version is already published
merida1macOS 12.7.6 Monterey / x86_64  OK    OK    OK    OK  UNNEEDED, same version is already published
kjohnson1macOS 13.7.5 Ventura / arm64  OK    OK    OK    OK  UNNEEDED, same version is already published
kunpeng2Linux (openEuler 24.03 LTS) / aarch64  OK    OK    OK  


CHECK results for CAGEr on kunpeng2

To the developers/maintainers of the CAGEr package:
- Allow up to 24 hours (and sometimes 48 hours) for your latest push to git@git.bioconductor.org:packages/CAGEr.git to reflect on this report. See Troubleshooting Build Report for more information.
- Use the following Renviron settings to reproduce errors and warnings.
- If 'R CMD check' started to fail recently on the Linux builder(s) over a missing dependency, add the missing dependency to 'Suggests:' in your DESCRIPTION file. See Renviron.bioc for more information.
- See Martin Grigorov's blog post for how to debug Linux ARM64 related issues on a x86_64 host.

raw results


Summary

Package: CAGEr
Version: 2.14.0
Command: /home/biocbuild/R/R/bin/R CMD check --install=check:CAGEr.install-out.txt --library=/home/biocbuild/R/R/site-library --no-vignettes --timings CAGEr_2.14.0.tar.gz
StartedAt: 2025-10-14 07:07:45 -0000 (Tue, 14 Oct 2025)
EndedAt: 2025-10-14 07:22:03 -0000 (Tue, 14 Oct 2025)
EllapsedTime: 857.6 seconds
RetCode: 0
Status:   OK  
CheckDir: CAGEr.Rcheck
Warnings: 0

Command output

##############################################################################
##############################################################################
###
### Running command:
###
###   /home/biocbuild/R/R/bin/R CMD check --install=check:CAGEr.install-out.txt --library=/home/biocbuild/R/R/site-library --no-vignettes --timings CAGEr_2.14.0.tar.gz
###
##############################################################################
##############################################################################


* using log directory ‘/home/biocbuild/bbs-3.21-bioc/meat/CAGEr.Rcheck’
* using R Under development (unstable) (2025-02-19 r87757)
* using platform: aarch64-unknown-linux-gnu
* R was compiled by
    aarch64-unknown-linux-gnu-gcc (GCC) 14.2.0
    GNU Fortran (GCC) 14.2.0
* running under: openEuler 24.03 (LTS-SP1)
* using session charset: UTF-8
* using option ‘--no-vignettes’
* checking for file ‘CAGEr/DESCRIPTION’ ... OK
* this is package ‘CAGEr’ version ‘2.14.0’
* package encoding: UTF-8
* checking package namespace information ... OK
* checking package dependencies ... INFO
Imports includes 29 non-default packages.
Importing from so many packages makes the package vulnerable to any of
them becoming unavailable.  Move as many as possible to Suggests and
use conditionally.
* checking if this is a source package ... OK
* checking if there is a namespace ... OK
* checking for hidden files and directories ... OK
* checking for portable file names ... OK
* checking for sufficient/correct file permissions ... OK
* checking whether package ‘CAGEr’ can be installed ... OK
* checking installed package size ... OK
* checking package directory ... OK
* checking ‘build’ directory ... OK
* checking DESCRIPTION meta-information ... OK
* checking top-level files ... OK
* checking for left-over files ... OK
* checking index information ... OK
* checking package subdirectories ... OK
* checking code files for non-ASCII characters ... OK
* checking R files for syntax errors ... OK
* checking whether the package can be loaded ... OK
* checking whether the package can be loaded with stated dependencies ... OK
* checking whether the package can be unloaded cleanly ... OK
* checking whether the namespace can be loaded with stated dependencies ... OK
* checking whether the namespace can be unloaded cleanly ... OK
* checking loading without being on the library search path ... OK
* checking dependencies in R code ... OK
* checking S3 generic/method consistency ... OK
* checking replacement functions ... OK
* checking foreign function calls ... OK
* checking R code for possible problems ... OK
* checking Rd files ... OK
* checking Rd metadata ... OK
* checking Rd cross-references ... NOTE
Found the following Rd file(s) with Rd \link{} targets missing package
anchors:
  CAGEexp-class.Rd: MultiAssayExperiment, DataFrame, Rle
  CAGEr-class.Rd: MultiAssayExperiment
  CTSStagCount.Rd: DataFrame, Rle, RangedSummarizedExperiment
  CTSStoGenes.Rd: SummarizedExperiment
  CustomConsensusClusters.Rd: GRanges, RangedSummarizedExperiment
  TSSlogo.Rd: BSgenome
  aggregateTagClusters.Rd: RangedSummarizedExperiment
  annotateCTSS.Rd: GRanges, TxDb
  bam2CTSS.Rd: GRanges
  byCtss.Rd: data.table
  consensusClusters.Rd: GRanges, SummarizedExperiment
  distclu.Rd: GRangesList
  dot-ctss_summary_for_clusters.Rd: GRanges
  expressionClasses.Rd: Rle
  flagLowExpCTSS.Rd: Rle
  getCTSS.Rd: RangedSummarizedExperiment
  import.CAGEscanMolecule.Rd: GRanges
  import.CTSS.Rd: GPos
  loadFileIntoGPos.Rd: GPos
  moleculesGR2CTSS.Rd: GRanges
  paraclu.Rd: RangedSummarizedExperiment, GRangesList
  plotCorrelation.Rd: SummarizedExperiment, DataFrame
  quantilePositions.Rd: RangedSummarizedExperiment
  ranges2annot.Rd: rowRanges, Rle
  ranges2names.Rd: Rle
  strandInvaders.Rd: Rle
Please provide package anchors for all Rd \link{} targets not in the
package itself and the base packages.
* checking for missing documentation entries ... OK
* checking for code/documentation mismatches ... OK
* checking Rd \usage sections ... OK
* checking Rd contents ... OK
* checking for unstated dependencies in examples ... OK
* checking contents of ‘data’ directory ... OK
* checking data for non-ASCII characters ... OK
* checking LazyData ... OK
* checking data for ASCII and uncompressed saves ... OK
* checking files in ‘vignettes’ ... OK
* checking examples ... OK
Examples with CPU (user + system) or elapsed time > 5s
                             user system elapsed
paraclu                    71.526  0.316  72.027
exportToTrack              58.482  0.198  58.818
aggregateTagClusters       32.710  0.619  33.408
scoreShift                 27.522  0.240  27.828
quantilePositions          19.747  0.048  19.847
annotateCTSS               19.300  0.191  19.540
distclu                    14.945  0.116  15.094
plotExpressionProfiles     12.435  0.063  12.529
getExpressionProfiles       7.941  0.044   8.008
CustomConsensusClusters     7.629  0.267   7.914
cumulativeCTSSdistribution  5.588  0.080   5.680
plotAnnot                   4.973  0.020   5.004
* checking for unstated dependencies in vignettes ... OK
* checking package vignettes ... OK
* checking running R code from vignettes ... SKIPPED
* checking re-building of vignette outputs ... SKIPPED
* checking PDF version of manual ... OK
* DONE

Status: 1 NOTE
See
  ‘/home/biocbuild/bbs-3.21-bioc/meat/CAGEr.Rcheck/00check.log’
for details.


Installation output

CAGEr.Rcheck/00install.out

##############################################################################
##############################################################################
###
### Running command:
###
###   /home/biocbuild/R/R/bin/R CMD INSTALL CAGEr
###
##############################################################################
##############################################################################


* installing to library ‘/home/biocbuild/R/R-devel_2025-02-19/site-library’
* installing *source* package ‘CAGEr’ ...
** this is package ‘CAGEr’ version ‘2.14.0’
** using staged installation
** R
** data
*** moving datasets to lazyload DB
** inst
** byte-compile and prepare package for lazy loading
** help
*** installing help indices
** building package indices
** installing vignettes
** testing if installed package can be loaded from temporary location
** testing if installed package can be loaded from final location
** testing if installed package keeps a record of temporary installation path
* DONE (CAGEr)

Tests output


Example timings

CAGEr.Rcheck/CAGEr-Ex.timings

nameusersystemelapsed
CAGEexp-class3.8660.2684.166
CAGEr_Multicore4.4150.1874.612
CTSS-class0.3920.0080.401
CTSScoordinates0.1310.0000.131
CTSSnormalizedTpm1.0870.0201.109
CTSStagCount1.0020.0561.060
CTSStoGenes0.5050.0640.570
CustomConsensusClusters7.6290.2677.914
GeneExpDESeq20.6920.0440.738
GeneExpSE0.0060.0000.005
QuantileWidthFunctions0.1910.0000.191
TSSlogo4.2930.1044.426
aggregateTagClusters32.710 0.61933.408
annotateCTSS19.300 0.19119.540
byCtss0.0230.0000.023
consensusClusters0.2540.0040.258
consensusClustersDESeq23.2520.0003.260
consensusClustersTpm0.0080.0000.008
cumulativeCTSSdistribution5.5880.0805.680
distclu14.945 0.11615.094
dot-ctss_summary_for_clusters1.2540.0001.256
exampleCAGEexp000
exportToTrack58.482 0.19858.818
expressionClasses3.0370.0003.046
filteredCTSSidx0.0140.0000.014
flagLowExpCTSS0.0490.0040.053
genomeName0.0010.0000.000
getCTSS1.4350.0241.463
getExpressionProfiles7.9410.0448.008
getShiftingPromoters3.2250.0243.258
hanabi0.3840.0040.389
hanabiPlot0.4300.0120.444
import.CAGEscanMolecule000
import.CTSS0.1150.0080.122
import.bam0.0010.0000.000
import.bedCTSS000
import.bedScore000
import.bedmolecule000
importPublicData000
inputFiles0.0020.0000.002
inputFilesType0.0010.0000.002
librarySizes0.0010.0000.002
mapStats0.0750.0000.075
mergeCAGEsets3.0920.0643.166
mergeSamples0.6730.0110.687
moleculesGR2CTSS0.2030.0040.207
normalizeTagCount0.7100.0080.716
paraclu71.526 0.31672.027
parseCAGEscanBlocksToGrangeTSS0.0310.0000.031
plotAnnot4.9730.0205.004
plotCorrelation0.3520.0040.356
plotExpressionProfiles12.435 0.06312.529
plotInterquantileWidth3.5070.0163.534
plotReverseCumulatives4.1040.0164.120
quantilePositions19.747 0.04819.847
quickEnhancers0.0000.0000.001
ranges2annot0.5880.0160.606
ranges2genes0.0900.0080.097
ranges2names0.0910.0040.095
resetCAGEexp0.4870.0120.500
rowSums.RleDataFrame0.030.000.03
rowsum.RleDataFrame0.0350.0000.035
sampleLabels0.0060.0000.007
scoreShift27.522 0.24027.828
seqNameTotalsSE0.0050.0000.005
setColors0.4220.0040.427
strandInvaders0.8560.0390.895
summariseChrExpr0.5200.0000.521
tagClusters0.5180.0000.519