| Back to Multiple platform build/check report for BioC 3.20: simplified long |
|
This page was generated on 2024-11-09 21:30 -0500 (Sat, 09 Nov 2024).
| Hostname | OS | Arch (*) | R version | Installed pkgs |
|---|---|---|---|---|
| teran2 | Linux (Ubuntu 24.04.1 LTS) | x86_64 | 4.4.1 (2024-06-14) -- "Race for Your Life" | 4505 |
| palomino8 | Windows Server 2022 Datacenter | x64 | 4.4.1 (2024-06-14 ucrt) -- "Race for Your Life" | 4506 |
| lconway | macOS 12.7.1 Monterey | x86_64 | 4.4.1 (2024-06-14) -- "Race for Your Life" | 4538 |
| kjohnson3 | macOS 13.6.5 Ventura | arm64 | 4.4.1 (2024-06-14) -- "Race for Your Life" | 4486 |
| kunpeng2 | Linux (openEuler 22.03 LTS-SP1) | aarch64 | 4.4.1 (2024-06-14) -- "Race for Your Life" | 4493 |
| Click on any hostname to see more info about the system (e.g. compilers) (*) as reported by 'uname -p', except on Windows and Mac OS X | ||||
| Package 787/2289 | Hostname | OS / Arch | INSTALL | BUILD | CHECK | BUILD BIN | ||||||||
| gemma.R 3.2.0 (landing page) Ogan Mancarci
| teran2 | Linux (Ubuntu 24.04.1 LTS) / x86_64 | OK | OK | OK | |||||||||
| palomino8 | Windows Server 2022 Datacenter / x64 | OK | OK | OK | OK | |||||||||
| lconway | macOS 12.7.1 Monterey / x86_64 | OK | OK | OK | OK | |||||||||
| kjohnson3 | macOS 13.6.5 Ventura / arm64 | OK | OK | OK | OK | |||||||||
| kunpeng2 | Linux (openEuler 22.03 LTS-SP1) / aarch64 | OK | OK | OK | ||||||||||
|
To the developers/maintainers of the gemma.R package: - Allow up to 24 hours (and sometimes 48 hours) for your latest push to git@git.bioconductor.org:packages/gemma.R.git to reflect on this report. See Troubleshooting Build Report for more information. - Use the following Renviron settings to reproduce errors and warnings. - If 'R CMD check' started to fail recently on the Linux builder(s) over a missing dependency, add the missing dependency to 'Suggests:' in your DESCRIPTION file. See Renviron.bioc for more information. |
| Package: gemma.R |
| Version: 3.2.0 |
| Command: /Library/Frameworks/R.framework/Resources/bin/R CMD check --install=check:gemma.R.install-out.txt --library=/Library/Frameworks/R.framework/Resources/library --no-vignettes --timings gemma.R_3.2.0.tar.gz |
| StartedAt: 2024-11-09 02:55:55 -0500 (Sat, 09 Nov 2024) |
| EndedAt: 2024-11-09 03:05:04 -0500 (Sat, 09 Nov 2024) |
| EllapsedTime: 549.4 seconds |
| RetCode: 0 |
| Status: OK |
| CheckDir: gemma.R.Rcheck |
| Warnings: 0 |
##############################################################################
##############################################################################
###
### Running command:
###
### /Library/Frameworks/R.framework/Resources/bin/R CMD check --install=check:gemma.R.install-out.txt --library=/Library/Frameworks/R.framework/Resources/library --no-vignettes --timings gemma.R_3.2.0.tar.gz
###
##############################################################################
##############################################################################
* using log directory ‘/Users/biocbuild/bbs-3.20-bioc/meat/gemma.R.Rcheck’
* using R version 4.4.1 (2024-06-14)
* using platform: aarch64-apple-darwin20
* R was compiled by
Apple clang version 14.0.0 (clang-1400.0.29.202)
GNU Fortran (GCC) 12.2.0
* running under: macOS Ventura 13.6.7
* using session charset: UTF-8
* using option ‘--no-vignettes’
* checking for file ‘gemma.R/DESCRIPTION’ ... OK
* this is package ‘gemma.R’ version ‘3.2.0’
* package encoding: UTF-8
* checking package namespace information ... OK
* checking package dependencies ...Warning: unable to access index for repository https://CRAN.R-project.org/src/contrib:
cannot open URL 'https://CRAN.R-project.org/src/contrib/PACKAGES'
OK
* checking if this is a source package ... OK
* checking if there is a namespace ... OK
* checking for hidden files and directories ... OK
* checking for portable file names ... OK
* checking for sufficient/correct file permissions ... OK
* checking whether package ‘gemma.R’ can be installed ... OK
* checking installed package size ... OK
* checking package directory ... OK
* checking ‘build’ directory ... OK
* checking DESCRIPTION meta-information ... OK
* checking top-level files ... OK
* checking for left-over files ... OK
* checking index information ... OK
* checking package subdirectories ... OK
* checking code files for non-ASCII characters ... OK
* checking R files for syntax errors ... OK
* checking whether the package can be loaded ... OK
* checking whether the package can be loaded with stated dependencies ... OK
* checking whether the package can be unloaded cleanly ... OK
* checking whether the namespace can be loaded with stated dependencies ... OK
* checking whether the namespace can be unloaded cleanly ... OK
* checking dependencies in R code ... OK
* checking S3 generic/method consistency ... OK
* checking replacement functions ... OK
* checking foreign function calls ... OK
* checking R code for possible problems ... OK
* checking Rd files ... OK
* checking Rd metadata ... OK
* checking Rd cross-references ... OK
* checking for missing documentation entries ... OK
* checking for code/documentation mismatches ... OK
* checking Rd \usage sections ... OK
* checking Rd contents ... OK
* checking for unstated dependencies in examples ... OK
* checking files in ‘vignettes’ ... OK
* checking examples ... OK
Examples with CPU (user + system) or elapsed time > 5s
user system elapsed
get_dataset_object 2.677 0.084 7.778
get_dataset_raw_expression 0.366 0.020 5.752
get_dataset_expression 0.248 0.021 7.971
get_dataset_differential_expression_analyses 0.136 0.011 5.723
* checking for unstated dependencies in ‘tests’ ... OK
* checking tests ...
Running ‘testthat.R’
OK
* checking for unstated dependencies in vignettes ... OK
* checking package vignettes ... OK
* checking running R code from vignettes ... SKIPPED
* checking re-building of vignette outputs ... SKIPPED
* checking PDF version of manual ... OK
* DONE
Status: OK
gemma.R.Rcheck/00install.out
############################################################################## ############################################################################## ### ### Running command: ### ### /Library/Frameworks/R.framework/Resources/bin/R CMD INSTALL gemma.R ### ############################################################################## ############################################################################## * installing to library ‘/Library/Frameworks/R.framework/Versions/4.4-arm64/Resources/library’ * installing *source* package ‘gemma.R’ ... ** using staged installation ** R ** inst ** byte-compile and prepare package for lazy loading ** help *** installing help indices *** copying figures ** building package indices ** installing vignettes ** testing if installed package can be loaded from temporary location ** testing if installed package can be loaded from final location ** testing if installed package keeps a record of temporary installation path * DONE (gemma.R)
gemma.R.Rcheck/tests/testthat.Rout
R version 4.4.1 (2024-06-14) -- "Race for Your Life"
Copyright (C) 2024 The R Foundation for Statistical Computing
Platform: aarch64-apple-darwin20
R is free software and comes with ABSOLUTELY NO WARRANTY.
You are welcome to redistribute it under certain conditions.
Type 'license()' or 'licence()' for distribution details.
R is a collaborative project with many contributors.
Type 'contributors()' for more information and
'citation()' on how to cite R or R packages in publications.
Type 'demo()' for some demos, 'help()' for on-line help, or
'help.start()' for an HTML browser interface to help.
Type 'q()' to quit R.
> library(testthat)
> library(dplyr)
Attaching package: 'dplyr'
The following object is masked from 'package:testthat':
matches
The following objects are masked from 'package:stats':
filter, lag
The following objects are masked from 'package:base':
intersect, setdiff, setequal, union
>
> # Prevent certificate issues for GitHub actions
> options(gemma.SSL = FALSE)
> # get gemma api path if it's set in the environment
> gemma.R:::setGemmaPath('prod')
[1] "https://gemma.msl.ubc.ca/rest/v2/"
> print(gemma.R:::gemmaPath())
[1] "https://gemma.msl.ubc.ca/rest/v2/"
> test_check("gemma.R")
Loading required package: gemma.R
[ FAIL 0 | WARN 1 | SKIP 4 | PASS 193 ]
══ Skipped tests (4) ═══════════════════════════════════════════════════════════
• On Bioconductor (4): 'testCaches.R:37:3', 'testConvenience.R:15:5',
'testConvenience.R:37:5', 'testDatasetEndpoints.R:86:5'
[ FAIL 0 | WARN 1 | SKIP 4 | PASS 193 ]
>
>
>
> proc.time()
user system elapsed
20.161 1.043 258.324
gemma.R.Rcheck/gemma.R-Ex.timings
| name | user | system | elapsed | |
| dot-getResultSets | 0 | 0 | 0 | |
| filter_properties | 0.026 | 0.002 | 0.029 | |
| forget_gemma_memoised | 0.005 | 0.011 | 0.021 | |
| gemma_call | 0.044 | 0.005 | 0.817 | |
| get_child_terms | 0.094 | 0.006 | 0.198 | |
| get_dataset_annotations | 0.003 | 0.001 | 0.102 | |
| get_dataset_design | 0.074 | 0.004 | 0.197 | |
| get_dataset_differential_expression_analyses | 0.136 | 0.011 | 5.723 | |
| get_dataset_expression | 0.248 | 0.021 | 7.971 | |
| get_dataset_expression_for_genes | 0.066 | 0.006 | 0.340 | |
| get_dataset_object | 2.677 | 0.084 | 7.778 | |
| get_dataset_platforms | 0.003 | 0.000 | 0.089 | |
| get_dataset_processed_expression | 0.398 | 0.019 | 4.320 | |
| get_dataset_quantitation_types | 0.003 | 0.001 | 0.191 | |
| get_dataset_raw_expression | 0.366 | 0.020 | 5.752 | |
| get_dataset_samples | 0.045 | 0.004 | 0.223 | |
| get_datasets | 0.053 | 0.006 | 4.123 | |
| get_datasets_by_ids | 0.013 | 0.001 | 0.178 | |
| get_differential_expression_values | 0.074 | 0.013 | 3.044 | |
| get_gene_differential_expression_values | 0.219 | 0.013 | 3.951 | |
| get_gene_go_terms | 0.011 | 0.001 | 0.182 | |
| get_gene_locations | 0.007 | 0.000 | 0.239 | |
| get_gene_probes | 0.009 | 0.002 | 0.249 | |
| get_genes | 0.007 | 0.000 | 0.183 | |
| get_platform_annotations | 0.257 | 0.015 | 2.467 | |
| get_platform_datasets | 0.013 | 0.001 | 0.290 | |
| get_platform_element_genes | 0.004 | 0.000 | 0.101 | |
| get_platforms_by_ids | 0.009 | 0.000 | 0.193 | |
| get_result_sets | 0.011 | 0.001 | 0.187 | |
| get_taxa | 0.003 | 0.000 | 0.078 | |
| get_taxa_by_ids | 0.003 | 0.001 | 0.077 | |
| get_taxon_datasets | 0.013 | 0.001 | 0.255 | |
| make_design | 0.151 | 0.005 | 0.353 | |
| search_annotations | 0.003 | 0.001 | 0.079 | |
| search_datasets | 0.011 | 0.001 | 0.342 | |
| search_gemma | 0.034 | 0.005 | 0.309 | |
| update_result | 0.159 | 0.008 | 3.121 | |