| Back to Multiple platform build/check report for BioC 3.20: simplified long | 
 | 
This page was generated on 2024-11-20 12:07 -0500 (Wed, 20 Nov 2024).
| Hostname | OS | Arch (*) | R version | Installed pkgs | 
|---|---|---|---|---|
| teran2 | Linux (Ubuntu 24.04.1 LTS) | x86_64 | 4.4.2 (2024-10-31) -- "Pile of Leaves" | 4481 | 
| nebbiolo2 | Linux (Ubuntu 24.04.1 LTS) | x86_64 | 4.4.2 (2024-10-31) -- "Pile of Leaves" | 4479 | 
| palomino8 | Windows Server 2022 Datacenter | x64 | 4.4.2 (2024-10-31 ucrt) -- "Pile of Leaves" | 4359 | 
| lconway | macOS 12.7.1 Monterey | x86_64 | 4.4.1 (2024-06-14) -- "Race for Your Life" | 4539 | 
| kunpeng2 | Linux (openEuler 22.03 LTS-SP1) | aarch64 | 4.4.1 (2024-06-14) -- "Race for Your Life" | 4493 | 
| Click on any hostname to see more info about the system (e.g. compilers) (*) as reported by 'uname -p', except on Windows and Mac OS X | ||||
| Package 787/2289 | Hostname | OS / Arch | INSTALL | BUILD | CHECK | BUILD BIN | ||||||||
| gemma.R 3.2.0  (landing page) Ogan Mancarci 
 | teran2 | Linux (Ubuntu 24.04.1 LTS) / x86_64 | OK | OK | OK |  | ||||||||
| nebbiolo2 | Linux (Ubuntu 24.04.1 LTS) / x86_64 | OK | OK | OK | ||||||||||
| palomino8 | Windows Server 2022 Datacenter / x64 | OK | OK | OK | OK |  | ||||||||
| lconway | macOS 12.7.1 Monterey / x86_64 | OK | OK | OK | OK |  | ||||||||
| kunpeng2 | Linux (openEuler 22.03 LTS-SP1) / aarch64 | OK | OK | OK | ||||||||||
| To the developers/maintainers of the gemma.R package: - Allow up to 24 hours (and sometimes 48 hours) for your latest push to git@git.bioconductor.org:packages/gemma.R.git to reflect on this report. See Troubleshooting Build Report for more information. - Use the following Renviron settings to reproduce errors and warnings. - If 'R CMD check' started to fail recently on the Linux builder(s) over a missing dependency, add the missing dependency to 'Suggests:' in your DESCRIPTION file. See Renviron.bioc for more information. - See Martin Grigorov's blog post for how to debug Linux ARM64 related issues on a x86_64 host. | 
| Package: gemma.R | 
| Version: 3.2.0 | 
| Command: /home/biocbuild/R/R/bin/R CMD check --install=check:gemma.R.install-out.txt --library=/home/biocbuild/R/R/site-library --no-vignettes --timings gemma.R_3.2.0.tar.gz | 
| StartedAt: 2024-11-20 08:04:01 -0000 (Wed, 20 Nov 2024) | 
| EndedAt: 2024-11-20 08:13:26 -0000 (Wed, 20 Nov 2024) | 
| EllapsedTime: 565.1 seconds | 
| RetCode: 0 | 
| Status: OK | 
| CheckDir: gemma.R.Rcheck | 
| Warnings: 0 | 
##############################################################################
##############################################################################
###
### Running command:
###
###   /home/biocbuild/R/R/bin/R CMD check --install=check:gemma.R.install-out.txt --library=/home/biocbuild/R/R/site-library --no-vignettes --timings gemma.R_3.2.0.tar.gz
###
##############################################################################
##############################################################################
* using log directory ‘/home/biocbuild/bbs-3.20-bioc/meat/gemma.R.Rcheck’
* using R version 4.4.1 (2024-06-14)
* using platform: aarch64-unknown-linux-gnu
* R was compiled by
    gcc (GCC) 12.2.1 20220819 (openEuler 12.2.1-14)
    GNU Fortran (GCC) 10.3.1
* running under: openEuler 22.03 (LTS-SP1)
* using session charset: UTF-8
* using option ‘--no-vignettes’
* checking for file ‘gemma.R/DESCRIPTION’ ... OK
* this is package ‘gemma.R’ version ‘3.2.0’
* package encoding: UTF-8
* checking package namespace information ... OK
* checking package dependencies ... OK
* checking if this is a source package ... OK
* checking if there is a namespace ... OK
* checking for hidden files and directories ... OK
* checking for portable file names ... OK
* checking for sufficient/correct file permissions ... OK
* checking whether package ‘gemma.R’ can be installed ... OK
* checking installed package size ... OK
* checking package directory ... OK
* checking ‘build’ directory ... OK
* checking DESCRIPTION meta-information ... OK
* checking top-level files ... OK
* checking for left-over files ... OK
* checking index information ... OK
* checking package subdirectories ... OK
* checking code files for non-ASCII characters ... OK
* checking R files for syntax errors ... OK
* checking whether the package can be loaded ... OK
* checking whether the package can be loaded with stated dependencies ... OK
* checking whether the package can be unloaded cleanly ... OK
* checking whether the namespace can be loaded with stated dependencies ... OK
* checking whether the namespace can be unloaded cleanly ... OK
* checking loading without being on the library search path ... OK
* checking dependencies in R code ... OK
* checking S3 generic/method consistency ... OK
* checking replacement functions ... OK
* checking foreign function calls ... OK
* checking R code for possible problems ... OK
* checking Rd files ... OK
* checking Rd metadata ... OK
* checking Rd cross-references ... OK
* checking for missing documentation entries ... OK
* checking for code/documentation mismatches ... OK
* checking Rd \usage sections ... OK
* checking Rd contents ... OK
* checking for unstated dependencies in examples ... OK
* checking files in ‘vignettes’ ... OK
* checking examples ... OK
Examples with CPU (user + system) or elapsed time > 5s
                                               user system elapsed
get_dataset_object                           10.327  0.650  15.414
get_dataset_raw_expression                    1.445  0.459   7.651
get_dataset_processed_expression              1.468  0.163   5.860
get_gene_differential_expression_values       1.206  0.159   5.627
get_dataset_expression                        0.969  0.112   8.592
update_result                                 0.721  0.163   5.995
get_dataset_differential_expression_analyses  0.517  0.028   6.384
get_datasets                                  0.192  0.045   6.315
* checking for unstated dependencies in ‘tests’ ... OK
* checking tests ...
  Running ‘testthat.R’
 OK
* checking for unstated dependencies in vignettes ... OK
* checking package vignettes ... OK
* checking running R code from vignettes ... SKIPPED
* checking re-building of vignette outputs ... SKIPPED
* checking PDF version of manual ... OK
* DONE
Status: OK
gemma.R.Rcheck/00install.out
############################################################################## ############################################################################## ### ### Running command: ### ### /home/biocbuild/R/R/bin/R CMD INSTALL gemma.R ### ############################################################################## ############################################################################## * installing to library ‘/home/biocbuild/R/R-4.4.1/site-library’ * installing *source* package ‘gemma.R’ ... ** using staged installation ** R ** inst ** byte-compile and prepare package for lazy loading ** help *** installing help indices *** copying figures ** building package indices ** installing vignettes ** testing if installed package can be loaded from temporary location ** testing if installed package can be loaded from final location ** testing if installed package keeps a record of temporary installation path * DONE (gemma.R)
gemma.R.Rcheck/tests/testthat.Rout
R version 4.4.1 (2024-06-14) -- "Race for Your Life"
Copyright (C) 2024 The R Foundation for Statistical Computing
Platform: aarch64-unknown-linux-gnu
R is free software and comes with ABSOLUTELY NO WARRANTY.
You are welcome to redistribute it under certain conditions.
Type 'license()' or 'licence()' for distribution details.
R is a collaborative project with many contributors.
Type 'contributors()' for more information and
'citation()' on how to cite R or R packages in publications.
Type 'demo()' for some demos, 'help()' for on-line help, or
'help.start()' for an HTML browser interface to help.
Type 'q()' to quit R.
> library(testthat)
> library(dplyr)
Attaching package: 'dplyr'
The following object is masked from 'package:testthat':
    matches
The following objects are masked from 'package:stats':
    filter, lag
The following objects are masked from 'package:base':
    intersect, setdiff, setequal, union
> 
> # Prevent certificate issues for GitHub actions
> options(gemma.SSL = FALSE)
> # get gemma api path if it's set in the environment
> gemma.R:::setGemmaPath('prod')
[1] "https://gemma.msl.ubc.ca/rest/v2/"
> print(gemma.R:::gemmaPath())
[1] "https://gemma.msl.ubc.ca/rest/v2/"
> test_check("gemma.R")
Loading required package: gemma.R
[ FAIL 0 | WARN 0 | SKIP 4 | PASS 193 ]
══ Skipped tests (4) ═══════════════════════════════════════════════════════════
• On Bioconductor (4): 'testCaches.R:37:3', 'testConvenience.R:15:5',
  'testConvenience.R:37:5', 'testDatasetEndpoints.R:86:5'
[ FAIL 0 | WARN 0 | SKIP 4 | PASS 193 ]
> 
> 
> 
> proc.time()
   user  system elapsed 
 78.863   1.997 424.027 
gemma.R.Rcheck/gemma.R-Ex.timings
| name | user | system | elapsed | |
| dot-getResultSets | 0 | 0 | 0 | |
| filter_properties | 0.088 | 0.012 | 0.102 | |
| forget_gemma_memoised | 0.012 | 0.016 | 0.056 | |
| gemma_call | 0.184 | 0.020 | 1.544 | |
| get_child_terms | 0.373 | 0.018 | 0.636 | |
| get_dataset_annotations | 0.005 | 0.004 | 0.240 | |
| get_dataset_design | 0.323 | 0.004 | 0.599 | |
| get_dataset_differential_expression_analyses | 0.517 | 0.028 | 6.384 | |
| get_dataset_expression | 0.969 | 0.112 | 8.592 | |
| get_dataset_expression_for_genes | 0.306 | 0.015 | 1.021 | |
| get_dataset_object | 10.327 | 0.650 | 15.414 | |
| get_dataset_platforms | 0.014 | 0.008 | 0.718 | |
| get_dataset_processed_expression | 1.468 | 0.163 | 5.860 | |
| get_dataset_quantitation_types | 0.006 | 0.007 | 0.356 | |
| get_dataset_raw_expression | 1.445 | 0.459 | 7.651 | |
| get_dataset_samples | 0.252 | 0.068 | 0.807 | |
| get_datasets | 0.192 | 0.045 | 6.315 | |
| get_datasets_by_ids | 0.050 | 0.000 | 0.528 | |
| get_differential_expression_values | 0.263 | 0.024 | 4.394 | |
| get_gene_differential_expression_values | 1.206 | 0.159 | 5.627 | |
| get_gene_go_terms | 0.045 | 0.017 | 0.995 | |
| get_gene_locations | 0.026 | 0.004 | 0.557 | |
| get_gene_probes | 0.031 | 0.004 | 0.353 | |
| get_genes | 0.023 | 0.016 | 0.528 | |
| get_platform_annotations | 0.677 | 0.039 | 3.720 | |
| get_platform_datasets | 0.042 | 0.015 | 1.616 | |
| get_platform_element_genes | 0.011 | 0.004 | 0.272 | |
| get_platforms_by_ids | 0.032 | 0.000 | 0.530 | |
| get_result_sets | 0.050 | 0.005 | 0.542 | |
| get_taxa | 0.015 | 0.000 | 0.246 | |
| get_taxa_by_ids | 0.012 | 0.000 | 0.242 | |
| get_taxon_datasets | 0.05 | 0.00 | 0.60 | |
| make_design | 0.908 | 0.123 | 1.766 | |
| search_annotations | 0.012 | 0.004 | 0.250 | |
| search_datasets | 0.048 | 0.016 | 0.552 | |
| search_gemma | 0.110 | 0.016 | 0.995 | |
| update_result | 0.721 | 0.163 | 5.995 | |