| Back to Multiple platform build/check report for BioC 3.20: simplified long |
|
This page was generated on 2025-03-13 12:06 -0400 (Thu, 13 Mar 2025).
| Hostname | OS | Arch (*) | R version | Installed pkgs |
|---|---|---|---|---|
| nebbiolo2 | Linux (Ubuntu 24.04.1 LTS) | x86_64 | 4.4.3 (2025-02-28) -- "Trophy Case" | 4722 |
| palomino8 | Windows Server 2022 Datacenter | x64 | 4.4.3 (2025-02-28 ucrt) -- "Trophy Case" | 4487 |
| merida1 | macOS 12.7.5 Monterey | x86_64 | 4.4.3 (2025-02-28) -- "Trophy Case" | 4514 |
| kjohnson1 | macOS 13.6.6 Ventura | arm64 | 4.4.3 (2025-02-28) -- "Trophy Case" | 4441 |
| taishan | Linux (openEuler 24.03 LTS) | aarch64 | 4.4.3 (2025-02-28) -- "Trophy Case" | 4391 |
| Click on any hostname to see more info about the system (e.g. compilers) (*) as reported by 'uname -p', except on Windows and Mac OS X | ||||
| Package 787/2289 | Hostname | OS / Arch | INSTALL | BUILD | CHECK | BUILD BIN | ||||||||
| gemma.R 3.2.1 (landing page) Ogan Mancarci
| nebbiolo2 | Linux (Ubuntu 24.04.1 LTS) / x86_64 | OK | OK | OK | |||||||||
| palomino8 | Windows Server 2022 Datacenter / x64 | OK | OK | OK | OK | |||||||||
| merida1 | macOS 12.7.5 Monterey / x86_64 | OK | OK | OK | OK | |||||||||
| kjohnson1 | macOS 13.6.6 Ventura / arm64 | OK | OK | OK | OK | |||||||||
| taishan | Linux (openEuler 24.03 LTS) / aarch64 | OK | OK | OK | ||||||||||
|
To the developers/maintainers of the gemma.R package: - Allow up to 24 hours (and sometimes 48 hours) for your latest push to git@git.bioconductor.org:packages/gemma.R.git to reflect on this report. See Troubleshooting Build Report for more information. - Use the following Renviron settings to reproduce errors and warnings. - If 'R CMD check' started to fail recently on the Linux builder(s) over a missing dependency, add the missing dependency to 'Suggests:' in your DESCRIPTION file. See Renviron.bioc for more information. |
| Package: gemma.R |
| Version: 3.2.1 |
| Command: F:\biocbuild\bbs-3.20-bioc\R\bin\R.exe CMD check --no-multiarch --install=check:gemma.R.install-out.txt --library=F:\biocbuild\bbs-3.20-bioc\R\library --no-vignettes --timings gemma.R_3.2.1.tar.gz |
| StartedAt: 2025-03-11 01:51:52 -0400 (Tue, 11 Mar 2025) |
| EndedAt: 2025-03-11 02:00:14 -0400 (Tue, 11 Mar 2025) |
| EllapsedTime: 502.0 seconds |
| RetCode: 0 |
| Status: OK |
| CheckDir: gemma.R.Rcheck |
| Warnings: 0 |
##############################################################################
##############################################################################
###
### Running command:
###
### F:\biocbuild\bbs-3.20-bioc\R\bin\R.exe CMD check --no-multiarch --install=check:gemma.R.install-out.txt --library=F:\biocbuild\bbs-3.20-bioc\R\library --no-vignettes --timings gemma.R_3.2.1.tar.gz
###
##############################################################################
##############################################################################
* using log directory 'F:/biocbuild/bbs-3.20-bioc/meat/gemma.R.Rcheck'
* using R version 4.4.3 (2025-02-28 ucrt)
* using platform: x86_64-w64-mingw32
* R was compiled by
gcc.exe (GCC) 13.3.0
GNU Fortran (GCC) 13.3.0
* running under: Windows Server 2022 x64 (build 20348)
* using session charset: UTF-8
* using option '--no-vignettes'
* checking for file 'gemma.R/DESCRIPTION' ... OK
* this is package 'gemma.R' version '3.2.1'
* package encoding: UTF-8
* checking package namespace information ... OK
* checking package dependencies ... OK
* checking if this is a source package ... OK
* checking if there is a namespace ... OK
* checking for hidden files and directories ... OK
* checking for portable file names ... OK
* checking whether package 'gemma.R' can be installed ... OK
* checking installed package size ... OK
* checking package directory ... OK
* checking 'build' directory ... OK
* checking DESCRIPTION meta-information ... OK
* checking top-level files ... OK
* checking for left-over files ... OK
* checking index information ... OK
* checking package subdirectories ... OK
* checking code files for non-ASCII characters ... OK
* checking R files for syntax errors ... OK
* checking whether the package can be loaded ... OK
* checking whether the package can be loaded with stated dependencies ... OK
* checking whether the package can be unloaded cleanly ... OK
* checking whether the namespace can be loaded with stated dependencies ... OK
* checking whether the namespace can be unloaded cleanly ... OK
* checking dependencies in R code ... OK
* checking S3 generic/method consistency ... OK
* checking replacement functions ... OK
* checking foreign function calls ... OK
* checking R code for possible problems ... OK
* checking Rd files ... OK
* checking Rd metadata ... OK
* checking Rd cross-references ... OK
* checking for missing documentation entries ... OK
* checking for code/documentation mismatches ... OK
* checking Rd \usage sections ... OK
* checking Rd contents ... OK
* checking for unstated dependencies in examples ... OK
* checking files in 'vignettes' ... OK
* checking examples ... OK
Examples with CPU (user + system) or elapsed time > 5s
user system elapsed
get_dataset_object 9.39 0.44 13.04
get_dataset_raw_expression 1.13 0.11 9.39
get_dataset_differential_expression_analyses 0.45 0.06 5.14
* checking for unstated dependencies in 'tests' ... OK
* checking tests ...
Running 'testthat.R'
OK
* checking for unstated dependencies in vignettes ... OK
* checking package vignettes ... OK
* checking running R code from vignettes ... SKIPPED
* checking re-building of vignette outputs ... SKIPPED
* checking PDF version of manual ... OK
* DONE
Status: OK
gemma.R.Rcheck/00install.out
############################################################################## ############################################################################## ### ### Running command: ### ### F:\biocbuild\bbs-3.20-bioc\R\bin\R.exe CMD INSTALL gemma.R ### ############################################################################## ############################################################################## * installing to library 'F:/biocbuild/bbs-3.20-bioc/R/library' * installing *source* package 'gemma.R' ... ** using staged installation ** R ** inst ** byte-compile and prepare package for lazy loading ** help *** installing help indices *** copying figures ** building package indices ** installing vignettes ** testing if installed package can be loaded from temporary location ** testing if installed package can be loaded from final location ** testing if installed package keeps a record of temporary installation path * DONE (gemma.R)
gemma.R.Rcheck/tests/testthat.Rout
R version 4.4.3 (2025-02-28 ucrt) -- "Trophy Case"
Copyright (C) 2025 The R Foundation for Statistical Computing
Platform: x86_64-w64-mingw32/x64
R is free software and comes with ABSOLUTELY NO WARRANTY.
You are welcome to redistribute it under certain conditions.
Type 'license()' or 'licence()' for distribution details.
R is a collaborative project with many contributors.
Type 'contributors()' for more information and
'citation()' on how to cite R or R packages in publications.
Type 'demo()' for some demos, 'help()' for on-line help, or
'help.start()' for an HTML browser interface to help.
Type 'q()' to quit R.
> library(testthat)
> library(dplyr)
Attaching package: 'dplyr'
The following object is masked from 'package:testthat':
matches
The following objects are masked from 'package:stats':
filter, lag
The following objects are masked from 'package:base':
intersect, setdiff, setequal, union
>
> # Prevent certificate issues for GitHub actions
> options(gemma.SSL = FALSE)
> # get gemma api path if it's set in the environment
> gemma.R:::setGemmaPath('prod')
[1] "https://gemma.msl.ubc.ca/rest/v2/"
> print(gemma.R:::gemmaPath())
[1] "https://gemma.msl.ubc.ca/rest/v2/"
> test_check("gemma.R")
Loading required package: gemma.R
[ FAIL 0 | WARN 0 | SKIP 4 | PASS 197 ]
══ Skipped tests (4) ═══════════════════════════════════════════════════════════
• On Bioconductor (4): 'testCaches.R:37:3', 'testConvenience.R:15:5',
'testConvenience.R:37:5', 'testDatasetEndpoints.R:86:5'
[ FAIL 0 | WARN 0 | SKIP 4 | PASS 197 ]
>
>
>
> proc.time()
user system elapsed
127.82 9.31 390.37
gemma.R.Rcheck/gemma.R-Ex.timings
| name | user | system | elapsed | |
| dot-getResultSets | 0 | 0 | 0 | |
| filter_properties | 0.08 | 0.04 | 0.11 | |
| forget_gemma_memoised | 0.00 | 0.09 | 0.11 | |
| gemma_call | 0.25 | 0.05 | 0.55 | |
| get_child_terms | 0.29 | 0.04 | 0.40 | |
| get_dataset_annotations | 0.03 | 0.00 | 0.11 | |
| get_dataset_design | 0.28 | 0.02 | 0.42 | |
| get_dataset_differential_expression_analyses | 0.45 | 0.06 | 5.14 | |
| get_dataset_expression | 0.89 | 0.05 | 3.91 | |
| get_dataset_expression_for_genes | 0.24 | 0.01 | 0.48 | |
| get_dataset_object | 9.39 | 0.44 | 13.04 | |
| get_dataset_platforms | 0.01 | 0.02 | 0.25 | |
| get_dataset_processed_expression | 1.30 | 0.04 | 4.01 | |
| get_dataset_quantitation_types | 0.01 | 0.00 | 0.31 | |
| get_dataset_raw_expression | 1.13 | 0.11 | 9.39 | |
| get_dataset_samples | 0.27 | 0.01 | 0.44 | |
| get_datasets | 0.31 | 0.04 | 1.56 | |
| get_datasets_by_ids | 0.08 | 0.01 | 0.23 | |
| get_differential_expression_values | 0.18 | 0.06 | 3.02 | |
| get_gene_differential_expression_values | 1.14 | 0.05 | 3.86 | |
| get_gene_go_terms | 0.07 | 0.00 | 0.36 | |
| get_gene_locations | 0.03 | 0.00 | 0.25 | |
| get_gene_probes | 0.03 | 0.00 | 0.17 | |
| get_genes | 0.03 | 0.00 | 0.20 | |
| get_platform_annotations | 0.58 | 0.06 | 1.19 | |
| get_platform_datasets | 0.06 | 0.00 | 0.31 | |
| get_platform_element_genes | 0.02 | 0.00 | 0.11 | |
| get_platforms_by_ids | 0.04 | 0.00 | 0.21 | |
| get_result_sets | 0.03 | 0.00 | 0.22 | |
| get_taxa | 0.00 | 0.00 | 0.07 | |
| get_taxa_by_ids | 0.04 | 0.00 | 0.10 | |
| get_taxon_datasets | 0.06 | 0.00 | 0.14 | |
| make_design | 0.72 | 0.00 | 0.81 | |
| search_annotations | 0.03 | 0.00 | 0.09 | |
| search_datasets | 0.08 | 0.00 | 0.21 | |
| search_gemma | 0.22 | 0.00 | 0.48 | |
| update_result | 0.65 | 0.02 | 2.61 | |