| Back to Multiple platform build/check report for BioC 3.20: simplified long |
|
This page was generated on 2024-11-09 21:30 -0500 (Sat, 09 Nov 2024).
| Hostname | OS | Arch (*) | R version | Installed pkgs |
|---|---|---|---|---|
| teran2 | Linux (Ubuntu 24.04.1 LTS) | x86_64 | 4.4.1 (2024-06-14) -- "Race for Your Life" | 4505 |
| palomino8 | Windows Server 2022 Datacenter | x64 | 4.4.1 (2024-06-14 ucrt) -- "Race for Your Life" | 4506 |
| lconway | macOS 12.7.1 Monterey | x86_64 | 4.4.1 (2024-06-14) -- "Race for Your Life" | 4538 |
| kjohnson3 | macOS 13.6.5 Ventura | arm64 | 4.4.1 (2024-06-14) -- "Race for Your Life" | 4486 |
| kunpeng2 | Linux (openEuler 22.03 LTS-SP1) | aarch64 | 4.4.1 (2024-06-14) -- "Race for Your Life" | 4493 |
| Click on any hostname to see more info about the system (e.g. compilers) (*) as reported by 'uname -p', except on Windows and Mac OS X | ||||
| Package 505/2289 | Hostname | OS / Arch | INSTALL | BUILD | CHECK | BUILD BIN | ||||||||
| dar 1.2.0 (landing page) Francesc Catala-Moll
| teran2 | Linux (Ubuntu 24.04.1 LTS) / x86_64 | OK | OK | OK | |||||||||
| palomino8 | Windows Server 2022 Datacenter / x64 | OK | OK | OK | OK | |||||||||
| lconway | macOS 12.7.1 Monterey / x86_64 | OK | OK | OK | OK | |||||||||
| kjohnson3 | macOS 13.6.5 Ventura / arm64 | OK | OK | OK | OK | |||||||||
| kunpeng2 | Linux (openEuler 22.03 LTS-SP1) / aarch64 | OK | OK | OK | ||||||||||
|
To the developers/maintainers of the dar package: - Allow up to 24 hours (and sometimes 48 hours) for your latest push to git@git.bioconductor.org:packages/dar.git to reflect on this report. See Troubleshooting Build Report for more information. - Use the following Renviron settings to reproduce errors and warnings. - If 'R CMD check' started to fail recently on the Linux builder(s) over a missing dependency, add the missing dependency to 'Suggests:' in your DESCRIPTION file. See Renviron.bioc for more information. |
| Package: dar |
| Version: 1.2.0 |
| Command: /Library/Frameworks/R.framework/Resources/bin/R CMD check --install=check:dar.install-out.txt --library=/Library/Frameworks/R.framework/Resources/library --no-vignettes --timings dar_1.2.0.tar.gz |
| StartedAt: 2024-11-09 00:22:28 -0500 (Sat, 09 Nov 2024) |
| EndedAt: 2024-11-09 00:29:54 -0500 (Sat, 09 Nov 2024) |
| EllapsedTime: 446.4 seconds |
| RetCode: 0 |
| Status: OK |
| CheckDir: dar.Rcheck |
| Warnings: 0 |
##############################################################################
##############################################################################
###
### Running command:
###
### /Library/Frameworks/R.framework/Resources/bin/R CMD check --install=check:dar.install-out.txt --library=/Library/Frameworks/R.framework/Resources/library --no-vignettes --timings dar_1.2.0.tar.gz
###
##############################################################################
##############################################################################
* using log directory ‘/Users/biocbuild/bbs-3.20-bioc/meat/dar.Rcheck’
* using R version 4.4.1 (2024-06-14)
* using platform: aarch64-apple-darwin20
* R was compiled by
Apple clang version 14.0.0 (clang-1400.0.29.202)
GNU Fortran (GCC) 12.2.0
* running under: macOS Ventura 13.6.7
* using session charset: UTF-8
* using option ‘--no-vignettes’
* checking for file ‘dar/DESCRIPTION’ ... OK
* this is package ‘dar’ version ‘1.2.0’
* package encoding: UTF-8
* checking package namespace information ... OK
* checking package dependencies ...Warning: unable to access index for repository https://CRAN.R-project.org/src/contrib:
cannot open URL 'https://CRAN.R-project.org/src/contrib/PACKAGES'
OK
* checking if this is a source package ... OK
* checking if there is a namespace ... OK
* checking for hidden files and directories ... OK
* checking for portable file names ... OK
* checking for sufficient/correct file permissions ... OK
* checking whether package ‘dar’ can be installed ... OK
* checking installed package size ... OK
* checking package directory ... OK
* checking ‘build’ directory ... OK
* checking DESCRIPTION meta-information ... OK
* checking top-level files ... OK
* checking for left-over files ... OK
* checking index information ... OK
* checking package subdirectories ... OK
* checking code files for non-ASCII characters ... OK
* checking R files for syntax errors ... OK
* checking whether the package can be loaded ... OK
* checking whether the package can be loaded with stated dependencies ... OK
* checking whether the package can be unloaded cleanly ... OK
* checking whether the namespace can be loaded with stated dependencies ... OK
* checking whether the namespace can be unloaded cleanly ... OK
* checking dependencies in R code ... OK
* checking S3 generic/method consistency ... OK
* checking replacement functions ... OK
* checking foreign function calls ... OK
* checking R code for possible problems ... OK
* checking Rd files ... OK
* checking Rd metadata ... OK
* checking Rd cross-references ... OK
* checking for missing documentation entries ... OK
* checking for code/documentation mismatches ... OK
* checking Rd \usage sections ... OK
* checking Rd contents ... OK
* checking for unstated dependencies in examples ... OK
* checking contents of ‘data’ directory ... OK
* checking data for non-ASCII characters ... OK
* checking data for ASCII and uncompressed saves ... OK
* checking R/sysdata.rda ... OK
* checking files in ‘vignettes’ ... OK
* checking examples ... OK
Examples with CPU (user + system) or elapsed time > 5s
user system elapsed
step_aldex 5.585 0.589 6.174
prep 0.608 0.023 10.623
import_steps 0.396 0.023 10.211
recipe 0.237 0.008 5.347
* checking for unstated dependencies in ‘tests’ ... OK
* checking tests ...
Running ‘testthat.R’
OK
* checking for unstated dependencies in vignettes ... OK
* checking package vignettes ... OK
* checking running R code from vignettes ... SKIPPED
* checking re-building of vignette outputs ... SKIPPED
* checking PDF version of manual ... OK
* DONE
Status: OK
dar.Rcheck/00install.out
############################################################################## ############################################################################## ### ### Running command: ### ### /Library/Frameworks/R.framework/Resources/bin/R CMD INSTALL dar ### ############################################################################## ############################################################################## * installing to library ‘/Library/Frameworks/R.framework/Versions/4.4-arm64/Resources/library’ * installing *source* package ‘dar’ ... ** using staged installation ** R ** data ** inst ** byte-compile and prepare package for lazy loading ** help *** installing help indices *** copying figures ** building package indices ** installing vignettes ** testing if installed package can be loaded from temporary location ** testing if installed package can be loaded from final location ** testing if installed package keeps a record of temporary installation path * DONE (dar)
dar.Rcheck/tests/testthat.Rout
R version 4.4.1 (2024-06-14) -- "Race for Your Life"
Copyright (C) 2024 The R Foundation for Statistical Computing
Platform: aarch64-apple-darwin20
R is free software and comes with ABSOLUTELY NO WARRANTY.
You are welcome to redistribute it under certain conditions.
Type 'license()' or 'licence()' for distribution details.
R is a collaborative project with many contributors.
Type 'contributors()' for more information and
'citation()' on how to cite R or R packages in publications.
Type 'demo()' for some demos, 'help()' for on-line help, or
'help.start()' for an HTML browser interface to help.
Type 'q()' to quit R.
> library(testthat)
> library(dar)
>
> test_check("dar")
Starting 2 test processes
[ FAIL 0 | WARN 0 | SKIP 10 | PASS 82 ]
══ Skipped tests (10) ══════════════════════════════════════════════════════════
• On CRAN (10): 'test-roxytest-tests-bake.R:18:3',
'test-roxytest-tests-ancom.R:14:3', 'test-roxytest-tests-lefse.R:15:3',
'test-roxytest-tests-maaslin2.R:16:3', 'test-roxytest-tests-pkg_check.R:6:3',
'test-roxytest-tests-misc.R:73:3', 'test-roxytest-tests-misc.R:101:3',
'test-roxytest-tests-misc.R:108:3', 'test-roxytest-tests-read_data.R:24:3',
'test-roxytest-tests-steps_and_checks.R:7:3'
[ FAIL 0 | WARN 0 | SKIP 10 | PASS 82 ]
>
> proc.time()
user system elapsed
69.278 4.258 114.729
dar.Rcheck/dar-Ex.timings
| name | user | system | elapsed | |
| abundance_plt | 0.782 | 0.023 | 0.808 | |
| add_tax | 0.049 | 0.001 | 0.050 | |
| add_var | 0.046 | 0.001 | 0.046 | |
| bake | 0.125 | 0.002 | 0.128 | |
| contains_rarefaction | 0.085 | 0.005 | 0.090 | |
| cool | 0.081 | 0.002 | 0.084 | |
| corr_heatmap | 1.186 | 0.043 | 1.239 | |
| exclusion_plt | 0.243 | 0.004 | 0.247 | |
| export_steps | 0.492 | 0.050 | 3.848 | |
| find_intersections | 0.050 | 0.001 | 0.052 | |
| get_comparisons | 0.010 | 0.001 | 0.010 | |
| get_phy | 0.008 | 0.001 | 0.008 | |
| get_tax | 0.009 | 0.000 | 0.009 | |
| get_var | 0.009 | 0.000 | 0.009 | |
| import_steps | 0.396 | 0.023 | 10.211 | |
| intersection_df | 0.049 | 0.001 | 0.051 | |
| intersection_plt | 0.419 | 0.004 | 0.423 | |
| mutual_plt | 0.503 | 0.005 | 0.510 | |
| otu_table | 0.101 | 0.001 | 0.103 | |
| overlap_df | 0.077 | 0.003 | 0.080 | |
| phy_qc | 0.304 | 0.005 | 0.309 | |
| prep | 0.608 | 0.023 | 10.623 | |
| rand_id | 0 | 0 | 0 | |
| read_data | 0.434 | 0.085 | 0.467 | |
| recipe | 0.237 | 0.008 | 5.347 | |
| required_deps | 0.020 | 0.002 | 0.021 | |
| sample_data | 0.012 | 0.001 | 0.013 | |
| step_aldex | 5.585 | 0.589 | 6.174 | |
| step_ancom | 3.519 | 0.150 | 3.673 | |
| step_corncob | 0.756 | 0.036 | 0.841 | |
| step_deseq | 1.973 | 0.021 | 1.994 | |
| step_filter_by_abundance | 0.013 | 0.000 | 0.014 | |
| step_filter_by_prevalence | 0.013 | 0.001 | 0.014 | |
| step_filter_by_rarity | 0.013 | 0.001 | 0.014 | |
| step_filter_by_variance | 0.014 | 0.001 | 0.015 | |
| step_filter_taxa | 0.013 | 0.001 | 0.014 | |
| step_lefse | 0.021 | 0.002 | 0.022 | |
| step_maaslin | 0.891 | 0.033 | 0.925 | |
| step_metagenomeseq | 1.032 | 0.023 | 3.197 | |
| step_rarefaction | 0.016 | 0.001 | 0.018 | |
| step_subset_taxa | 0.014 | 0.001 | 0.014 | |
| step_wilcox | 0.533 | 0.009 | 0.541 | |
| steps_ids | 0.008 | 0.001 | 0.009 | |
| tax_table | 0.016 | 0.001 | 0.018 | |
| tidyeval | 0.004 | 0.001 | 0.005 | |
| to_tibble | 0.119 | 0.002 | 0.121 | |
| use_rarefy | 0.008 | 0.001 | 0.008 | |
| zero_otu | 0.124 | 0.003 | 0.127 | |