| Back to Multiple platform build/check report for BioC 3.20: simplified long |
|
This page was generated on 2024-11-20 12:02 -0500 (Wed, 20 Nov 2024).
| Hostname | OS | Arch (*) | R version | Installed pkgs |
|---|---|---|---|---|
| teran2 | Linux (Ubuntu 24.04.1 LTS) | x86_64 | 4.4.2 (2024-10-31) -- "Pile of Leaves" | 4481 |
| nebbiolo2 | Linux (Ubuntu 24.04.1 LTS) | x86_64 | 4.4.2 (2024-10-31) -- "Pile of Leaves" | 4479 |
| palomino8 | Windows Server 2022 Datacenter | x64 | 4.4.2 (2024-10-31 ucrt) -- "Pile of Leaves" | 4359 |
| lconway | macOS 12.7.1 Monterey | x86_64 | 4.4.1 (2024-06-14) -- "Race for Your Life" | 4539 |
| kunpeng2 | Linux (openEuler 22.03 LTS-SP1) | aarch64 | 4.4.1 (2024-06-14) -- "Race for Your Life" | 4493 |
| Click on any hostname to see more info about the system (e.g. compilers) (*) as reported by 'uname -p', except on Windows and Mac OS X | ||||
| Package 505/2289 | Hostname | OS / Arch | INSTALL | BUILD | CHECK | BUILD BIN | ||||||||
| dar 1.2.0 (landing page) Francesc Catala-Moll
| teran2 | Linux (Ubuntu 24.04.1 LTS) / x86_64 | OK | OK | OK | |||||||||
| nebbiolo2 | Linux (Ubuntu 24.04.1 LTS) / x86_64 | OK | OK | OK | ||||||||||
| palomino8 | Windows Server 2022 Datacenter / x64 | ERROR | ERROR | skipped | skipped | |||||||||
| lconway | macOS 12.7.1 Monterey / x86_64 | OK | OK | OK | OK | |||||||||
| kunpeng2 | Linux (openEuler 22.03 LTS-SP1) / aarch64 | OK | OK | OK | ||||||||||
|
To the developers/maintainers of the dar package: - Allow up to 24 hours (and sometimes 48 hours) for your latest push to git@git.bioconductor.org:packages/dar.git to reflect on this report. See Troubleshooting Build Report for more information. - Use the following Renviron settings to reproduce errors and warnings. - If 'R CMD check' started to fail recently on the Linux builder(s) over a missing dependency, add the missing dependency to 'Suggests:' in your DESCRIPTION file. See Renviron.bioc for more information. |
| Package: dar |
| Version: 1.2.0 |
| Command: /home/biocbuild/bbs-3.20-bioc/R/bin/R CMD check --install=check:dar.install-out.txt --library=/home/biocbuild/bbs-3.20-bioc/R/site-library --timings dar_1.2.0.tar.gz |
| StartedAt: 2024-11-20 01:26:46 -0500 (Wed, 20 Nov 2024) |
| EndedAt: 2024-11-20 01:39:13 -0500 (Wed, 20 Nov 2024) |
| EllapsedTime: 746.8 seconds |
| RetCode: 0 |
| Status: OK |
| CheckDir: dar.Rcheck |
| Warnings: 0 |
##############################################################################
##############################################################################
###
### Running command:
###
### /home/biocbuild/bbs-3.20-bioc/R/bin/R CMD check --install=check:dar.install-out.txt --library=/home/biocbuild/bbs-3.20-bioc/R/site-library --timings dar_1.2.0.tar.gz
###
##############################################################################
##############################################################################
* using log directory ‘/media/volume/teran2_disk/biocbuild/bbs-3.20-bioc/meat/dar.Rcheck’
* using R version 4.4.2 (2024-10-31)
* using platform: x86_64-pc-linux-gnu
* R was compiled by
gcc (Ubuntu 13.2.0-23ubuntu4) 13.2.0
GNU Fortran (Ubuntu 13.2.0-23ubuntu4) 13.2.0
* running under: Ubuntu 24.04.1 LTS
* using session charset: UTF-8
* checking for file ‘dar/DESCRIPTION’ ... OK
* this is package ‘dar’ version ‘1.2.0’
* package encoding: UTF-8
* checking package namespace information ... OK
* checking package dependencies ... OK
* checking if this is a source package ... OK
* checking if there is a namespace ... OK
* checking for hidden files and directories ... OK
* checking for portable file names ... OK
* checking for sufficient/correct file permissions ... OK
* checking whether package ‘dar’ can be installed ... OK
* checking installed package size ... OK
* checking package directory ... OK
* checking ‘build’ directory ... OK
* checking DESCRIPTION meta-information ... OK
* checking top-level files ... OK
* checking for left-over files ... OK
* checking index information ... OK
* checking package subdirectories ... OK
* checking code files for non-ASCII characters ... OK
* checking R files for syntax errors ... OK
* checking whether the package can be loaded ... OK
* checking whether the package can be loaded with stated dependencies ... OK
* checking whether the package can be unloaded cleanly ... OK
* checking whether the namespace can be loaded with stated dependencies ... OK
* checking whether the namespace can be unloaded cleanly ... OK
* checking loading without being on the library search path ... OK
* checking dependencies in R code ... OK
* checking S3 generic/method consistency ... OK
* checking replacement functions ... OK
* checking foreign function calls ... OK
* checking R code for possible problems ... OK
* checking Rd files ... OK
* checking Rd metadata ... OK
* checking Rd cross-references ... OK
* checking for missing documentation entries ... OK
* checking for code/documentation mismatches ... OK
* checking Rd \usage sections ... OK
* checking Rd contents ... OK
* checking for unstated dependencies in examples ... OK
* checking contents of ‘data’ directory ... OK
* checking data for non-ASCII characters ... OK
* checking data for ASCII and uncompressed saves ... OK
* checking R/sysdata.rda ... OK
* checking files in ‘vignettes’ ... OK
* checking examples ... OK
Examples with CPU (user + system) or elapsed time > 5s
user system elapsed
step_aldex 13.963 0.447 15.908
step_ancom 8.882 1.211 10.879
step_deseq 5.227 0.158 6.815
step_metagenomeseq 4.522 0.038 10.661
prep 2.384 0.040 37.065
export_steps 1.273 0.084 10.887
import_steps 1.298 0.031 30.631
recipe 1.034 0.014 16.168
* checking for unstated dependencies in ‘tests’ ... OK
* checking tests ...
Running ‘testthat.R’
OK
* checking for unstated dependencies in vignettes ... OK
* checking package vignettes ... OK
* checking re-building of vignette outputs ... OK
* checking PDF version of manual ... OK
* DONE
Status: OK
dar.Rcheck/00install.out
############################################################################## ############################################################################## ### ### Running command: ### ### /home/biocbuild/bbs-3.20-bioc/R/bin/R CMD INSTALL dar ### ############################################################################## ############################################################################## * installing to library ‘/media/volume/teran2_disk/biocbuild/bbs-3.20-bioc/R/site-library’ * installing *source* package ‘dar’ ... ** using staged installation ** R ** data ** inst ** byte-compile and prepare package for lazy loading ** help *** installing help indices *** copying figures ** building package indices ** installing vignettes ** testing if installed package can be loaded from temporary location ** testing if installed package can be loaded from final location ** testing if installed package keeps a record of temporary installation path * DONE (dar)
dar.Rcheck/tests/testthat.Rout
R version 4.4.2 (2024-10-31) -- "Pile of Leaves"
Copyright (C) 2024 The R Foundation for Statistical Computing
Platform: x86_64-pc-linux-gnu
R is free software and comes with ABSOLUTELY NO WARRANTY.
You are welcome to redistribute it under certain conditions.
Type 'license()' or 'licence()' for distribution details.
R is a collaborative project with many contributors.
Type 'contributors()' for more information and
'citation()' on how to cite R or R packages in publications.
Type 'demo()' for some demos, 'help()' for on-line help, or
'help.start()' for an HTML browser interface to help.
Type 'q()' to quit R.
> library(testthat)
> library(dar)
>
> test_check("dar")
Starting 2 test processes
[ FAIL 0 | WARN 0 | SKIP 10 | PASS 82 ]
══ Skipped tests (10) ══════════════════════════════════════════════════════════
• On CRAN (10): 'test-roxytest-tests-bake.R:18:3',
'test-roxytest-tests-ancom.R:14:3', 'test-roxytest-tests-lefse.R:15:3',
'test-roxytest-tests-misc.R:73:3', 'test-roxytest-tests-misc.R:101:3',
'test-roxytest-tests-misc.R:108:3', 'test-roxytest-tests-pkg_check.R:6:3',
'test-roxytest-tests-maaslin2.R:16:3',
'test-roxytest-tests-read_data.R:24:3',
'test-roxytest-tests-steps_and_checks.R:7:3'
[ FAIL 0 | WARN 0 | SKIP 10 | PASS 82 ]
>
> proc.time()
user system elapsed
169.255 7.141 289.463
dar.Rcheck/dar-Ex.timings
| name | user | system | elapsed | |
| abundance_plt | 2.365 | 0.111 | 2.773 | |
| add_tax | 0.111 | 0.002 | 0.125 | |
| add_var | 0.103 | 0.003 | 0.106 | |
| bake | 0.319 | 0.006 | 0.326 | |
| contains_rarefaction | 0.173 | 0.016 | 0.283 | |
| cool | 0.216 | 0.000 | 0.219 | |
| corr_heatmap | 3.227 | 0.025 | 3.760 | |
| exclusion_plt | 0.601 | 0.002 | 0.610 | |
| export_steps | 1.273 | 0.084 | 10.887 | |
| find_intersections | 0.140 | 0.000 | 0.256 | |
| get_comparisons | 0.019 | 0.001 | 0.030 | |
| get_phy | 0.016 | 0.001 | 0.034 | |
| get_tax | 0.022 | 0.000 | 0.046 | |
| get_var | 0.021 | 0.000 | 0.037 | |
| import_steps | 1.298 | 0.031 | 30.631 | |
| intersection_df | 0.135 | 0.001 | 0.150 | |
| intersection_plt | 1.097 | 0.002 | 1.345 | |
| mutual_plt | 1.440 | 0.061 | 2.083 | |
| otu_table | 0.293 | 0.001 | 0.319 | |
| overlap_df | 0.187 | 0.001 | 0.190 | |
| phy_qc | 0.814 | 0.031 | 0.975 | |
| prep | 2.384 | 0.040 | 37.065 | |
| rand_id | 0.000 | 0.000 | 0.001 | |
| read_data | 1.438 | 0.150 | 3.541 | |
| recipe | 1.034 | 0.014 | 16.168 | |
| required_deps | 0.041 | 0.001 | 0.041 | |
| sample_data | 0.023 | 0.001 | 0.024 | |
| step_aldex | 13.963 | 0.447 | 15.908 | |
| step_ancom | 8.882 | 1.211 | 10.879 | |
| step_corncob | 1.852 | 0.081 | 3.167 | |
| step_deseq | 5.227 | 0.158 | 6.815 | |
| step_filter_by_abundance | 0.028 | 0.000 | 0.028 | |
| step_filter_by_prevalence | 0.028 | 0.000 | 0.028 | |
| step_filter_by_rarity | 0.028 | 0.000 | 0.028 | |
| step_filter_by_variance | 0.027 | 0.001 | 0.028 | |
| step_filter_taxa | 0.025 | 0.002 | 0.027 | |
| step_lefse | 0.046 | 0.000 | 0.046 | |
| step_maaslin | 2.471 | 0.027 | 2.683 | |
| step_metagenomeseq | 4.522 | 0.038 | 10.661 | |
| step_rarefaction | 0.035 | 0.000 | 0.035 | |
| step_subset_taxa | 0.027 | 0.001 | 0.028 | |
| step_wilcox | 1.275 | 0.005 | 1.844 | |
| steps_ids | 0.013 | 0.001 | 0.027 | |
| tax_table | 0.038 | 0.001 | 0.039 | |
| tidyeval | 0.011 | 0.001 | 0.012 | |
| to_tibble | 0.524 | 0.001 | 0.677 | |
| use_rarefy | 0.013 | 0.000 | 0.012 | |
| zero_otu | 0.301 | 0.000 | 0.303 | |