| Back to Multiple platform build/check report for BioC 3.20: simplified long |
|
This page was generated on 2024-11-20 12:07 -0500 (Wed, 20 Nov 2024).
| Hostname | OS | Arch (*) | R version | Installed pkgs |
|---|---|---|---|---|
| teran2 | Linux (Ubuntu 24.04.1 LTS) | x86_64 | 4.4.2 (2024-10-31) -- "Pile of Leaves" | 4481 |
| nebbiolo2 | Linux (Ubuntu 24.04.1 LTS) | x86_64 | 4.4.2 (2024-10-31) -- "Pile of Leaves" | 4479 |
| palomino8 | Windows Server 2022 Datacenter | x64 | 4.4.2 (2024-10-31 ucrt) -- "Pile of Leaves" | 4359 |
| lconway | macOS 12.7.1 Monterey | x86_64 | 4.4.1 (2024-06-14) -- "Race for Your Life" | 4539 |
| kunpeng2 | Linux (openEuler 22.03 LTS-SP1) | aarch64 | 4.4.1 (2024-06-14) -- "Race for Your Life" | 4493 |
| Click on any hostname to see more info about the system (e.g. compilers) (*) as reported by 'uname -p', except on Windows and Mac OS X | ||||
| Package 505/2289 | Hostname | OS / Arch | INSTALL | BUILD | CHECK | BUILD BIN | ||||||||
| dar 1.2.0 (landing page) Francesc Catala-Moll
| teran2 | Linux (Ubuntu 24.04.1 LTS) / x86_64 | OK | OK | OK | |||||||||
| nebbiolo2 | Linux (Ubuntu 24.04.1 LTS) / x86_64 | OK | OK | OK | ||||||||||
| palomino8 | Windows Server 2022 Datacenter / x64 | ERROR | ERROR | skipped | skipped | |||||||||
| lconway | macOS 12.7.1 Monterey / x86_64 | OK | OK | OK | OK | |||||||||
| kunpeng2 | Linux (openEuler 22.03 LTS-SP1) / aarch64 | OK | OK | OK | ||||||||||
|
To the developers/maintainers of the dar package: - Allow up to 24 hours (and sometimes 48 hours) for your latest push to git@git.bioconductor.org:packages/dar.git to reflect on this report. See Troubleshooting Build Report for more information. - Use the following Renviron settings to reproduce errors and warnings. - If 'R CMD check' started to fail recently on the Linux builder(s) over a missing dependency, add the missing dependency to 'Suggests:' in your DESCRIPTION file. See Renviron.bioc for more information. - See Martin Grigorov's blog post for how to debug Linux ARM64 related issues on a x86_64 host. |
| Package: dar |
| Version: 1.2.0 |
| Command: /home/biocbuild/R/R/bin/R CMD check --install=check:dar.install-out.txt --library=/home/biocbuild/R/R/site-library --no-vignettes --timings dar_1.2.0.tar.gz |
| StartedAt: 2024-11-20 06:54:16 -0000 (Wed, 20 Nov 2024) |
| EndedAt: 2024-11-20 07:08:56 -0000 (Wed, 20 Nov 2024) |
| EllapsedTime: 880.5 seconds |
| RetCode: 0 |
| Status: OK |
| CheckDir: dar.Rcheck |
| Warnings: 0 |
##############################################################################
##############################################################################
###
### Running command:
###
### /home/biocbuild/R/R/bin/R CMD check --install=check:dar.install-out.txt --library=/home/biocbuild/R/R/site-library --no-vignettes --timings dar_1.2.0.tar.gz
###
##############################################################################
##############################################################################
* using log directory ‘/home/biocbuild/bbs-3.20-bioc/meat/dar.Rcheck’
* using R version 4.4.1 (2024-06-14)
* using platform: aarch64-unknown-linux-gnu
* R was compiled by
gcc (GCC) 12.2.1 20220819 (openEuler 12.2.1-14)
GNU Fortran (GCC) 10.3.1
* running under: openEuler 22.03 (LTS-SP1)
* using session charset: UTF-8
* using option ‘--no-vignettes’
* checking for file ‘dar/DESCRIPTION’ ... OK
* this is package ‘dar’ version ‘1.2.0’
* package encoding: UTF-8
* checking package namespace information ... OK
* checking package dependencies ... OK
* checking if this is a source package ... OK
* checking if there is a namespace ... OK
* checking for hidden files and directories ... OK
* checking for portable file names ... OK
* checking for sufficient/correct file permissions ... OK
* checking whether package ‘dar’ can be installed ... OK
* checking installed package size ... OK
* checking package directory ... OK
* checking ‘build’ directory ... OK
* checking DESCRIPTION meta-information ... OK
* checking top-level files ... OK
* checking for left-over files ... OK
* checking index information ... OK
* checking package subdirectories ... OK
* checking code files for non-ASCII characters ... OK
* checking R files for syntax errors ... OK
* checking whether the package can be loaded ... OK
* checking whether the package can be loaded with stated dependencies ... OK
* checking whether the package can be unloaded cleanly ... OK
* checking whether the namespace can be loaded with stated dependencies ... OK
* checking whether the namespace can be unloaded cleanly ... OK
* checking loading without being on the library search path ... OK
* checking dependencies in R code ... OK
* checking S3 generic/method consistency ... OK
* checking replacement functions ... OK
* checking foreign function calls ... OK
* checking R code for possible problems ... OK
* checking Rd files ... OK
* checking Rd metadata ... OK
* checking Rd cross-references ... OK
* checking for missing documentation entries ... OK
* checking for code/documentation mismatches ... OK
* checking Rd \usage sections ... OK
* checking Rd contents ... OK
* checking for unstated dependencies in examples ... OK
* checking contents of ‘data’ directory ... OK
* checking data for non-ASCII characters ... OK
* checking data for ASCII and uncompressed saves ... OK
* checking R/sysdata.rda ... OK
* checking files in ‘vignettes’ ... OK
* checking examples ... OK
Examples with CPU (user + system) or elapsed time > 5s
user system elapsed
step_aldex 22.948 0.670 23.685
step_ancom 18.155 0.358 18.566
step_deseq 9.201 0.079 9.298
step_metagenomeseq 6.728 0.156 14.571
prep 3.743 0.176 48.481
import_steps 2.679 0.124 45.554
export_steps 2.279 0.104 17.243
recipe 1.338 0.047 22.533
* checking for unstated dependencies in ‘tests’ ... OK
* checking tests ...
Running ‘testthat.R’
OK
* checking for unstated dependencies in vignettes ... OK
* checking package vignettes ... OK
* checking running R code from vignettes ... SKIPPED
* checking re-building of vignette outputs ... SKIPPED
* checking PDF version of manual ... OK
* DONE
Status: OK
dar.Rcheck/00install.out
############################################################################## ############################################################################## ### ### Running command: ### ### /home/biocbuild/R/R/bin/R CMD INSTALL dar ### ############################################################################## ############################################################################## * installing to library ‘/home/biocbuild/R/R-4.4.1/site-library’ * installing *source* package ‘dar’ ... ** using staged installation ** R ** data ** inst ** byte-compile and prepare package for lazy loading ** help *** installing help indices *** copying figures ** building package indices ** installing vignettes ** testing if installed package can be loaded from temporary location ** testing if installed package can be loaded from final location ** testing if installed package keeps a record of temporary installation path * DONE (dar)
dar.Rcheck/tests/testthat.Rout
R version 4.4.1 (2024-06-14) -- "Race for Your Life"
Copyright (C) 2024 The R Foundation for Statistical Computing
Platform: aarch64-unknown-linux-gnu
R is free software and comes with ABSOLUTELY NO WARRANTY.
You are welcome to redistribute it under certain conditions.
Type 'license()' or 'licence()' for distribution details.
R is a collaborative project with many contributors.
Type 'contributors()' for more information and
'citation()' on how to cite R or R packages in publications.
Type 'demo()' for some demos, 'help()' for on-line help, or
'help.start()' for an HTML browser interface to help.
Type 'q()' to quit R.
> library(testthat)
> library(dar)
>
> test_check("dar")
Starting 2 test processes
[ FAIL 0 | WARN 0 | SKIP 10 | PASS 82 ]
══ Skipped tests (10) ══════════════════════════════════════════════════════════
• On CRAN (10): 'test-roxytest-tests-bake.R:18:3',
'test-roxytest-tests-ancom.R:14:3', 'test-roxytest-tests-lefse.R:15:3',
'test-roxytest-tests-maaslin2.R:16:3', 'test-roxytest-tests-pkg_check.R:6:3',
'test-roxytest-tests-misc.R:73:3', 'test-roxytest-tests-misc.R:101:3',
'test-roxytest-tests-misc.R:108:3', 'test-roxytest-tests-read_data.R:24:3',
'test-roxytest-tests-steps_and_checks.R:7:3'
[ FAIL 0 | WARN 0 | SKIP 10 | PASS 82 ]
>
> proc.time()
user system elapsed
322.749 14.129 435.081
dar.Rcheck/dar-Ex.timings
| name | user | system | elapsed | |
| abundance_plt | 3.962 | 0.095 | 4.076 | |
| add_tax | 0.220 | 0.003 | 0.225 | |
| add_var | 0.209 | 0.004 | 0.213 | |
| bake | 0.643 | 0.004 | 0.649 | |
| contains_rarefaction | 0.316 | 0.008 | 0.327 | |
| cool | 0.406 | 0.005 | 0.411 | |
| corr_heatmap | 4.630 | 0.060 | 4.743 | |
| exclusion_plt | 1.261 | 0.040 | 1.304 | |
| export_steps | 2.279 | 0.104 | 17.243 | |
| find_intersections | 0.262 | 0.000 | 0.263 | |
| get_comparisons | 0.034 | 0.000 | 0.034 | |
| get_phy | 0.027 | 0.000 | 0.028 | |
| get_tax | 0.029 | 0.004 | 0.032 | |
| get_var | 0.031 | 0.000 | 0.032 | |
| import_steps | 2.679 | 0.124 | 45.554 | |
| intersection_df | 0.227 | 0.016 | 0.244 | |
| intersection_plt | 2.186 | 0.044 | 2.234 | |
| mutual_plt | 2.735 | 0.040 | 2.780 | |
| otu_table | 0.621 | 0.024 | 0.647 | |
| overlap_df | 0.406 | 0.004 | 0.411 | |
| phy_qc | 1.820 | 0.019 | 1.844 | |
| prep | 3.743 | 0.176 | 48.481 | |
| rand_id | 0 | 0 | 0 | |
| read_data | 2.027 | 0.524 | 2.388 | |
| recipe | 1.338 | 0.047 | 22.533 | |
| required_deps | 0.057 | 0.004 | 0.061 | |
| sample_data | 0.044 | 0.000 | 0.045 | |
| step_aldex | 22.948 | 0.670 | 23.685 | |
| step_ancom | 18.155 | 0.358 | 18.566 | |
| step_corncob | 3.689 | 0.092 | 3.833 | |
| step_deseq | 9.201 | 0.079 | 9.298 | |
| step_filter_by_abundance | 0.049 | 0.001 | 0.049 | |
| step_filter_by_prevalence | 0.049 | 0.000 | 0.049 | |
| step_filter_by_rarity | 0.049 | 0.000 | 0.049 | |
| step_filter_by_variance | 0.049 | 0.000 | 0.049 | |
| step_filter_taxa | 0.049 | 0.000 | 0.049 | |
| step_lefse | 0.082 | 0.004 | 0.085 | |
| step_maaslin | 4.352 | 0.067 | 4.427 | |
| step_metagenomeseq | 6.728 | 0.156 | 14.571 | |
| step_rarefaction | 0.065 | 0.004 | 0.069 | |
| step_subset_taxa | 0.051 | 0.000 | 0.051 | |
| step_wilcox | 2.469 | 0.168 | 2.641 | |
| steps_ids | 0.015 | 0.004 | 0.019 | |
| tax_table | 0.063 | 0.004 | 0.068 | |
| tidyeval | 0.021 | 0.004 | 0.024 | |
| to_tibble | 0.646 | 0.008 | 0.655 | |
| use_rarefy | 0.017 | 0.000 | 0.018 | |
| zero_otu | 0.634 | 0.020 | 0.656 | |